{"text_format":"2","workbook":"xlsx","n_sheets":45,"sheets":["Info","CPI Final","PRODUCTIVITY","CityProductPerCapita ","OldAgeDependencyRatio","MeanHouseholdIncome","EconomicDensity","UnemploymentRate","Working Age","EconomicSpecialization ","INFRASTRUCTURE","Access To Services","Residential Density","Physicians","Urban Mobility","Mass Transport","Libraries","Internet and Computer access","Broadband speed","Affordability Transp.","Traffic fatalities","Street Connectivity","QOL","Literacy rate","Mean Years of Schooling","NERHE","Public Space","Homicide and theft","EQUITY","GiniCoefficient","PovertyRate ","SlumHouseholds ","EquiSecSchoolenroll","WomenInTheLocalGov","Women In Employment","ENVIRONMENT","PM10 Standardization Tables","Waste Collection","Wastewater Treatment","Renewable Energy","GOVERNANCE","Voter turnout","Transparency","Own revenue collection","Sprawl"],"not_rendered":{"charts":0,"images":0,"macros":0,"external_links":45,"defined_names":7624,"comments":8,"pivot_tables":0},"unopened":[],"bounds":{"document_bytes":16777216,"sheet_cells":100000,"run_cost":"one","rows_first":2000,"rows_last":500,"rows_between":2000,"halvings":0,"cell_chars":16384,"cell_head_chars":4096},"cells_cut":0,"cells_raw":0,"read":"whole","date_system":"1900"}

{"sheet":"Info","index":0,"n_rows":10,"n_cols":5,"rows_kept":10,"cut":false,"hidden":false,"merged":[]}
["Data delimitation: ","Metropolitan Region of Guadalajara (MRG)","Poboblación","Superficie (km²)","hab/km²"]
["The MRG is composed by the following municipalities: ","Guadalajara",1495189,151.4,9874.4]
[null,"San Pedro Tlaquepaque (Tlaquepaque)",1243756,1163.5999999999999,1068.9000000000001]
[null,"Tonalá",608114,110.4,5506.2]
[null,"Zapopan",478689,166.1,2881.9]
[null,"Tlajomulco de Zúñiga",416626,714,583.5]
[null,"El Salto",138226,87.9,1573.3]
[null,"Juanacatlán",41060,202.4,202.9]
[null,"Ixtlahuacán de los Membrillos",13218,138.30000000000001,95.6]
[null,null,4434878,2734.1,1622]

{"sheet":"CPI Final","index":1,"n_rows":257,"n_cols":32,"rows_kept":257,"cut":false,"hidden":false,"merged":[[225,0,258,0],[12,0,41,0],[42,0,105,0],[107,0,159,0],[160,0,193,0],[195,0,223,0]]}
[null,"NOTE:"]
[null,"CPI Calculated Using Latest Years of Informatiion"]
[null,null,"Sub Index values"]
[null,null,"Missing data"]
[null,null,"Stale level Data (JALISCO)"]
[null,null,"Country Level Data (MEXICO)"]
[{"$nulls":7},"BASIC","EXT"]
[null,null,"CITIES PROSPERITY INDEX",{"$nulls":4},{"$f":"GEOMEAN(H14,H44,H108,H162,H196,H226)","v":58.377420152172171},{"$f":"GEOMEAN(I14,I44,I108,I162,I196,I226)","v":57.137601083804441}]
[]
["DIMENSION","CODE","INDICATOR","NOTES","BASIC","EXTENDED","MISSING",null,null,"YEAR",2000,2001,2002,2003,2004,2005,2006,2007,2008,2009,2010,2011,2012,2013,2014,"Standardization","MIN","MAX","TARGET","LEVEL","SOURCE"]
[null,"Demographic","1. Population",{"$nulls":7},{"$f":"PRODUCTIVITY!K7","v":3699136.000000034},{"$f":"PRODUCTIVITY!L7","v":3783094.7600000291},{"$f":"PRODUCTIVITY!M7","v":3864745.840000025},{"$f":"PRODUCTIVITY!N7","v":3944089.2400000212},{"$f":"PRODUCTIVITY!O7","v":4021124.9600000186},{"$f":"PRODUCTIVITY!P7","v":4095853.0000000168},{"$f":"PRODUCTIVITY!Q7","v":4168273.3600000157},{"$f":"PRODUCTIVITY!R7","v":4238386.0400000149},{"$f":"PRODUCTIVITY!S7","v":4306191.0400000159},{"$f":"PRODUCTIVITY!T7","v":4371688.3600000171},{"$f":"PRODUCTIVITY!U7","v":4434878.0000000196},{"$f":"PRODUCTIVITY!V7","v":4495759.9600000223},{"$f":"PRODUCTIVITY!W7","v":4554334.2400000263},{"$f":"PRODUCTIVITY!X7","v":4610600.8400000297},{"$f":"PRODUCTIVITY!Y7","v":4664559.7600000352}]
[null,null,"2. Urban Footprint area",{"$nulls":20},675.99]
["PRODUCTIVITY INDEX (P)",null,"PRODUCTIVITY INDEX (geo)",{"$nulls":4},{"$f":"GEOMEAN(H15,H26,H33)","v":68.207987729525016},{"$f":"GEOMEAN(I15,I26,I33)","v":57.009761745239558}]
[null,null,"PRODUCTIVITY INDEX",{"$nulls":4},{"$f":"[43]PRODUCTIVITY!H13","v":70.733634532330626},{"$f":"[43]PRODUCTIVITY!I13","v":66.202266423932357}]
[null,null,"1. Economic Growth Sub Index (EG)",{"$nulls":4},{"$f":"PRODUCTIVITY!H11","v":60.056092664238136},{"$f":"PRODUCTIVITY!I11","v":46.143853793237362}]
[null,"P_EG_1","1. City Product per capita",null,"X",{"$nulls":4},2010,{"$nulls":8},{"$f":"PRODUCTIVITY!S12","v":16767.514922914459},{"$f":"PRODUCTIVITY!T12","v":16780.773390010618},{"$f":"PRODUCTIVITY!U12","v":16435.698572266174},{"$f":"PRODUCTIVITY!V12","v":16625.019412756887},{"$f":"PRODUCTIVITY!W12","v":16263.297189968322},null,null,"2.1 (ln)",6.57,11.6,null,"Metropolitan - Guadalajara","IMCO"]
[null,null,"Standardized",{"$nulls":15},{"$f":"PRODUCTIVITY!S13","v":62.767368945604794},{"$f":"PRODUCTIVITY!T13","v":62.783082881665997},{"$f":"PRODUCTIVITY!U13","v":62.369999808204057},{"$f":"PRODUCTIVITY!V13","v":62.597694497176917},{"$f":"PRODUCTIVITY!W13","v":62.160360671087886}]
[]
[null,"P_EG_2","2. Old Age Dependency Ratio (reversed)",null,"X",{"$nulls":4},2010,{"$nulls":10},{"$f":"PRODUCTIVITY!U15","v":8.8098200273047702},{"$nulls":4},"2.2 (ln)",1.07,3.7,null,"Metropolitan - Guadalajara","Estiamted from INEGI data"]
[null,null,"Standardized",{"$nulls":17},{"$f":"PRODUCTIVITY!U16","v":57.951824657388386}]
[]
[null,"P_EG_3","3. Mean Household Income","Mexican Pesos (MONTHLY)",null,"X",null,null,null,2010,{"$nulls":8},{"$f":"PRODUCTIVITY!S18","v":6497},{"$f":"PRODUCTIVITY!T18","v":6017},{"$f":"PRODUCTIVITY!U18","v":8518},{"$nulls":8},"State - Jalisco","Provided by Regina"]
[null,null,"Annual MHI (USD PPP)",{"$nulls":15},{"$f":"PRODUCTIVITY!S19","v":10437.601862716887},{"$f":"PRODUCTIVITY!T19","v":9698.8517323459091},{"$f":"PRODUCTIVITY!U19","v":13360.265641784275},{"$nulls":4},2.1,6315,44773]
[null,null,"Standardized",{"$nulls":15},{"$f":"PRODUCTIVITY!S20","v":10.719751060161441},{"$f":"PRODUCTIVITY!T20","v":8.7988239959069876},{"$f":"PRODUCTIVITY!U20","v":18.319376051235832}]
[]
[null,null,"2. Economic Agglomeration (EA)",{"$nulls":4},{"$f":"PRODUCTIVITY!H22","v":89.564430967491333},{"$f":"PRODUCTIVITY!I22","v":63.627616105277369}]
[null,"P_EA_1","1. Economic Density",null,"X",{"$nulls":4},2010,{"$nulls":8},{"$f":"PRODUCTIVITY!S23","v":29796029.564937115},{"$f":"PRODUCTIVITY!T23","v":30273147.015989669},{"$f":"PRODUCTIVITY!U23","v":30079197.621725507},{"$f":"PRODUCTIVITY!V23","v":30843359.665451579},{"$f":"PRODUCTIVITY!W23","v":30565387.098300215},null,null,3,null,null,526032]
[null,null,"Standardized",{"$nulls":15},{"$f":"PRODUCTIVITY!S24","v":89.431955018095906},{"$f":"PRODUCTIVITY!T24","v":89.514506997348249},{"$f":"PRODUCTIVITY!U24","v":89.481107455452374},{"$f":"PRODUCTIVITY!V24","v":89.611476609996501},{"$f":"PRODUCTIVITY!W24","v":89.564430967491333}]
[]
[null,"P_EA_2","2. Economic Specialization","MISSING",null,"X","X",{"$nulls":15},{"$f":"PRODUCTIVITY!W26","v":0.11748913090082695},{"$f":"PRODUCTIVITY!X26","v":0.12389805013477115},null,3,null,null,"(0.25-(1/N))/(1-(1/N))","State - Jalisco"]
[null,null,"Standardized",{"$nulls":19},{"$f":"PRODUCTIVITY!W27","v":34.524041150996844},{"$f":"PRODUCTIVITY!X27","v":37.690801243063397}]
[]
[null,null,"3. Employment Sub Index (E)",{"$nulls":4},{"$f":"PRODUCTIVITY!H29","v":58.994709582117942},{"$f":"PRODUCTIVITY!I29","v":63.108544398617788}]
[null,"P_E_1","1. Unemployment Rate (reversed)",null,"X",{"$nulls":4},2012,{"$nulls":8},{"$f":"PRODUCTIVITY!S30","v":4.4244648968807079},{"$f":"PRODUCTIVITY!T30","v":5.2953963260278734},{"$f":"PRODUCTIVITY!U30","v":6.2568873892705472},{"$f":"PRODUCTIVITY!V30","v":5.3058345261280708},{"$f":"PRODUCTIVITY!W30","v":5.5500980595971914},null,null,"2.2 (fourth root)",1,28.2,null,"Metropolitan - Guadalajara","Estiamted from INEGI data"]
[null,null,"Standardized",{"$nulls":15},{"$f":"PRODUCTIVITY!S31","v":65.477120718081807},{"$f":"PRODUCTIVITY!T31","v":60.368565588217415},{"$f":"PRODUCTIVITY!U31","v":55.415224402576804},{"$f":"PRODUCTIVITY!V31","v":60.311298854298599},{"$f":"PRODUCTIVITY!W31","v":58.994709582117942},{"$nulls":7},"Census Calculated(Projected)"]
[]
[null,"P_E_2","2. Employment to Population Ratio",null,null,"X",null,null,null,2012,{"$nulls":8},{"$f":"PRODUCTIVITY!S33","v":0.6531085293799419},{"$f":"PRODUCTIVITY!T33","v":0.65998710345073663},{"$f":"PRODUCTIVITY!U33","v":0.65649457278763013},{"$f":"PRODUCTIVITY!V33","v":0.66128308645854417},{"$f":"PRODUCTIVITY!W33","v":0.63537697726862252},null,null,2.1,0.30499999999999999,0.75,null,"Metropolitan - Guadalajara","Estiamted from INEGI data"]
[null,null,"Standardized",{"$nulls":15},{"$f":"PRODUCTIVITY!S34","v":78.226635815717287},{"$f":"PRODUCTIVITY!T34","v":79.77238279791834},{"$f":"PRODUCTIVITY!U34","v":78.987544446658447},{"$f":"PRODUCTIVITY!V34","v":80.063614934504315},{"$f":"PRODUCTIVITY!W34","v":74.2420173637354},{"$nulls":7},"Census Calculated(Projected)"]
[]
[null,"P_E_3","3. Informal Employment (reversed)",null,null,"X",null,null,null,2012,{"$nulls":5},{"$f":"PRODUCTIVITY!P36","v":47.238799999999998},{"$f":"PRODUCTIVITY!Q36","v":44.052700000000002},{"$f":"PRODUCTIVITY!R36","v":45.069899999999997},{"$f":"PRODUCTIVITY!S36","v":45.439700000000002},{"$f":"PRODUCTIVITY!T36","v":46.9238},{"$f":"PRODUCTIVITY!U36","v":46.6447},{"$f":"PRODUCTIVITY!V36","v":46.822699999999998},{"$f":"PRODUCTIVITY!W36","v":46.896900000000002},null,null,2.2000000000000002,11,75,null,"State - Jalisco","INEGI","Jalisco, Áreas más, Trimestre IV"]
[null,null,"Standardized",{"$nulls":12},{"$f":"PRODUCTIVITY!P37","v":56.623124999999995},{"$f":"PRODUCTIVITY!Q37","v":51.64484375},{"$f":"PRODUCTIVITY!R37","v":53.234218749999997},{"$f":"PRODUCTIVITY!S37","v":53.812031250000004},{"$f":"PRODUCTIVITY!T37","v":56.130937500000002},{"$f":"PRODUCTIVITY!U37","v":55.694843750000004},{"$f":"PRODUCTIVITY!V37","v":55.972968749999993},{"$f":"PRODUCTIVITY!W37","v":56.088906250000001}]
[]
["INFRASTRUCTURE DEVELOPMENT INDEX (ID)",null,"(geo)",{"$nulls":4},{"$f":"GEOMEAN(H45,H64,H71,H81,H97)","v":52.243766504568207},{"$f":"GEOMEAN(I45,I64,I71,I81,I97)","v":49.259666806480077}]
[null,null,"INFRASTRUCTURE DEVELOPMENT INDEX(avg)",{"$nulls":4},{"$f":"INFRASTRUCTURE!H11","v":52.243766504568207},{"$f":"INFRASTRUCTURE!I11","v":49.259666806480077}]
[null,null,"1. Housing Infrastructure Sub Index (HI)",{"$nulls":4},{"$f":"INFRASTRUCTURE!H17","v":92.253836374125996},{"$f":"INFRASTRUCTURE!I17","v":89.227584730994352}]
[null,"ID_HI_1","1. Improved Shelter","%","X",{"$nulls":4},2010,{"$nulls":10},{"$f":"INFRASTRUCTURE!U18","v":0.97372609797474186},{"$nulls":4},2.1,0.85,0.98,null,"Metropolitan - Guadalajara"]
[null,null,"Standardized",{"$nulls":17},{"$f":"INFRASTRUCTURE!U19","v":95.173921519032206}]
[]
[null,"ID_HI_2","2. Access to Improved Water","%","X",{"$nulls":4},2010,{"$nulls":10},{"$f":"INFRASTRUCTURE!U21","v":0.94666875614609891},{"$nulls":4},2.1,0.5,1,null,"Metropolitan - Guadalajara"]
[null,null,"Standardized",{"$nulls":17},{"$f":"INFRASTRUCTURE!U22","v":89.333751229219786}]
[]
[null,"ID_HI_3","3. Access to Improved Sanitation","%",null,"X",null,null,null,2010,{"$nulls":10},{"$f":"INFRASTRUCTURE!U24","v":0.97992876350976621},{"$nulls":4},2.1,0.15,1,null,"Metropolitan - Guadalajara"]
[null,null,"Standardized",{"$nulls":17},{"$f":"INFRASTRUCTURE!U25","v":97.638678059972491}]
[]
[null,"ID_HI_4","4. Access to Electricity","%",null,"X",null,null,null,2010,{"$nulls":10},{"$f":"INFRASTRUCTURE!U27","v":0.99315169306739459},{"$nulls":4},2.1,7.0000000000000007E-2,1,null,"Metropolitan - Guadalajara"]
[null,null,"Standardized",{"$nulls":17},{"$f":"INFRASTRUCTURE!U28","v":99.263622910472549}]
[]
[null,"ID_HI_5","5. Sufficient Living Area ","%",null,"X",null,null,null,2010,{"$nulls":10},{"$f":"INFRASTRUCTURE!U30","v":0.96752151967662881},{"$nulls":4},"2.1 (fourth root)",2.5000000000000001E-2,0.57799999999999996,null,"Metropolitan - Guadalajara"]
[null,null,"Standardized",{"$nulls":17},{"$f":"INFRASTRUCTURE!U31","v":95.620491466555961}]
[]
[null,"ID_HI_6","6. Residential Density","People/km2",null,"X",null,null,null,2013,{"$nulls":13},{"$f":"INFRASTRUCTURE!X33","v":8750.2564801069675},null,5,null,null,15000,"Metropolitan - Guadalajara"]
[null,null,"Standardized",{"$nulls":20},{"$f":"INFRASTRUCTURE!X34","v":58.335043200713123}]
[]
[null,null,"2. Social Infrastructure (SI)",{"$nulls":4},{"$f":"INFRASTRUCTURE!H36","v":23.27071980443451},{"$f":"INFRASTRUCTURE!I36","v":17.355034872205106}]
[null,"ID_SI_1 ","1. Physicians Density","# / 1,000 people","X",{"$nulls":4},2012,{"$nulls":8},{"$f":"INFRASTRUCTURE!S37","v":0.69086577264347027},{"$f":"INFRASTRUCTURE!T37","v":0.70933692995444619},{"$f":"INFRASTRUCTURE!U37","v":0.58716384080914708},{"$f":"INFRASTRUCTURE!V37","v":0.60545937154526963},{"$f":"INFRASTRUCTURE!W37","v":0.52367697984326822},null,null,"2.1  (square root)",0.1,2.78,null,"Metropolitan - Guadalajara","SSA (SINAIS)"]
[null,null,"Standardized",{"$nulls":15},{"$f":"INFRASTRUCTURE!S38","v":27.282961075124142},{"$f":"INFRASTRUCTURE!T38","v":27.694829318189935},{"$f":"INFRASTRUCTURE!U38","v":24.860677924757873},{"$f":"INFRASTRUCTURE!V38","v":25.302712630077146},{"$f":"INFRASTRUCTURE!W38","v":23.27071980443451}]
[]
[null,"ID_SI_2","2. Number of Public Libraries","# / 100,000 people",null,"X",null,null,null,2011,null,{"$f":"INFRASTRUCTURE!L40","v":0.97803524223643068},{"$f":"INFRASTRUCTURE!M40","v":0.93149721845614997},{"$f":"INFRASTRUCTURE!N40","v":0.88740385600402416},{"$f":"INFRASTRUCTURE!O40","v":0.87040319184708537},{"$f":"INFRASTRUCTURE!P40","v":0.83010791647063176},{"$f":"INFRASTRUCTURE!Q40","v":0.88765771350465994},{"$f":"INFRASTRUCTURE!R40","v":0.87297380773743471},{"$f":"INFRASTRUCTURE!S40","v":0.85922801975826568},{"$f":"INFRASTRUCTURE!T40","v":0.84635493093565006},{"$f":"INFRASTRUCTURE!U40","v":0.83429577995155313},{"$f":"INFRASTRUCTURE!V40","v":0.80075449579829927},null,null,null,2.1,1,7]
[null,null,"Standardized",{"$nulls":8},{"$f":"INFRASTRUCTURE!L41","v":13.971932031949009},{"$f":"INFRASTRUCTURE!M41","v":13.307103120802141},{"$f":"INFRASTRUCTURE!N41","v":12.677197942914631},{"$f":"INFRASTRUCTURE!O41","v":12.43433131210122},{"$f":"INFRASTRUCTURE!P41","v":11.858684521009025},{"$f":"INFRASTRUCTURE!Q41","v":12.680824478638},{"$f":"INFRASTRUCTURE!R41","v":12.471054396249068},{"$f":"INFRASTRUCTURE!S41","v":12.274685996546653},{"$f":"INFRASTRUCTURE!T41","v":12.090784727652144},{"$f":"INFRASTRUCTURE!U41","v":11.918511142165045},{"$f":"INFRASTRUCTURE!V41","v":11.439349939975703}]
[]
[null,null,"3. ICT Sub Index (ICT)",{"$nulls":4},{"$f":"INFRASTRUCTURE!H43","v":34.427459552537307},{"$f":"INFRASTRUCTURE!I43","v":45.861360648895136}]
[null,"ID_ICT_1","1. Internet Access","%","X",{"$nulls":4},2012,{"$nulls":10},{"$f":"INFRASTRUCTURE!U44","v":0.34427459552537304},{"$nulls":4},1.1000000000000001,0,1,null,"Metropolitan - Guadalajara","Calculated from 2010 Mexico Census"]
[null,null,"Standardized",{"$nulls":17},{"$f":"INFRASTRUCTURE!U45","v":34.427459552537307}]
[]
[null,"ID_ICT_2 ","2. Home Computer Access","%",null,"X",null,null,null,2012,{"$nulls":8},{"$f":"INFRASTRUCTURE!S47","v":0.32048240300866127},{"$f":"INFRASTRUCTURE!T47","v":0.340787924771489},{"$f":"INFRASTRUCTURE!U47","v":0.36158568326696167},{"$f":"INFRASTRUCTURE!V47","v":0.35320120690221363},{"$f":"INFRASTRUCTURE!W47","v":0.43984009857477724},null,null,1.1000000000000001,0,1,null,"Metropolitan - Guadalajara","Calculated from 2010 Mexico Census","MCS (CONEVAL)"]
[null,null,"Standardized",{"$nulls":15},{"$f":"INFRASTRUCTURE!S48","v":32.048240300866127},{"$f":"INFRASTRUCTURE!T48","v":34.078792477148902},{"$f":"INFRASTRUCTURE!U48","v":36.158568326696169},{"$f":"INFRASTRUCTURE!V48","v":35.320120690221366},{"$f":"INFRASTRUCTURE!W48","v":43.984009857477723}]
[]
[null,"ID_ICT_3","3. Average broadband speed","Mbps",null,"X",null,null,null,2013,{"$nulls":10},{"$f":"INFRASTRUCTURE!U50","v":4.5391666666666666},{"$f":"INFRASTRUCTURE!V50","v":6.078333333333334},{"$f":"INFRASTRUCTURE!W50","v":7.7566666666666668},{"$f":"INFRASTRUCTURE!X50","v":8.9949999999999992},null,2.1,0.6,"Yearly Global average",null,null,"http://explorer.netindex.com/maps"]
[null,null,"Standardized",{"$nulls":17},{"$f":"INFRASTRUCTURE!U51","v":14.511943575753545},{"$f":"INFRASTRUCTURE!V51","v":25.185295480113833},{"$f":"INFRASTRUCTURE!W51","v":35.822733331827109},{"$f":"INFRASTRUCTURE!X51","v":63.8602186744357}]
[]
[null,null,"4. Urban Mobility Index (UM)",{"$nulls":4},{"$f":"INFRASTRUCTURE!H53","v":69.880804127379463},{"$f":"INFRASTRUCTURE!I53","v":54.196408813294909}]
[null,"ID_UM_1","1. Use of Public Transport","%","X",{"$nulls":4},2007,{"$nulls":7},{"$f":"INFRASTRUCTURE!R54","v":28.3},{"$nulls":7},2.1,5.9499999999999997E-2,0.62160000000000004,null,"State - Jalisco",null,"Desplazamiento segun modo de transporte"]
[null,null,"Standardized",{"$nulls":14},{"$f":"INFRASTRUCTURE!R55","v":39.761608254758933}]
[]
[null,"ID_UM_2","2. Average Daily Travel Time (reversed)","minutes (min.)","X",{"$nulls":4},2007,{"$nulls":7},{"$f":"INFRASTRUCTURE!R57","v":28.265999999999998},{"$nulls":7},4,null,null,30,"State - Jalisco",null,"Duración promedio de desplazamientos por motivo y medio de transporte de la “movilidad obligada\". Total de desplazamientos"]
[null,null,"Standardized",{"$nulls":14},{"$f":"INFRASTRUCTURE!R58","v":100}]
[]
[null,"ID_UM_3","3. Length of Mass Transport Network","km / 1,000,000 people",null,"X",null,null,null,2013,{"$f":"INFRASTRUCTURE!K60","v":6.4880015225176306},{"$f":"INFRASTRUCTURE!L60","v":6.344012382074145},{"$f":"INFRASTRUCTURE!M60","v":6.209981456374333},{"$f":"INFRASTRUCTURE!N60","v":6.0850550125990228},{"$f":"INFRASTRUCTURE!O60","v":5.9684790298085861},{"$f":"INFRASTRUCTURE!P60","v":5.8595852927338701},{"$f":"INFRASTRUCTURE!Q60","v":5.7577797632734695},{"$f":"INFRASTRUCTURE!R60","v":5.6625328069455216},{"$f":"INFRASTRUCTURE!S60","v":5.5733709389725341},{"$f":"INFRASTRUCTURE!T60","v":9.1497830371421625},{"$f":"INFRASTRUCTURE!U60","v":9.0194138373140866},{"$f":"INFRASTRUCTURE!V60","v":8.8972721755366582},{"$f":"INFRASTRUCTURE!W60","v":8.7828424292372027},{"$f":"INFRASTRUCTURE!X60","v":8.6756588540420552},null,3,null,null,80,"Metropolitan - Guadalajara"]
[null,null,"Standardized",{"$nulls":7},{"$f":"INFRASTRUCTURE!K61","v":8.1100019031470456},{"$f":"INFRASTRUCTURE!L61","v":7.9300154775926774},{"$f":"INFRASTRUCTURE!M61","v":7.7624768204679224},{"$f":"INFRASTRUCTURE!N61","v":7.606318765748787},{"$f":"INFRASTRUCTURE!O61","v":7.4605987872607411},{"$f":"INFRASTRUCTURE!P61","v":7.3244816159173336},{"$f":"INFRASTRUCTURE!Q61","v":7.1972247040918429},{"$f":"INFRASTRUCTURE!R61","v":7.0781660086818965},{"$f":"INFRASTRUCTURE!S61","v":6.9667136737156632},{"$f":"INFRASTRUCTURE!T61","v":11.4372287964277},{"$f":"INFRASTRUCTURE!U61","v":11.274267296642615},{"$f":"INFRASTRUCTURE!V61","v":11.121590219420819},{"$f":"INFRASTRUCTURE!W61","v":10.978553036546511},{"$f":"INFRASTRUCTURE!X61","v":10.844573567552573}]
[]
[null,"ID_UM_4","4. Traffic Fatalities (reversed)","# / 100,000 people",null,"X",null,null,null,2012,{"$nulls":8},{"$f":"INFRASTRUCTURE!S63","v":2.9724645007853514},{"$f":"INFRASTRUCTURE!T63","v":2.8135582839212154},{"$f":"INFRASTRUCTURE!U63","v":2.9538580317203635},{"$f":"INFRASTRUCTURE!V63","v":2.6691816526609977},{"$f":"INFRASTRUCTURE!W63","v":2.6787669409173467},null,null,2.2000000000000002,1,31,null,"Metropolitan - Guadalajara"]
[null,null,"Standardized",{"$nulls":15},{"$f":"INFRASTRUCTURE!S64","v":93.425118330715492},{"$f":"INFRASTRUCTURE!T64","v":93.954805720262613},{"$f":"INFRASTRUCTURE!U64","v":93.487139894265454},{"$f":"INFRASTRUCTURE!V64","v":94.436061157796672},{"$f":"INFRASTRUCTURE!W64","v":94.404110196942185}]
[]
[null,"ID_UM_5","5. Affordability of Transport (reversed)","%",null,"X",null,null,null,2012,{"$nulls":12},{"$f":"INFRASTRUCTURE!W66","v":20.258615905433157},null,null,2.2000000000000002,0.04,0.26,null,"State - Jalisco"]
[null,null,"Standardized",{"$nulls":19},{"$f":"INFRASTRUCTURE!W67","v":26.097200429849288}]
[]
[null,null,"5. Street Connectivity (SC)",{"$nulls":4},{"$f":"INFRASTRUCTURE!H69","v":75.355555555555554},{"$f":"INFRASTRUCTURE!I69","v":75.355555555555554}]
[null,"ID_SC_1","1. Street Intersection Density","# / km2","X",{"$nulls":4},2014,{"$nulls":14},{"$f":"INFRASTRUCTURE!Y70","v":110.87},3,null,null,100,"Metropolitan - Guadalajara"]
[null,null,"Standardized",{"$nulls":21},{"$f":"INFRASTRUCTURE!Y73","v":100}]
[]
[null,"ID_SC_2","2. Street Density",null,"X",{"$nulls":4},2014,{"$nulls":14},{"$f":"INFRASTRUCTURE!Y75","v":15.26},5,null,null,20,"Metropolitan - Guadalajara"]
[null,null,"Standardized",{"$nulls":21},{"$f":"INFRASTRUCTURE!Y78","v":76.3}]
[]
[null,"ID_SC_3","3. Land allocated to streets","%","X",{"$nulls":4},2014,{"$nulls":14},{"$f":"INFRASTRUCTURE!Y80","v":20.93},2.1,0.06,0.36,null,"Metropolitan - Guadalajara"]
[null,null,"Standardized",{"$nulls":21},{"$f":"INFRASTRUCTURE!Y81","v":49.766666666666666}]
[]
["Quality of Life Index (QOL)",null,"(geo)"]
["QUALITY OF LIFE INDEX (QOL)",null,"QUALITY OF LIFE INDEX(avg)",{"$nulls":4},{"$f":"QOL!H12","v":54.712998863212214},{"$f":"QOL!I12","v":48.277649455755942}]
[{"$nulls":7},{"$f":"QOL!H18","v":68.044242814030767},{"$f":"QOL!I18","v":68.162349898573751}]
[null,"QoL_H_1","1. Life Expectancy at Birth","years","X",{"$nulls":4},2012,{"$f":"QOL!K19","v":74.8},{"$f":"QOL!L19","v":"-"},{"$f":"QOL!M19","v":"-"},{"$f":"QOL!N19","v":"-"},{"$f":"QOL!O19","v":"-"},{"$f":"QOL!P19","v":75.930000000000007},{"$f":"QOL!Q19","v":76.180000000000007},{"$f":"QOL!R19","v":76.41},{"$f":"QOL!S19","v":76.64},{"$f":"QOL!T19","v":76.86},{"$f":"QOL!U19","v":77.069999999999993},{"$f":"QOL!V19","v":77.28},{"$f":"QOL!W19","v":77.28},null,null,2.1,54,83.48,null,"STATE (Jalisco)","SEPLAN"]
[null,null,"Standardised",{"$nulls":7},{"$f":"QOL!K20","v":70.556309362279492},{"$f":"QOL!L20","v":"-"},{"$f":"QOL!M20","v":"-"},{"$f":"QOL!N20","v":"-"},{"$f":"QOL!O20","v":"-"},{"$f":"QOL!P20","v":74.389416553595666},{"$f":"QOL!Q20","v":75.237449118046158},{"$f":"QOL!R20","v":76.017639077340547},{"$f":"QOL!S20","v":76.797829036635008},{"$f":"QOL!T20","v":77.544097693351404},{"$f":"QOL!U20","v":78.256445047489791},{"$f":"QOL!V20","v":78.968792401628221},{"$f":"QOL!W20","v":78.968792401628221}]
[]
[null,"QoL_H_2","2. Under-Five Mortality Rate (reversed)","# / 1,000 live births","X",{"$nulls":4},2011,{"$f":"QOL!K22","v":20.7},{"$f":"QOL!L22","v":19.899999999999999},{"$f":"QOL!M22","v":19},{"$f":"QOL!N22","v":18.3},{"$f":"QOL!O22","v":17.600000000000001},{"$f":"QOL!P22","v":17},{"$f":"QOL!Q22","v":16.399999999999999},{"$f":"QOL!R22","v":15.8},{"$f":"QOL!S22","v":15.3},{"$f":"QOL!T22","v":14.9},{"$f":"QOL!U22","v":14.4},{"$f":"QOL!V22","v":14.6},null,null,null,"2.2 (ln)",0.79,5.2,null,"STATE (Jalisco)"]
[null,null,"Standardised",{"$nulls":7},{"$f":"QOL!K24","v":49.20331745416501},{"$f":"QOL!L24","v":50.097058237404838},{"$f":"QOL!M24","v":51.146508408924248},{"$f":"QOL!N24","v":51.997708393483542},{"$f":"QOL!O24","v":52.882111064759499},{"$f":"QOL!P24","v":53.668631654054053},{"$f":"QOL!Q24","v":54.48341644376071},{"$f":"QOL!R24","v":55.328572788369137},{"$f":"QOL!S24","v":56.057758993233797},{"$f":"QOL!T24","v":56.658475896793362},{"$f":"QOL!U24","v":57.43246697093074},{"$f":"QOL!V24","v":57.119693226433313}]
[]
[null,"QoL_H_3","3. Vaccination Coverage","%",null,"X",null,null,null,2013,{"$f":"QOL!K26","v":96.8},{"$f":"QOL!L26","v":88},{"$f":"QOL!M26","v":76.7},{"$f":"QOL!N26","v":86.4},{"$f":"QOL!O26","v":79.099999999999994},{"$f":"QOL!P26","v":79.8},{"$f":"QOL!Q26","v":68.599999999999994},{"$f":"QOL!R26","v":71.400000000000006},{"$f":"QOL!S26","v":80.599999999999994},{"$f":"QOL!T26","v":76.2},{"$f":"QOL!U26","v":80.099999999999994},{"$f":"QOL!V26","v":79.900000000000006},{"$f":"QOL!W26","v":85.4},{"$f":"QOL!X26","v":81.599999999999994},null,1.1000000000000001,0,100,null,"STATE (Jalisco)"]
[null,null,"Standardised",{"$nulls":7},{"$f":"QOL!K27","v":96.8},{"$f":"QOL!L27","v":88},{"$f":"QOL!M27","v":76.7},{"$f":"QOL!N27","v":86.4},{"$f":"QOL!O27","v":79.099999999999994},{"$f":"QOL!P27","v":79.8},{"$f":"QOL!Q27","v":68.599999999999994},{"$f":"QOL!R27","v":71.400000000000006},{"$f":"QOL!S27","v":80.599999999999994},{"$f":"QOL!T27","v":76.2},{"$f":"QOL!U27","v":80.099999999999994},{"$f":"QOL!V27","v":79.900000000000006},{"$f":"QOL!W27","v":85.4},{"$f":"QOL!X27","v":81.599999999999994}]
[]
[null,"QoL_H_4","4. Maternal Mortality (reversed)","# / 100,000 live births",null,"X",{"$nulls":4},{"$f":"QOL!K29","v":56.4},{"$f":"QOL!L29","v":46.1},{"$f":"QOL!M29","v":33.1},{"$f":"QOL!N29","v":37.1},{"$f":"QOL!O29","v":43.8},{"$f":"QOL!P29","v":34.700000000000003},{"$f":"QOL!Q29","v":51.5},{"$f":"QOL!R29","v":30.7},{"$f":"QOL!S29","v":34.700000000000003},{"$f":"QOL!T29","v":54.1},{"$f":"QOL!U29","v":32.299999999999997},{"$f":"QOL!V29","v":23.4},{"$f":"QOL!W29","v":23.4},null,null,"2.2 (ln)",0,7,null,"STATE (Jalisco)"]
[null,null,"Standardised",{"$nulls":7},{"$f":"QOL!K31","v":42.393297735656951},{"$f":"QOL!L31","v":45.274100714248533},{"$f":"QOL!M31","v":50.006667394528328},{"$f":"QOL!N31","v":48.376900434094438},{"$f":"QOL!O31","v":46.005231180251428},{"$f":"QOL!P31","v":49.332290186388384},{"$f":"QOL!Q31","v":43.691688461861567},{"$f":"QOL!R31","v":51.081962077240696},{"$f":"QOL!S31","v":49.332290186388384},{"$f":"QOL!T31","v":42.988083059250911},{"$f":"QOL!U31","v":50.356182425305548},{"$f":"QOL!V31","v":54.960913966233484},{"$f":"QOL!W31","v":54.960913966233484}]
[]
[null,null,"2. Education Sub Index (E)",{"$nulls":4},{"$f":"QOL!H33","v":80.933507438658808},{"$f":"QOL!I33","v":64.949522772428253}]
[null,"QoL_E_1","1. Literacy Rate","%","X",{"$nulls":4},2010,{"$nulls":5},{"$f":"QOL!P34","v":96.822616909123823},{"$nulls":4},{"$f":"QOL!U34","v":97.37721895895028},{"$nulls":4},2.1,{"$f":"0.15*100","v":15},{"$f":"0.999*100","v":99.9}]
[null,null,"Standardised",{"$nulls":12},{"$f":"QOL!P35","v":96.822616909123823},{"$nulls":4},{"$f":"QOL!U35","v":97.37721895895028}]
[]
[null,"QoL_E_2","2. Mean Years of Schooling","years","X",{"$nulls":4},2011,{"$nulls":10},{"$f":"QOL!U37","v":9.0285714285714285},{"$nulls":4},3,null,null,14,null,"ENOE"]
[{"$nulls":20},{"$f":"QOL!U38","v":0.35510204081632651}]
[{"$nulls":20},{"$f":"QOL!U39","v":64.489795918367349}]
[null,null,"Standardised(if condition applied)",{"$nulls":17},{"$f":"QOL!U40","v":64.489795918367349}]
[]
[null,"QoL_E_3","3. Under-Six Participation on First Stage Development Programs","%",null,"X",null,null,null,2013,{"$nulls":6},{"$f":"QOL!Q42","v":69.099999999999994},{"$f":"QOL!R42","v":72.599999999999994},{"$f":"QOL!S42","v":73.099999999999994},{"$f":"QOL!T42","v":71},{"$f":"QOL!U42","v":70.5},{"$f":"QOL!V42","v":70.3},{"$f":"QOL!W42","v":70.7},{"$f":"QOL!X42","v":70.5},null,1.1000000000000001,0,{"$f":"1*100","v":100},null,"STATE","Secretaría de Educación Pública"]
[null,null,"Standardised",{"$nulls":13},{"$f":"QOL!Q43","v":69.099999999999994},{"$f":"QOL!R43","v":72.599999999999994},{"$f":"QOL!S43","v":73.099999999999994},{"$f":"QOL!T43","v":71},{"$f":"QOL!U43","v":70.5},{"$f":"QOL!V43","v":70.3},{"$f":"QOL!W43","v":70.7},{"$f":"QOL!X43","v":70.5}]
[]
[]
[null,"QoL_E_4","4. Net enrollment rate in higher education","%",null,"X",null,null,null,2013,{"$nulls":7},{"$f":"QOL!R46","v":40.199532015022122},{"$f":"QOL!S46","v":40.447796597067679},{"$f":"QOL!T46","v":40.99285946762852},{"$f":"QOL!U46","v":26.170799995220818},{"$f":"QOL!V46","v":26.721962355092433},{"$f":"QOL!W46","v":27.831249314161688},{"$f":"QOL!X46","v":27.431076212395393},null,1.1000000000000001,0,{"$f":"1*100","v":100},null,null,"Secretaría de Educación Pública"]
[null,null,"Standardised",{"$nulls":14},{"$f":"QOL!R47","v":40.199532015022122},{"$f":"QOL!S47","v":40.447796597067679},{"$f":"QOL!T47","v":40.99285946762852},{"$f":"QOL!U47","v":26.170799995220818},{"$f":"QOL!V47","v":26.721962355092433},{"$f":"QOL!W47","v":27.831249314161688},{"$f":"QOL!X47","v":27.431076212395393}]
[]
[null,"QoL_E_5","5. Number of Top Universities","#",null,"X","X",null,null,2013,{"$nulls":15},2.1,0,4]
[null,null,"Standardised"]
[]
[null,null,"3. Safety and Security Sub Index (SS)",{"$nulls":4},{"$f":"QOL!H52","v":42.083344567020234},{"$f":"QOL!I52","v":38.910077477805856}]
[null,"QoL_SS_1","     Homicides per year",null,"X",{"$nulls":4},2012,{"$nulls":8},{"$f":"QOL!S53","v":529},{"$f":"QOL!T53","v":592},{"$f":"QOL!U53","v":909},{"$nulls":4},"2.2 (ln)",0,7.41,null,"Metropolitan - Guadalajara","INEGI"]
[null,null,"1. Homicide rate (reversed)","# / 100,000 people",{"$nulls":14},{"$f":"QOL!S54","v":43.482517274436908},{"$f":"QOL!T54","v":48.071418537215969},{"$f":"QOL!U54","v":73.085074564464406}]
[null,null,"Standardised",{"$nulls":15},{"$f":"QOL!S55","v":49.090972259468188},{"$f":"QOL!T55","v":47.73700686512862},{"$f":"QOL!U55","v":42.083344567020234}]
[]
[null,"QoL_SS_2","Theft offenses recorded in the MP of common law",null,null,"X",null,null,null,2010,{"$nulls":8},{"$f":"QOL!S57","v":15433},{"$f":"QOL!T57","v":14911},{"$f":"QOL!U57","v":22123},{"$nulls":4},"2.2 (fourth root)",2.2400000000000002,8.86,null,"Metropolitan - Guadalajara"]
[null,null,"2. Theft rate (reversed)","# / 100,000 people",{"$nulls":14},{"$f":"QOL!S58","v":1268.5551778759639},{"$f":"QOL!T58","v":1210.7988544061272},{"$f":"QOL!U58","v":1778.7250875573666}]
[null,null,"Standardised",{"$nulls":15},{"$f":"QOL!S59","v":43.686106553633863},{"$f":"QOL!T59","v":44.730229671751495},{"$f":"QOL!U59","v":35.736810388591486}]
[]
[null,null,"4. Public Space (PS)",{"$nulls":4},{"$f":"QOL!H62","v":38.666252459355903},{"$f":"QOL!I62","v":31.535654848727365}]
[null,"QoL_PS_1","1. Accessibility to Open Public Area","%","X",{"$nulls":4},2013,{"$nulls":14},{"$f":"QOL!Y63","v":38.666252459355903},1.1000000000000001,null,100,null,"Metropolitan - Guadalajara"]
[null,null,"Urban Area",{"$nulls":21},{"$f":"QOL!Y64","v":675.99}]
[null,null,"Public Space (with 300m buffer)",{"$nulls":21},{"$f":"QOL!Y65","v":261.38}]
[null,null,"Standardized",{"$nulls":21},{"$f":"QOL!Y66","v":38.666252459355903}]
[]
[{"$nulls":24},{"$f":"QOL!Y68","v":17075827.190000001}]
[null,"QoL_PS_2","2. Green area per capita","m2 / inhabitant",null,"X",null,null,null,2013,{"$nulls":14},{"$f":"QOL!Y69","v":3.6607585857148228},3,null,null,15,"Metropolitan - Guadalajara"]
[{"$nulls":24},{"$f":"QOL!Y70","v":0.75594942761901174}]
[null,null,"Standardised",{"$nulls":21},{"$f":"QOL!Y71","v":24.405057238098827}]
[]
["EQUITY AND SOCIAL INCLUSION INDEX (ESI)",null,"QUALITY OF LIFE INDEX(geo)",{"$nulls":21},{"$f":"QOL!Y73","v":0}]
[null,null,"EQUITY AND SOCIAL INCLUSION INDEX(avg)",{"$nulls":4},{"$f":"[43]EQUITY!H11","v":75.574323963417626},{"$f":"[43]EQUITY!I11","v":70.836955099292666}]
[null,null,"1. Economic Equity SubIndex (EE)",{"$nulls":4},{"$f":"[43]EQUITY!H17","v":55.261516821394807},{"$f":"[43]EQUITY!I17","v":55.261516821394807}]
[null,"ESI_EE_1","1. Gini Coefficient (reversed)","dimensionless (0 - 1)","X",{"$nulls":4},2012,null,null,{"$f":"EQUITY!M17","v":0.44600000000000001},null,null,{"$f":"EQUITY!P17","v":0.39900000000000002},{"$nulls":4},{"$f":"EQUITY!U17","v":0.42099999999999999},{"$nulls":4},2.2000000000000002,0.24,0.63,null,"Metropolitan - Guadalajara","GUO, Calculated from Cesnus"]
[null,null,"Standardized",{"$nulls":9},{"$f":"EQUITY!M18","v":0.47179487179487178},null,null,{"$f":"EQUITY!P18","v":0.5923076923076922},{"$nulls":4},{"$f":"EQUITY!U18","v":0.53589743589743599}]
[]
[null,"ESI_EE_2","2. Poverty Rate (reversed)","%","X",{"$nulls":17},{"$f":"EQUITY!W20","v":2.9779100470646771},null,null,"2.2 (fourth root)",{"$f":"0.0038*100","v":0.38},{"$f":"0.03*100","v":3},null,"Metropolitan - Guadalajara"]
[{"$nulls":9},2012,{"$nulls":12},{"$f":"EQUITY!W21","v":0.3563529109714364}]
[null,null,"Standardized",{"$nulls":19},{"$f":"EQUITY!W22","v":64.364708902856364}]
[]
[null,null,"2. Social Inclusion Sub Index (SI)",{"$nulls":4},{"$f":"[43]EQUITY!H25","v":83.784832519841672},{"$f":"[43]EQUITY!I25","v":83.784832519841672}]
[null,"ESI_SI_1","1. Slum Households (reversed)","%","X",{"$nulls":4},2012,{"$nulls":10},{"$f":"EQUITY!U25","v":10.197865875020458},{"$nulls":4},2.2000000000000002,0,{"$f":"0.8*100","v":80},null,"Metropolitan - Guadalajara","GUO, Calculated from Cesnus 2010"]
[null,null,"Standardized",{"$nulls":17},{"$f":"EQUITY!U27","v":87.252667656224432}]
[]
[null,"ESI_SI_2","2. Youth Unemployment (reversed)","%","X",{"$nulls":4},2010,{"$nulls":10},{"$f":"EQUITY!U29","v":6.8000000000000007},{"$nulls":4},"2.2 (fourth root)",{"$f":"0.0128*100","v":1.28},{"$f":"0.0282*100","v":2.82},null,"STATE (Jalisco)"]
[{"$nulls":20},{"$f":"EQUITY!U30","v":0.21742308988550815}]
[null,null,"Standardized",{"$nulls":17},{"$f":"EQUITY!U31","v":78.257691011449182}]
[]
[null,null,"3. Gender Inclusion Sub Index (GI)",{"$nulls":4},{"$f":"[43]EQUITY!H34","v":93.225475190904149},{"$f":"[43]EQUITY!I34","v":76.769983564633023}]
[null,"ESI_GI_1","1. Equitable Secondary School Enrollment","dimensionless (0-∞)","X",{"$nulls":4},2013,{"$nulls":7},{"$f":"EQUITY!R34","v":1.0730146946274361},{"$f":"EQUITY!S34","v":1.0772708919581737},{"$f":"EQUITY!T34","v":1.0854282898974512},{"$f":"EQUITY!U34","v":1.0626254191742488},{"$f":"EQUITY!V34","v":1.0571748928918969},{"$f":"EQUITY!W34","v":1.044488446789456},{"$f":"EQUITY!X34","v":1.0526753292369431}]
[{"$nulls":17},{"$f":"EQUITY!R35","v":7.301469462743615E-2},{"$f":"EQUITY!S35","v":7.7270891958173715E-2},{"$f":"EQUITY!T35","v":8.5428289897451215E-2},{"$f":"EQUITY!U35","v":6.2625419174248798E-2},{"$f":"EQUITY!V35","v":5.7174892891896922E-2},{"$f":"EQUITY!W35","v":4.448844678945596E-2},{"$f":"EQUITY!X35","v":5.2675329236943069E-2}]
[null,null,"Standardized",{"$nulls":14},{"$f":"EQUITY!R36","v":92.698530537256389},{"$f":"EQUITY!S36","v":92.272910804182629},{"$f":"EQUITY!T36","v":91.457171010254882},{"$f":"EQUITY!U36","v":93.737458082575117},{"$f":"EQUITY!V36","v":94.282510710810314},{"$f":"EQUITY!W36","v":95.551155321054409},{"$f":"EQUITY!X36","v":94.732467076305696},null,5,null,null,1,"Metropolitan - Guadalajara"]
[]
[null,"ESI_GI_2","2. Women in Local Government","%",null,"X",null,null,null,2010,{"$nulls":10},{"$f":"EQUITY!U39","v":0.29905186084961366},{"$nulls":4},5,null,null,0.5,"Metropolitan - Guadalajara","INEGI. Anuario estadístico of Jalisco. 2012. 2013"]
[{"$nulls":20},{"$f":"EQUITY!U40","v":0.40189627830077268},{"$nulls":9},"http://www.inegi.org.mx/prod_serv/contenidos/espanol/bvinegi/productos/integracion/pais/anuario_multi/2012/jal/702825046507.pdf"]
[null,null,"Standardized",{"$nulls":17},{"$f":"EQUITY!U41","v":59.810372169922729}]
[]
[null,"ESI_GI_3","3. Women in the Work Force","%",null,"X",null,null,null,2012,{"$nulls":12},{"$f":"EQUITY!W43","v":41.132237751497463},null,null,5,null,null,0.5,"STATE (Jalisco)"]
[null,null,"Standardized",{"$nulls":19},{"$f":"EQUITY!W44","v":82.264475502994927}]
[]
[null,null,"4. Urban Diversity (UD)"]
[null,"ESI_UD_1","1. Land Use Mix","dimensionless (0 - 1.61)","X",null,"X",{"$nulls":18},2.1,0,1.61]
[null,null,"Standardized"]
[]
["Environmental Sustainability (ES)",null,"QUALITY OF LIFE INDEX(geo)"]
["ENVIRONMENTAL SUSTAINABILITY INDEX (ES)",null,"ENVIRONMENTAL SUSTAINABILITY INDEX(avg)",{"$nulls":4},{"$f":"ENVIRONMENT!H12","v":42.094179419779792},{"$f":"ENVIRONMENT!I12","v":46.009300482889131}]
[null,null,"1. Air Quality (AQ)",{"$nulls":4},{"$f":"ENVIRONMENT!H18","v":33.333333333333329},{"$f":"ENVIRONMENT!I18","v":43.526073681493607}]
[null,"ES_AQ_1","1. Number of monitoring stations","#","X",{"$nulls":4},2013,{"$nulls":13},{"$f":"ENVIRONMENT!X19","v":10},null,2.1,0,10,null,"Metropolitan - Guadalajara"]
[null,null,"Standardized",{"$nulls":20},{"$f":"ENVIRONMENT!X20","v":33.333333333333329}]
[]
[null,"ES_AQ_2","2. PM10 Concentration (reversed)","ug/m3",null,"X",null,null,null,2011,{"$nulls":7},{"$f":"ENVIRONMENT!R22","v":41.4},{"$f":"ENVIRONMENT!S22","v":41.5},{"$f":"ENVIRONMENT!T22","v":41.7},{"$f":"ENVIRONMENT!U22","v":41.8},{"$f":"ENVIRONMENT!V22","v":62.2},{"$f":"ENVIRONMENT!W22","v":58.29},{"$f":"ENVIRONMENT!X22","v":62.48},null,4,null,null,40,"Metropolitan - Guadalajara"]
[null,null,"Abs",{"$nulls":14},{"$f":"ENVIRONMENT!R23","v":3.4999999999999962E-2},{"$f":"ENVIRONMENT!S23","v":3.7499999999999999E-2},{"$f":"ENVIRONMENT!T23","v":4.2500000000000072E-2},{"$f":"ENVIRONMENT!U23","v":4.4999999999999929E-2},{"$f":"ENVIRONMENT!V23","v":0.55500000000000005}]
[null,null,"Standardized",{"$nulls":14},{"$f":"ENVIRONMENT!R24","v":96.500000000000014},{"$f":"ENVIRONMENT!S24","v":96.25},{"$f":"ENVIRONMENT!T24","v":95.749999999999986},{"$f":"ENVIRONMENT!U24","v":95.5},{"$f":"ENVIRONMENT!V24","v":44.499999999999993}]
[]
[null,"ES_AQ_3","3. CO2 Emissions (reversed)","metric tonnes per capita",null,"X",null,null,null,2008,{"$nulls":8},{"$f":"ENVIRONMENT!S26","v":2.42},{"$nulls":6},"2.2 (fifth root)",0.39,2.09,null,"Metropolitan - Guadalajara"]
[{"$nulls":18},{"$f":"ENVIRONMENT!S27","v":0.47255112288852502}]
[null,null,"Standardized",{"$nulls":15},{"$f":"ENVIRONMENT!S28","v":52.744887711147491}]
[]
[null,null,"2. Waste Management Sub Index (WM)",{"$nulls":4},{"$f":"ENVIRONMENT!H30","v":63.690999987700025},{"$f":"ENVIRONMENT!I30","v":63.690999987700025}]
[null,"ES_WM_1","1. Solid waste collection","%","X",{"$nulls":4},2012,null,{"$f":"ENVIRONMENT!L31","v":0.800002048663641},{"$f":"ENVIRONMENT!M31","v":0.82000145560407578},{"$f":"ENVIRONMENT!N31","v":0.83000000000000007},{"$f":"ENVIRONMENT!O31","v":0.91545970333745375},{"$f":"ENVIRONMENT!P31","v":0.9136882352941178},{"$f":"ENVIRONMENT!Q31","v":0.91359875395569612},{"$f":"ENVIRONMENT!R31","v":0.91357959683496603},{"$f":"ENVIRONMENT!S31","v":0.92206273062730626},{"$f":"ENVIRONMENT!T31","v":0.92945066859414527},{"$f":"ENVIRONMENT!U31","v":0.94403156565656554},{"$f":"ENVIRONMENT!V31","v":0.94566461916461919},{"$f":"ENVIRONMENT!W31","v":0.9510765550239233},null,null,1.1000000000000001,0,1,null,"STATE (Jalisco)","http://dgeiawf.semarnat.gob.mx:8080/ibi_apps/WFServlet?IBIF_ex=D3_RSM01_05&IBIC_user=dgeia_mce&IBIC_pass=dgeia_mce"]
[null,null,"Standardized",{"$nulls":8},{"$f":"ENVIRONMENT!L32","v":80.000204866364101},{"$f":"ENVIRONMENT!M32","v":82.000145560407574},{"$f":"ENVIRONMENT!N32","v":83},{"$f":"ENVIRONMENT!O32","v":91.545970333745373},{"$f":"ENVIRONMENT!P32","v":91.368823529411785},{"$f":"ENVIRONMENT!Q32","v":91.359875395569617},{"$f":"ENVIRONMENT!R32","v":91.357959683496603},{"$f":"ENVIRONMENT!S32","v":92.206273062730631},{"$f":"ENVIRONMENT!T32","v":92.945066859414524},{"$f":"ENVIRONMENT!U32","v":94.403156565656559},{"$f":"ENVIRONMENT!V32","v":94.566461916461918},{"$f":"ENVIRONMENT!W32","v":95.107655502392333}]
[]
[null,"ES_WM_2","2. Waste water treatment","%","X",{"$nulls":4},2012,{"$f":"ENVIRONMENT!K34","v":9.3956989247311835},{"$f":"ENVIRONMENT!L34","v":11.873357856016815},{"$f":"ENVIRONMENT!M34","v":11.68891224382554},{"$f":"ENVIRONMENT!N34","v":13.44666316342617},{"$f":"ENVIRONMENT!O34","v":13.208252427184467},{"$f":"ENVIRONMENT!P34","v":15.780377688237293},{"$f":"ENVIRONMENT!Q34","v":15.86323792919754},{"$f":"ENVIRONMENT!R34","v":16.409995641435422},{"$f":"ENVIRONMENT!S34","v":16.764240126685543},{"$f":"ENVIRONMENT!T34","v":17.059534164492124},{"$f":"ENVIRONMENT!U34","v":18.417415676041365},{"$f":"ENVIRONMENT!V34","v":25.454043583535107},{"$f":"ENVIRONMENT!W34","v":32.274344473007709},null,null,1.1000000000000001,0,1,null,"STATE (Jalisco)","SEPLAN"]
[null,null,"Standardized",{"$nulls":7},{"$f":"ENVIRONMENT!K35","v":9.3956989247311835},{"$f":"ENVIRONMENT!L35","v":11.873357856016815},{"$f":"ENVIRONMENT!M35","v":11.68891224382554},{"$f":"ENVIRONMENT!N35","v":13.44666316342617},{"$f":"ENVIRONMENT!O35","v":13.208252427184467},{"$f":"ENVIRONMENT!P35","v":15.780377688237293},{"$f":"ENVIRONMENT!Q35","v":15.86323792919754},{"$f":"ENVIRONMENT!R35","v":16.409995641435422},{"$f":"ENVIRONMENT!S35","v":16.764240126685543},{"$f":"ENVIRONMENT!T35","v":17.059534164492124},{"$f":"ENVIRONMENT!U35","v":18.417415676041365},{"$f":"ENVIRONMENT!V35","v":25.454043583535107},{"$f":"ENVIRONMENT!W35","v":32.274344473007709}]
[]
[null,"ES_WM_3 ","3. Solid waste recycling share","%",null,"X","X",{"$nulls":18},3,null,null,0.5]
[]
[null,null,"3. Water and Energy Sub Index (WE)",{"$nulls":4},{"$f":"ENVIRONMENT!H39","v":35.132522301132042},{"$f":"ENVIRONMENT!I39","v":35.132522301132042}]
[null,"ES_WE_1","1. Share of protected area in natural systems that provide basic ecosystem services","%","X",null,"X",{"$nulls":18},1.1000000000000001,0,1]
[]
[null,"ES_WE_2","2. Share of renewable energy consumption ","%","X",{"$nulls":4},2011,{"$nulls":5},{"$f":"ENVIRONMENT!P42","v":8.6972927082350715},{"$f":"ENVIRONMENT!Q42","v":7.9966653841220978},{"$f":"ENVIRONMENT!R42","v":7.9516349065073673},{"$f":"ENVIRONMENT!S42","v":7.4863125100222208},{"$f":"ENVIRONMENT!T42","v":7.8787182286578936},{"$f":"ENVIRONMENT!U42","v":6.0712045748016976},{"$f":"ENVIRONMENT!V42","v":7.0265044602264082},null,null,null,2.1,0,{"$f":"0.2*100","v":20},null,"Country Level (Mexico)"]
[{"$nulls":15},{"$f":"ENVIRONMENT!P43","v":43.486463541175354},{"$f":"ENVIRONMENT!Q43","v":39.983326920610487},{"$f":"ENVIRONMENT!R43","v":39.758174532536842},{"$f":"ENVIRONMENT!S43","v":37.431562550111103},{"$f":"ENVIRONMENT!T43","v":39.39359114328947},{"$f":"ENVIRONMENT!U43","v":30.356022874008488},{"$f":"ENVIRONMENT!V43","v":35.132522301132042}]
[null,null,"Standardized",{"$nulls":12},{"$f":"ENVIRONMENT!P44","v":43.486463541175354},{"$f":"ENVIRONMENT!Q44","v":39.983326920610487},{"$f":"ENVIRONMENT!R44","v":39.758174532536842},{"$f":"ENVIRONMENT!S44","v":37.431562550111103},{"$f":"ENVIRONMENT!T44","v":39.39359114328947},{"$f":"ENVIRONMENT!U44","v":30.356022874008488},{"$f":"ENVIRONMENT!V44","v":35.132522301132042}]
[]
["Urban Governance and Legislation Index (UGL)",null,"QUALITY OF LIFE INDEX(geo)"]
["URBAN GOVERNANCE AND LEGISLATION (UGL)",null,"URBAN GOVERNANCE AND LEGISLATION(avg)",{"$nulls":4},{"$f":"GOVERNANCE!H10","v":61.534984952599181},{"$f":"GOVERNANCE!I10","v":67.813483756240259}]
[null,null,"1. Participation Sub Index (P)",{"$nulls":4},{"$f":"GOVERNANCE!H14","v":52.531249999999993},{"$f":"GOVERNANCE!I14","v":52.531249999999993}]
[null,"UGL_P_1","1. Voter turnout","%","X",{"$nulls":4},2012,{"$f":"GOVERNANCE!K15","v":67.206249999999997},null,null,{"$f":"GOVERNANCE!N15","v":54.292499999999997},null,null,{"$f":"GOVERNANCE!Q15","v":62.088750000000005},null,null,{"$f":"GOVERNANCE!T15","v":52.531249999999993},{"$nulls":5},1.1000000000000001,0,1,null,"Metropolitan - Guadalajara","IFE"]
[null,null,"Standardized",{"$nulls":7},{"$f":"GOVERNANCE!K16","v":67.206249999999997},null,null,{"$f":"GOVERNANCE!N16","v":54.292499999999997},null,null,{"$f":"GOVERNANCE!Q16","v":62.088750000000005},null,null,{"$f":"GOVERNANCE!T16","v":52.531249999999993}]
[]
[null,"UGL_P_2","2. Civic participation","%",null,"X","X",{"$nulls":18},1.1000000000000001,0,1]
[]
[null,"UGL_P_3","3. Youth Civic Participation","%",null,"X","X"]
[]
[null,null,"2. Accountability and Transparency Sub Index (AT)",{"$nulls":4},{"$f":"GOVERNANCE!H22","v":88.75},{"$f":"GOVERNANCE!I22","v":88.75}]
[null,"UGL_AT_1","1. AccesstoPublicInformation","Value between 0 - 100","X",{"$nulls":4},2014,{"$f":"GOVERNANCE!K23","v":1.75},{"$f":"GOVERNANCE!L23","v":1.75},{"$f":"GOVERNANCE!M23","v":1.75},{"$f":"GOVERNANCE!N23","v":1.75},{"$f":"GOVERNANCE!O23","v":1.875},{"$f":"GOVERNANCE!P23","v":1.875},{"$f":"GOVERNANCE!Q23","v":1.875},{"$f":"GOVERNANCE!R23","v":2.625},{"$f":"GOVERNANCE!S23","v":3.125},{"$f":"GOVERNANCE!T23","v":3.25},{"$f":"GOVERNANCE!U23","v":4.375},{"$f":"GOVERNANCE!V23","v":5.125},{"$f":"GOVERNANCE!W23","v":6},{"$f":"GOVERNANCE!X23","v":6.5},{"$f":"GOVERNANCE!Y23","v":7.625},1.1000000000000001,0,1,null,"Metropolitan - Guadalajara"]
[null,null,"Standardized",{"$nulls":7},{"$f":"GOVERNANCE!K24","v":20},{"$f":"GOVERNANCE!L24","v":20},{"$f":"GOVERNANCE!M24","v":20},{"$f":"GOVERNANCE!N24","v":20},{"$f":"GOVERNANCE!O24","v":21.25},{"$f":"GOVERNANCE!P24","v":21.25},{"$f":"GOVERNANCE!Q24","v":22.5},{"$f":"GOVERNANCE!R24","v":30},{"$f":"GOVERNANCE!S24","v":38.75},{"$f":"GOVERNANCE!T24","v":40},{"$f":"GOVERNANCE!U24","v":53.75},{"$f":"GOVERNANCE!V24","v":62.5},{"$f":"GOVERNANCE!W24","v":72.5},{"$f":"GOVERNANCE!X24","v":77.5},{"$f":"GOVERNANCE!Y24","v":88.75}]
[]
[null,null,"3. Institutional Capacity Sub Index (IC)",{"$nulls":4},{"$f":"GOVERNANCE!H26","v":31.03865559653428},{"$f":"GOVERNANCE!I26","v":45.780310117533212}]
[null,"UGL_IC_1","1. Own Revenue Collection","%","X",{"$nulls":4},2012,{"$nulls":8},{"$f":"GOVERNANCE!S27","v":0.32055905038360966},{"$f":"GOVERNANCE!T27","v":0.33516785839081126},{"$f":"GOVERNANCE!U27","v":0.31332600899628427},{"$f":"GOVERNANCE!V27","v":0.36032060609287381},{"$f":"GOVERNANCE!W27","v":0.36554353025816599},null,null,2.1,0.17,0.8,null,"Metropolitan - Guadalajara"]
[null,null,"Standardized",{"$nulls":15},{"$f":"GOVERNANCE!S28","v":23.898261965652324},{"$f":"GOVERNANCE!T28","v":26.217120379493846},{"$f":"GOVERNANCE!U28","v":22.750160158140361},{"$f":"GOVERNANCE!V28","v":30.209620014741873},{"$f":"GOVERNANCE!W28","v":31.03865559653428}]
[]
[null,"UGL_IC_2","2. Subnational Debt (reversed)","%",null,"X",{"$nulls":14},0,{"$nulls":4},4,null,null,0.6]
[{"$nulls":20},{"$f":"ABS((U243-$Z$32)/$Z$32)","v":{"$error":"#DIV/0!"}}]
[null,null,"Standardized (with if condition)",{"$nulls":17},{"$f":"IF(U243<= 0.6, 100, 100*(1-U244))","v":100}]
[]
[null,"UGL_IC_2","2. Investment Capacity","%",null,"X","X"]
[]
[null,"UGL_IC_3","3. Days to Start a Business (reversed)","#",null,"X",null,null,null,2014,{"$nulls":14},{"$f":"GOVERNANCE!Y36","v":12.5},"2.2 (ln)",0.69,5.34,null,"Metropolitan - Guadalajara","http://www.doingbusiness.org/data/exploreeconomies/mexico/sub/guadalajara/"]
[{"$nulls":24},{"$f":"GOVERNANCE!Y37","v":0.39478035361467861}]
[null,null,"Standardized",{"$nulls":21},{"$f":"GOVERNANCE!Y38","v":60.521964638532147}]
[]
[null,null,"4. Governance of Urbanisation (GU)",{"$nulls":4},{"$f":"GOVERNANCE!H40","v":99.083056701386354},{"$f":"GOVERNANCE!I40","v":99.083056701386354}]
[null,"UCL_GU_1","Sprawl Index","#","X",{"$nulls":15},{"$f":"GOVERNANCE!U41","v":99.083056701386354}]
[null,null,"2000-2010",{"$nulls":6},2010,{"$nulls":10},{"$f":"GOVERNANCE!U42","v":99.083056701386354},{"$nulls":8},"Metropolitan - Guadalajara","SEDESOL","Mexico, la expansion de las ciudades 2000-2010"]
[]
[null,"UCL_GU_2","Densities Development Rights","%",null,"X","X"]

{"sheet":"PRODUCTIVITY","index":2,"n_rows":37,"n_cols":32,"rows_kept":37,"cut":false,"hidden":false,"merged":[[1,0,1,18]]}
[]
["PRODUCTIVITY INDEX"]
[]
[{"$nulls":7},"BASIC","EXTENDED"]
[null,null,"PRODUCTIVITY INDEX","Geo",null,null,null,{"$f":"GEOMEAN(H11,H22,H29)","v":68.207987729525016},{"$f":"GEOMEAN(I11,I22,I29)","v":57.009761745239558}]
["DIMENSION","CODE","INDICATOR","NOTES","BASIC","EXTENDED","MISSING",null,null,"YEAR",2000,2001,2002,2003,2004,2005,2006,2007,2008,2009,2010,2011,2012,2013,2014,"Standardization","MIN","MAX","TARGET","LEVEL","Source"]
["Productivity Index (P)","Demographic","1. Population",{"$nulls":7},3699136.000000034,3783094.7600000291,3864745.840000025,3944089.2400000212,4021124.9600000186,4095853.0000000168,4168273.3600000157,4238386.0400000149,4306191.0400000159,4371688.3600000171,4434878.0000000196,4495759.9600000223,4554334.2400000263,4610600.8400000297,4664559.7600000352,{"$nulls":5},"CONAPO/Basedatos"]
[null,null,"2. Homes/Households"]
[null,null,"3. Urban Footprint area"]
[null,null,"4. Population in households"]
[null,null,"1. Economic Growth Sub Index (EG)",{"$nulls":4},{"$f":"AVERAGE(W13,U16)","v":60.056092664238136},{"$f":"AVERAGE(W13,U16,U20)","v":46.143853793237362}]
[null,"P_EG_1","1.1. City Product per capita",null,"x",{"$nulls":4},2012,{"$nulls":8},{"$f":"'CityProductPerCapita '!N8","v":16767.514922914459},{"$f":"'CityProductPerCapita '!O8","v":16780.773390010618},{"$f":"'CityProductPerCapita '!P8","v":16435.698572266174},{"$f":"'CityProductPerCapita '!Q8","v":16625.019412756887},{"$f":"'CityProductPerCapita '!R8","v":16263.297189968322},null,null,"2.1 (ln)",6.57,11.6,null,"Metropolitan Region","Economic Census"]
[null,null,"Standardized",{"$nulls":15},{"$f":"'CityProductPerCapita '!N9","v":62.767368945604794},{"$f":"'CityProductPerCapita '!O9","v":62.783082881665997},{"$f":"'CityProductPerCapita '!P9","v":62.369999808204057},{"$f":"'CityProductPerCapita '!Q9","v":62.597694497176917},{"$f":"'CityProductPerCapita '!R9","v":62.160360671087886}]
[]
[null,"P_EG_2","1.2. Old Age Dependency Ratio (reversed)",null,"x",{"$nulls":4},2010,{"$nulls":10},{"$f":"OldAgeDependencyRatio!P98","v":8.8098200273047702},{"$nulls":4},"2.2 (ln)",1.07,3.7,null,"Metropolitan Region","Mexico Census 2010 Calculations"]
[null,null,"Standardized",{"$nulls":17},{"$f":"OldAgeDependencyRatio!P99","v":57.951824657388386}]
[]
[null,"P_EG_3","1.3. Mean Household Income(MHI)","Mexican Pesos (MONTHLY)",null,"x",null,null,null,2010,{"$nulls":8},{"$f":"MeanHouseholdIncome!Q11","v":6497},6017,8518,{"$nulls":8},"State - Jalisco"]
[null,null,"Annual MHI (USD PPP)","USD (ANNUAL)",{"$nulls":14},{"$f":"MeanHouseholdIncome!Q14","v":10437.601862716887},9698.8517323459091,13360.265641784275,{"$nulls":4},2.1,6315,44773]
[null,null,"Standardized",{"$nulls":15},{"$f":"MeanHouseholdIncome!Q15","v":10.719751060161441},8.7988239959069876,18.319376051235832]
[]
[null,null,"2. Economic Agglomeration (EA)",null,"x",null,null,{"$f":"AVERAGE(W24)","v":89.564430967491333},{"$f":"AVERAGE(W24,X27)","v":63.627616105277369}]
[null,"P_EA_1","2.1. Economic Density",{"$nulls":6},2012,{"$nulls":8},{"$f":"EconomicDensity!Q19","v":29796029.564937115},{"$f":"EconomicDensity!R19","v":30273147.015989669},{"$f":"EconomicDensity!S19","v":30079197.621725507},{"$f":"EconomicDensity!T19","v":30843359.665451579},{"$f":"EconomicDensity!U19","v":30565387.098300215},{"$nulls":6},"Metropolitan Region","Economic Census Calculations"]
[null,null,"Standardized",{"$nulls":15},{"$f":"EconomicDensity!Q21","v":89.431955018095906},{"$f":"EconomicDensity!R21","v":89.514506997348249},{"$f":"EconomicDensity!S21","v":89.481107455452374},{"$f":"EconomicDensity!T21","v":89.611476609996501},{"$f":"EconomicDensity!U21","v":89.564430967491333}]
[]
[null,"P_EA_2","2.2. Economic Specialization",null,null,"x",null,null,null,2013,{"$nulls":12},{"$f":"'EconomicSpecialization '!B26","v":0.11748913090082695},{"$f":"'EconomicSpecialization '!B53","v":0.12389805013477115},{"$nulls":5},"State"]
[null,null,"Standardized",{"$nulls":19},{"$f":"'EconomicSpecialization '!B30","v":34.524041150996844},{"$f":"'EconomicSpecialization '!B57","v":37.690801243063397}]
[]
[null,null,"3. Employment Sub Index (E)",{"$nulls":4},{"$f":"AVERAGE(W31)","v":58.994709582117942},{"$f":"AVERAGE(W31,W34,W37)","v":63.108544398617788}]
[null,"P_E_1","3.1. Unemployment Rate (reversed)",null,"x",{"$nulls":4},2012,{"$nulls":8},{"$f":"UnemploymentRate!L3","v":4.4244648968807079},{"$f":"UnemploymentRate!M3","v":5.2953963260278734},{"$f":"UnemploymentRate!N3","v":6.2568873892705472},{"$f":"UnemploymentRate!O3","v":5.3058345261280708},{"$f":"UnemploymentRate!P3","v":5.5500980595971914},null,null,"2.2 (fourth root)",1,28.2,null,"Metropolitan Region"]
[null,null,"Standardized",{"$nulls":15},{"$f":"UnemploymentRate!L5","v":65.477120718081807},{"$f":"UnemploymentRate!M5","v":60.368565588217415},{"$f":"UnemploymentRate!N5","v":55.415224402576804},{"$f":"UnemploymentRate!O5","v":60.311298854298599},{"$f":"UnemploymentRate!P5","v":58.994709582117942},null,null,null,{"$f":"AA30^(1/4)","v":1},{"$f":"AB30^(1/4)","v":2.3044234027063477}]
[]
[null,"P_E_2","3.2. Employment to Population Ratio",null,null,"x",null,null,null,2012,{"$nulls":8},{"$f":"UnemploymentRate!L8","v":0.6531085293799419},{"$f":"UnemploymentRate!M8","v":0.65998710345073663},{"$f":"UnemploymentRate!N8","v":0.65649457278763013},{"$f":"UnemploymentRate!O8","v":0.66128308645854417},{"$f":"UnemploymentRate!P8","v":0.63537697726862252},{"$nulls":6},"Metropolitan Region"]
[null,null,"Standardized",{"$nulls":15},{"$f":"UnemploymentRate!L9","v":78.226635815717287},{"$f":"UnemploymentRate!M9","v":79.77238279791834},{"$f":"UnemploymentRate!N9","v":78.987544446658447},{"$f":"UnemploymentRate!O9","v":80.063614934504315},{"$f":"UnemploymentRate!P9","v":74.2420173637354},null,null,2.1,0.30499999999999999,0.75]
[]
[null,"P_E_3","3.3. Informal Employment (reversed)",null,null,"x",null,null,null,2012,{"$nulls":5},47.238799999999998,44.052700000000002,45.069899999999997,45.439700000000002,46.9238,46.6447,46.822699999999998,46.896900000000002,null,null,2.2000000000000002,11,75,null,"State - Jalisco","INEGI","Jalisco, Áreas más, Trimestre IV"]
[null,null,"Standardized",{"$nulls":12},56.623124999999995,51.64484375,53.234218749999997,53.812031250000004,56.130937500000002,55.694843750000004,55.972968749999993,56.088906250000001]

{"sheet":"CityProductPerCapita ","index":3,"n_rows":9,"n_cols":25,"rows_kept":9,"cut":false,"hidden":false,"merged":[[3,0,9,0]]}
[]
["P_EG_1_CityProductPerCapita "]
[null,null,"BASIC","EXTENDED","MISSING",2000,2001,2002,2003,2004,2005,2006,2007,2008,2009,2010,2011,2012,2013,2014,"Standardization","MIN","MAX","TARGET","SOURCE"]
["Metropolitan Region of Guadalajara","Population",null,null,null,3699136.000000034,3783094.7600000291,3864745.840000025,3944089.2400000212,4021124.9600000186,4095853.0000000168,4168273.3600000157,4238386.0400000149,4306191.0400000159,4371688.3600000171,4434878.0000000196,4495759.9600000223,4554334.2400000263,4610600.8400000297,4664559.7600000352,{"$nulls":4},"Note: Projections"]
[null,"GDP ('000 pesos)",{"$nulls":11},539330996,546137634.86939418,557665314.87908196,573497086.70969665,591582996.93348145,{"$nulls":6},"Economic Census"]
[null,"PPP conversion factor, GDP",{"$nulls":9},7.1691299869999998,7.374892827,7.4695318930000001,7.4445926169999996,7.6507460810000003,7.6730131039999998,7.986972422,7.9962023350000004]
[null,"GDP (USD PPP)",{"$nulls":11},{"$f":"(N5*1000)/N6","v":72204122524.120804},{"$f":"(O5*1000)/O6","v":73360311700.90744},{"$f":"(P5*1000)/P6","v":72890318012.774979},74742096610.09549,74068491247.568939]
[null,"GDP Per Capita (USD PPP)","X",{"$nulls":10},{"$f":"N7/N4","v":16767.514922914459},{"$f":"O7/O4","v":16780.773390010618},{"$f":"P7/P4","v":16435.698572266174},16625.019412756887,16263.297189968322,null,null,"2.1 (ln)",6.57,11.6]
[null,"Standardized",{"$nulls":11},{"$f":"100*((LN(N8)-$V$8)/($W$8-$V$8))","v":62.767368945604794},{"$f":"100*((LN(O8)-$V$8)/($W$8-$V$8))","v":62.783082881665997},{"$f":"100*((LN(P8)-$V$8)/($W$8-$V$8))","v":62.369999808204057},{"$f":"100*((LN(Q8)-$V$8)/($W$8-$V$8))","v":62.597694497176917},{"$f":"100*((LN(R8)-$V$8)/($W$8-$V$8))","v":62.160360671087886}]

{"sheet":"OldAgeDependencyRatio","index":4,"n_rows":99,"n_cols":25,"rows_kept":99,"cut":false,"hidden":false,"merged":[[95,0,98,0]]}
[]
[]
["Age","Guadalajara","Ixtlahuacan de los Membrillos","Juanacatlan","Salto, El","Tlajomulco de Zuniga","Tlaquepaque","Tonala","Zapopan","Metropolitan Area of Guadlajara","Note:"]
["15",26404,761,250,3333,5993,12992,10046,24859,{"$f":"SUM(B4:I4)","v":84638},"Data from Census 2010"]
["16",25923,802,260,2847,13563,10909,9769,20789,84862]
["17",28143,883,282,2940,14555,13594,9974,27135,97506]
["18",29139,940,296,3094,6279,13004,9238,26426,88416]
["19",26286,811,247,2822,5720,15365,10305,25594,87150]
["20",29973,667,258,2358,6760,11396,7829,24428,83669]
["21",26701,744,268,2778,13311,11796,8542,22969,87109]
["22",27179,720,283,2533,5147,11806,8225,22493,78386]
["23",27346,796,247,2182,6106,10033,7754,22984,77448]
["24",26469,657,215,2751,5762,9821,6960,21894,74529]
["25",27038,787,135,1934,6151,10343,7517,24838,78743]
["26",25280,752,240,1883,5869,9745,6633,21829,72231]
["27",25542,628,191,2345,6804,9308,6718,22631,74167]
["28",23810,616,200,2291,6562,9175,8226,23484,74364]
["29",21220,541,152,2074,6761,8673,6854,20740,67015]
["30",25294,738,235,2768,9301,10446,7741,21329,77852]
["31",17205,579,179,1455,7549,8674,5164,15780,56585]
["32",22593,601,207,2329,8131,9386,6827,20255,70329]
["33",21707,636,229,2146,6990,8734,6788,16701,63931]
["34",20927,573,174,2068,7275,7818,7889,16214,62938]
["35",20520,621,220,2403,7062,9820,7528,18373,66547]
["36",20117,640,201,2162,13732,11853,7482,18974,75161]
["37",20352,602,202,2303,6655,9839,6787,18664,65404]
["38",22648,638,162,1929,7073,9928,8659,20399,71436]
["39",22263,579,185,1655,4522,8173,6718,18583,62678]
["40",23178,540,157,2162,5207,10896,8074,21914,72128]
["41",15985,343,124,1336,3740,7674,5887,16267,51356]
["42",21059,688,143,1860,4955,9078,7450,19489,64722]
["43",20008,440,122,1485,10136,6088,4494,15174,57947]
["44",17025,361,137,1430,2943,5714,4609,13888,46107]
["45",18855,504,139,1639,3567,7544,5567,16484,54299]
["46",15858,332,99,1304,3049,5924,4454,16718,47738]
["47",17059,317,112,1178,2326,4631,4155,14392,44170]
["48",18775,309,143,1394,3653,5068,4894,13105,47341]
["49",15361,391,128,1002,2097,5797,3960,11533,40269]
["50",20284,426,153,1576,3162,6760,5081,13541,50983]
["51",11896,195,57,662,1526,4694,3187,12217,34434]
["52",18278,397,170,1194,2353,4536,3311,11901,42140]
["53",15364,268,105,817,2458,3527,4520,10619,37678]
["54",14280,297,99,1002,1753,4812,3256,11263,36762]
["55",15894,241,130,1080,2075,4839,2829,10891,37979]
["56",12056,325,107,679,1699,3299,2991,10673,31829]
["57",12730,218,89,740,1251,3594,2279,6990,27891]
["58",13545,194,80,448,1777,2800,1885,7389,28118]
["59",10173,189,125,675,1786,2827,1935,8744,26454]
["60",16072,337,97,680,1920,4157,2108,9366,34737]
["61",8883,200,71,485,952,2837,1095,6165,20688]
["62",11628,201,86,433,986,2580,1841,6869,24624]
["63",12145,233,109,493,687,3455,1320,6506,24948]
["64",8934,218,61,404,1215,2789,1271,6277,21169]
["65",10404,306,51,638,897,2280,2592,8059,{"$f":"SUM(B54:I54)","v":25227}]
["66",7959,167,58,345,489,5086,1046,4752,19902]
["67",8262,192,42,271,600,1810,899,5194,17270]
["68",8115,145,67,388,1223,1656,859,4554,17007]
["69",6693,189,66,287,1028,1556,1841,3041,14701]
["70",9339,179,36,605,1215,2107,1108,4882,19471]
["71",5407,125,28,122,420,826,301,2274,9503]
["72",7227,76,52,416,1037,1835,843,3272,14758]
["73",6026,78,47,181,305,1097,1093,2580,11407]
["74",6007,55,44,303,722,882,576,1960,10549]
["75",5744,117,34,308,122,1107,771,2512,10715]
["76",5066,65,39,303,183,1126,278,2343,9403]
["77",5443,69,34,91,431,510,324,1330,8232]
["78",4241,56,40,121,258,626,544,2818,8704]
["79",2845,71,44,148,136,927,646,1318,6135]
["80",4350,48,42,211,346,1034,332,1909,8272]
["81",2011,36,10,219,68,295,226,826,3691]
["82",2656,48,14,30,131,323,253,1468,4923]
["83",3210,72,16,60,129,169,340,1176,5172]
["84",2854,55,25,90,197,440,279,1285,5225]
["85",2363,30,26,60,322,191,267,1137,4396]
["86",2084,16,30,60,61,379,53,501,3184]
["87",1525,30,12,146,136,631,345,973,3798]
["88",1297,0,12,30,61,89,90,657,2236]
["89",1162,16,21,31,68,115,322,932,2667]
["90",1025,16,24,0,0,103,25,356,1549]
["91",258,17,4,0,61,16,29,146,531]
["92",577,25,7,61,61,114,71,344,1260]
["93",326,8,13,0,0,83,26,213,669]
["94",536,0,8,0,68,53,63,61,789]
["95",222,0,12,31,68,56,10,184,583]
["96",200,8,4,0,70,20,0,151,453]
["97",78,6,0,0,0,91,66,61,302]
["98",314,14,0,0,61,0,0,201,590]
["99",525,0,0,0,61,19,0,66,671]
["100+",508,0,0,0,41,0,0,75,624]
["15-64",{"$nulls":8},{"$f":"SUM(J4:J53)","v":2889605}]
["65+",{"$nulls":8},{"$f":"SUM(J54:J89)","v":254569}]
[]
[]
["P_EG_2_OldAgeDependencyRatio (Reversed)",null,"BASIC","EXTENDED","MISSING"]
[{"$nulls":5},2000,2001,2002,2003,2004,2005,2006,2007,2008,2009,2010,2011,2012,2013,2014,"Standardization","MIN","MAX","TARGET"]
["Metropolitan Refion of Guadalajara","People aged 65 and over",{"$nulls":13},{"$f":"J91","v":254569},{"$nulls":4},"2.2 (ln)",1.07,3.7]
[null,"People aged 15 to 64",{"$nulls":13},{"$f":"J90","v":2889605},{"$nulls":8},"Source: Mexico Census 2010"]
[null,"Old Age Dependecy Ratio","X",{"$nulls":12},{"$f":"100*(P96/P97)","v":8.8098200273047702}]
[null,"Standardized",{"$nulls":13},{"$f":"100*(1-((LN(P98)-$V$96)/($W$96-$V$96)))","v":57.951824657388386}]

{"sheet":"MeanHouseholdIncome","index":5,"n_rows":24,"n_cols":28,"rows_kept":24,"cut":false,"hidden":false,"merged":[[1,3,1,18],[19,1,21,1]]}
[]
[null,null,null,"MEAN HOUSEHOLD INCOME"]
[]
[]
["DIMENSION","SUB-DIMENSION","CODE","INDICATOR","NOTES","BASIC","EXTENDED","MISSING",2000,2001,2002,2003,2004,2005,2006,2007,2008,2009,2010,2011,2012,2013,"Standardization","MIN","MAX","TARGET"]
[null,"Demographic",null,"1. Population",{"$nulls":4},1001020.9,1037318.6,1070944.1000000001,1101897.3999999999,1130178.5,1155790,1178724.1000000001,1198988.6000000001,1216580.8999999999,1231501,1243756,1253324.6000000001,1260228.1000000001,1264459.3999999999]
[null,null,null,"2. Homes/Households",{"$nulls":4},234751.26,244093.84,253055.74,261636.96,269837.5,277657.36,285096.53999999998,292155.04000000004,298832.86,305130,311046.46000000002,316582.24,321737.33999999997,326511.76,{"$nulls":5},"INEGI and GUO ProjectedCalculations"]
[null,null,null,"3. Urban Footprint area",{"$nulls":17},168.78]
[null,null,null,"4. Population in households",{"$nulls":4},987284,{"$nulls":4},1107515,{"$nulls":4},1220612]
[{"$nulls":26},"State and Municipal","PEZ - Zapopan"]
[null,null,"P_EG_3","3. Mean Household Income","Mexican Pesos (MONTHLY)",{"$nulls":11},6497,6017,8518]
[{"$nulls":4},"Mexican Pesos (ANNUAL)",{"$nulls":11},{"$f":"Q11*12","v":77964},{"$f":"R11*12","v":72204},{"$f":"S11*12","v":102216}]
[null,null,null,"PPP conversion factor",{"$nulls":4},7.2195880570000002,7.2195880570000002,7.2195880570000002,7.2195880570000002,7.2195880570000002,7.1268617059999997,7.1691299869999998,7.374892827,7.4695318930000001,7.4445926169999996,7.6507460810000003,7.6730131039999998,7.986972422,7.9962023350000004]
[null,null,null,"Annual MHI (USD PPP)",{"$nulls":12},{"$f":"(Q11/Q13)*12","v":10437.601862716887},{"$f":"(R11/R13)*12","v":9698.8517323459091},{"$f":"(S11/S13)*12","v":13360.265641784275},{"$f":"(T11/T13)*12","v":0},null,null,2.1,6315,44773]
[null,null,null,"Standardized",{"$nulls":12},{"$f":"100*(Q14-$X$14)/($Y$14-$X$14)","v":10.719751060161441},{"$f":"100*(R14-$X$14)/($Y$14-$X$14)","v":8.7988239959069876},{"$f":"100*(S14-$X$14)/($Y$14-$X$14)","v":18.319376051235832}]
[]
[null,null,null,"Trial Calculations"]
[null,null,null,"MHI = City Product/ Households"]
[]
["Productivity Index (P)","1. Economic Growth Sub Index (EG)","P_EG_1","1. City Product per capita",{"$nulls":12},{"$f":"[44]GDP!L18","v":17901.937210131568},{"$f":"[44]GDP!M18","v":17954.117413448974},{"$f":"[44]GDP!N18","v":17651.459167346693},{"$f":"[44]GDP!O18","v":17952.257693545613},{"$f":"[44]GDP!P18","v":17685.784469424445}]
[null,null,null,"City Product"]
[null,null,"P_EG_3","3. Mean Household Income Calc.",{"$nulls":12},{"$f":"(Q20*Q6)/Q7","v":72880.722966160247},{"$f":"(R20*R6)/R7","v":72462.601346245283},{"$f":"(S20*S6)/S7","v":70581.44384006958},{"$f":"(T20*T6)/T7","v":71071.599571915271},{"$f":"(U20*U6)/U7","v":69274.279941868983}]
[null,null,"NOTE:"]
[null,null,null,"State Level (Jalisco)Data"]

{"sheet":"EconomicDensity","index":6,"n_rows":39,"n_cols":28,"rows_kept":39,"cut":false,"hidden":false,"merged":[[1,3,1,18]]}
[]
[null,null,null,"ECONOMIC DENSITY"]
[]
[null,null,null,"DEFINITION: Economic Density is the City Product divided by the city’s area (square kilometers)."]
[null,null,null,"=","City Product/Area"]
[]
[]
["DIMENSION","SUB-DIMENSION","CODE","INDICATOR","NOTES","BASIC","EXTENDED","MISSING",2000,2001,2002,2003,2004,2005,2006,2007,2008,2009,2010,2011,2012,2013,2014,"Standardization","MIN","MAX","TARGET"]
[null,"demographic",null,"1. Population",{"$nulls":4},3699136.000000034,3783094.7600000291,3864745.840000025,3944089.2400000212,4021124.9600000186,4095853.0000000168,4168273.3600000157,4238386.0400000149,4306191.0400000159,4371688.3600000171,4434878.0000000196,4495759.9600000223,4554334.2400000263,4610600.8400000297,4664559.7600000352,{"$nulls":4},"Red is projected data. Projection by GUO"]
[null,null,null,"2. Homes/Households",{"$nulls":23},"INEGI and GUO ProjectedCalculations"]
[null,null,null,"3. Urban Footprint area",{"$nulls":17},168.78]
[]
["Productivity Index (P)","1. Economic Growth Sub Index (EG)","P_EG_1","1. City Product per capita",{"$nulls":12},16767.514922914459,16780.773390010618,16435.698572266174,16625.019412756887,16263.297189968322,null,null,"2.1 (ln)",6.57,11.6]
[null,null,null,"Standardized",{"$nulls":12},{"$f":"100*((LN(Q13)-$Y$13)/($Z$13-$Y$13))","v":62.767368945604794},62.783082881665997,62.369999808204057,62.597694497176917,62.160360671087886]
[null,null,null,"Urban Area(km²) Calculated"]
[null,null,null,"Total Area ",{"$f":"E39","v":2423.2799999999997}]
[{"$nulls":27},"http://www.jalisco.gob.mx/es/jalisco/municipios/zapopan"]
[null,null,null,"GDP (USD PPP)",{"$nulls":12},{"$f":"'CityProductPerCapita '!N7","v":72204122524.120804},{"$f":"'CityProductPerCapita '!O7","v":73360311700.90744},{"$f":"'CityProductPerCapita '!P7","v":72890318012.774979},{"$f":"'CityProductPerCapita '!Q7","v":74742096610.09549},{"$f":"'CityProductPerCapita '!R7","v":74068491247.568939}]
[null,"2. Economic Agglomeration (EA)","P_EA_1","1. Economic Density",{"$nulls":12},{"$f":"Q18/$E$16","v":29796029.564937115},{"$f":"R18/$E$16","v":30273147.015989669},30079197.621725507,30843359.665451579,30565387.098300215]
[null,null,"Normal","Abs[(X-X*)/X*]",{"$nulls":12},{"$f":"ABS((LN(Q19)-$AA$21)/$AA$21)","v":0.10568044981904101},0.10485493002651748,0.10518892544547619,0.10388523390003501,{"$f":"ABS((LN(U19)-$AA$21)/$AA$21)","v":0.10435569032508663},null,null,"3(ln)",null,null,{"$f":"'[44]Economic Density - Benchmark'!H293","v":227.70307802548453},"Benchmark is in Millions"]
[null,null,null,"Standardized",{"$nulls":12},{"$f":"100*(1-Q20)","v":89.431955018095906},89.514506997348249,89.481107455452374,89.611476609996501,89.564430967491333,{"$nulls":5},{"$f":"LN(AA20*1000000)","v":19.243553048841086},"ln(Benchmark)"]
[]
[]
[{"$nulls":23},3,null,null,{"$f":"LN(#REF!)","v":{"$error":"#REF!"}}]
[null,null,"Natural log","Abs[(ln(X)-X**)/X**]",{"$nulls":12},{"$f":"ABS((LN(Q19)-$AA$24)/$AA$24)","v":{"$error":"#REF!"}},{"$error":"#REF!"},{"$error":"#REF!"},{"$error":"#REF!"},{"$error":"#REF!"}]
[null,null,null,"Standardized(ln)",{"$nulls":12},{"$f":"100*(1-Q25)","v":{"$error":"#REF!"}},{"$error":"#REF!"},{"$error":"#REF!"},{"$error":"#REF!"},{"$error":"#REF!"}]
[]
[]
[]
[{"$nulls":4},"Total Area"]
[null,null,"Guadalajara",null,187.91]
[null,null,"Tlaquepaque",null,270.88]
[null,null,"Tonalá",null,119.58]
[null,null,"Zapopan",null,893.15]
[null,null,"Tlajomulco de Zúñiga",null,636.92999999999995]
[null,null,"El Salto",null,41.5]
[null,null,"Juanacatlán",null,89.08]
[null,null,"Ixtlahuacán de los Membrillos",null,184.25]
[{"$nulls":4},{"$f":"SUM(E31:E38)","v":2423.2799999999997}]

{"sheet":"UnemploymentRate","index":7,"n_rows":49,"n_cols":24,"rows_kept":49,"cut":false,"hidden":false,"merged":[[40,0,48,0],[31,0,39,0]]}
[null,"P_E_1_UnemploymentRate (Reversed)"]
[null,null,null,2000,2001,2002,2003,2004,2005,2006,2007,2008,2009,2010,2011,2012,2013,2014,"Standardization","MIN","MAX","TARGET",null,"SOURCE"]
[null,"1. Unemployment Rate (reversed)",{"$nulls":9},{"$f":"100*L15","v":4.4244648968807079},{"$f":"100*M15","v":5.2953963260278734},{"$f":"100*N15","v":6.2568873892705472},5.3058345261280708,{"$f":"100*P15","v":5.5500980595971914},null,null,"2.2 (fourth root)",1,28.2]
[{"$nulls":11},{"$f":"((L3^0.25)-$T$4)/($U$4-$T$4)","v":0.34522879281918195},0.3963143441178259,{"$f":"((N3^0.25)-$T$4)/($U$4-$T$4)","v":0.44584775597423193},{"$f":"((O3^0.25)-$T$4)/($U$4-$T$4)","v":0.39688701145701399},0.41005290417882057,null,null,null,{"$f":"T3^(1/4)","v":1},{"$f":"U3^(1/4)","v":2.3044234027063477}]
[null,"Standardized",{"$nulls":9},{"$f":"100*(1-L4)","v":65.477120718081807},60.368565588217415,55.415224402576804,60.311298854298599,58.994709582117942]
[]
[{"$nulls":18},2.1,0.30499999999999999,0.75]
[null,"2. Employment to Population Ratio",{"$nulls":9},{"$f":"L17","v":0.6531085293799419},0.65998710345073663,{"$f":"N17","v":0.65649457278763013},{"$f":"O17","v":0.66128308645854417},0.63537697726862252]
[null,"Standardized",{"$nulls":9},{"$f":"100*((L8-$T$7)/($U$7-$T$7))","v":78.226635815717287},79.77238279791834,{"$f":"100*((N8-$T$7)/($U$7-$T$7))","v":78.987544446658447},{"$f":"100*((O8-$T$7)/($U$7-$T$7))","v":80.063614934504315},74.2420173637354]
[]
[]
[null,"Unemployed People","People",{"$nulls":8},{"$f":"L49","v":84830},{"$f":"M49","v":105116},{"$f":"N49","v":126616},{"$f":"O49","v":108537},{"$f":"P49","v":110793},{"$nulls":7},"BaseDatos  - ENOE"]
[null,"Employed population","Inhabitants",{"$nulls":8},{"$f":"L40","v":1832464},{"$f":"M40","v":1879929},1897010,1937079,1885442,{"$nulls":7},"BaseDatos - ENOE"]
[null,"Labour Force",{"$nulls":9},{"$f":"L12+L13","v":1917294},{"$f":"M12+M13","v":1985045},2023626,2045616,1996235]
[null,"Unemployment Rate",{"$nulls":9},{"$f":"L12/L14","v":4.4244648968807081E-2},{"$f":"M12/M14","v":5.2953963260278736E-2},6.2568873892705476E-2,5.3058345261280712E-2,5.5500980595971916E-2]
[null,"Working Age PopulationPopulation (15-65)",{"$nulls":9},{"$f":"L27","v":2805757.2632526061},2848432.9317509509,{"$f":"N27","v":2889605},{"$f":"O27","v":2929273.4679997526},2967438.3357502096,{"$nulls":7},"Projected from INEGI data"]
[null,"Employment to Population Ratio",{"$nulls":9},{"$f":"L13/L16","v":0.6531085293799419},{"$f":"M13/M16","v":0.65998710345073663},{"$f":"N13/N16","v":0.65649457278763013},0.66128308645854417,0.63537697726862252]
[]
[]
[]
[null,0]
[null,"Working Age Population(15-64)"]
[null,"Year (000's) ",null,2000,2001,2002,2003,2004,2005,2006,2007,2008,2009,2010,2011,2012,2013,2014]
[null,"Population (Total)",null,3699136.000000034,3783094.7600000291,3864745.840000025,3944089.2400000212,4021124.9600000186,4095853.0000000168,4168273.3600000157,4238386.0400000149,4306191.0400000159,4371688.3600000171,4434878.0000000196,4495759.9600000223,4554334.2400000263,4610600.8400000297,4664559.7600000352]
[null,"Total growth rate",null,1.0226968567795276,1.0215831442720709,1.0205300434452362,1.0195319414222983,1.0185838641532785,1.0176813865146035,1.016820557085536,1.015997834873956,1.015210035827858,1.0144542874048785,1.0137279898116707,1.0130287827911533,1.0123545170457238,1.0117032295513149]
[]
[null,"Population (15-64)",null,2410222.3062911881,2464926.7767839017,2518127.6470273193,2569824.9170214408,2620018.5867662663,2668708.6562617952,2715895.1255080281,2761577.9945049649,2805757.2632526061,2848432.9317509509,2889605,2929273.4679997526,2967438.3357502096,3004099.6032513697,3039257.2705032346]
[]
[]
[null,"Labour Force Numbers"]
[{"$nulls":11},2008,2009,2010,2011,2012]
["Poblacion ocupada","Guadalajara",{"$nulls":9},746953,804101,797733,782481,761914]
[null,"Ixtlahuacán de los Membrillos",{"$nulls":9},16821,13975,14877,16576,14950]
[null,"Juanacatlán"]
[null,"El Salto",{"$nulls":9},56167,62074,61438,46394,40960]
[null,"Tlajomulco de Zúñiga",{"$nulls":9},74224,65231,73821,100244,82875]
[null,"Tlaquepaque",{"$nulls":9},233407,211682,215453,244174,229549]
[null,"Tonalá",{"$nulls":9},153059,160706,161027,157876,159523]
[null,"Zapopan",{"$nulls":9},551833,562160,572661,589334,595671]
[null,"Metropolitan Region",{"$nulls":9},{"$f":"SUM(L32:L39)","v":1832464},{"$f":"SUM(M32:M39)","v":1879929},1897010,1937079,1885442]
["Unemployees","Guadalajara",{"$nulls":9},36376,45711,47896,41652,45348]
[null,"Ixtlahuacán de los Membrillos",{"$nulls":9},1869,559,562,499,598]
[null,"Juanacatlán"]
[null,"El Salto",{"$nulls":9},3421,5994,10156,2426,1016]
[null,"Tlajomulco de Zúñiga",{"$nulls":9},4263,1740,5515,7148,4722]
[null,"Tlaquepaque",{"$nulls":9},9675,11754,17597,14110,17718]
[null,"Tonalá",{"$nulls":9},3831,9825,8290,9224,10644]
[null,"Zapopan",{"$nulls":9},25395,29533,36600,33478,30747,{"$nulls":7}," "]
[null,"Metropolitan Region",{"$nulls":9},{"$f":"SUM(L41:L48)","v":84830},{"$f":"SUM(M41:M48)","v":105116},{"$f":"SUM(N41:N48)","v":126616},108537,110793]

{"sheet":"Working Age","index":8,"n_rows":107,"n_cols":27,"rows_kept":107,"cut":false,"hidden":false,"merged":[]}
[]
["Municipality, Mexico"]
[]
["AGE","Guadalajara","Ixtlahuacan de los Membrillos","Juanacatlan","Salto, El","Tlajomulco de Zuniga","Tlaquepaque","Tonala","Zapopan","Metropolitan Area of Guadlajara"]
["Less than 1 year",21323,861,304,3091,9741,11733,8692,19335,{"$f":"SUM(B5:I5)","v":75080},null,"Working Age Population 2010 (15-64)"]
["1 year",22059,837,261,2811,9128,12878,10852,19238,{"$f":"SUM(B6:I6)","v":78064},null,{"$f":"SUM(J20:J69)","v":2889605}]
["2 years",24616,1036,250,3044,9500,12759,8847,24508,84560]
["3",23048,975,303,3360,9344,12489,9948,21106,80573,null,"Year (000's) ",2000,2001,2002,2003,2004,2005,2006,2007,2008,2009,2010,2011,2012,2013,2014]
["4",24697,833,280,3511,8515,11950,10471,21456,81713,null,"Population (Total)",3699136.000000034,3783094.7600000291,3864745.840000025,3944089.2400000212,4021124.9600000186,4095853.0000000168,4168273.3600000157,4238386.0400000149,4306191.0400000159,4371688.3600000171,4434878.0000000196,4495759.9600000223,4554334.2400000263,4610600.8400000297,4664559.7600000352]
["5",24214,961,331,3211,9586,13052,10509,24166,86030,null,"Total growth rate",{"$f":"N9/M9","v":1.0226968567795276},1.0215831442720709,1.0205300434452362,1.0195319414222983,1.0185838641532785,1.0176813865146035,1.016820557085536,1.015997834873956,1.015210035827858,1.0144542874048785,1.0137279898116707,1.0130287827911533,1.0123545170457238,1.0117032295513149]
["6",25328,774,265,2822,9243,11877,10611,23813,84733]
["7",23055,884,323,3410,8660,12649,11554,19502,80037,null,"Population (15-64)",{"$f":"N12/M10","v":2410222.3062911881},2464926.7767839017,2518127.6470273193,2569824.9170214408,2620018.5867662663,2668708.6562617952,2715895.1255080281,2761577.9945049649,2805757.2632526061,2848432.9317509509,{"$f":"L6","v":2889605},{"$f":"W12*W10","v":2929273.4679997526},{"$f":"X12*X10","v":2967438.3357502096},{"$f":"Y12*Y10","v":3004099.6032513697},{"$f":"Z12*Z10","v":3039257.2705032346}]
["8",24593,829,243,3125,9571,12996,11640,21115,84112]
["9",26355,859,298,2793,17203,13320,11140,24490,96458]
["10",26882,922,290,2869,8445,13305,10962,23557,87232]
["11",25842,955,264,2707,6764,12569,10404,23564,83069]
["12",25016,728,297,2936,15193,13912,11480,23956,93518]
["13",23796,988,239,3032,7061,14289,10481,24752,84638]
["14",27353,921,219,2818,7147,11896,11127,22408,83889]
["15",26404,761,250,3333,5993,12992,10046,24859,84638]
["16",25923,802,260,2847,13563,10909,9769,20789,84862]
["17",28143,883,282,2940,14555,13594,9974,27135,97506]
["18",29139,940,296,3094,6279,13004,9238,26426,88416]
["19",26286,811,247,2822,5720,15365,10305,25594,87150]
["20",29973,667,258,2358,6760,11396,7829,24428,83669]
["21",26701,744,268,2778,13311,11796,8542,22969,87109]
["22",27179,720,283,2533,5147,11806,8225,22493,78386]
["23",27346,796,247,2182,6106,10033,7754,22984,77448]
["24",26469,657,215,2751,5762,9821,6960,21894,74529]
["25",27038,787,135,1934,6151,10343,7517,24838,78743]
["26",25280,752,240,1883,5869,9745,6633,21829,72231]
["27",25542,628,191,2345,6804,9308,6718,22631,74167]
["28",23810,616,200,2291,6562,9175,8226,23484,74364]
["29",21220,541,152,2074,6761,8673,6854,20740,67015]
["30",25294,738,235,2768,9301,10446,7741,21329,77852]
["31",17205,579,179,1455,7549,8674,5164,15780,56585]
["32",22593,601,207,2329,8131,9386,6827,20255,70329]
["33",21707,636,229,2146,6990,8734,6788,16701,63931]
["34",20927,573,174,2068,7275,7818,7889,16214,62938]
["35",20520,621,220,2403,7062,9820,7528,18373,66547]
["36",20117,640,201,2162,13732,11853,7482,18974,75161]
["37",20352,602,202,2303,6655,9839,6787,18664,65404]
["38",22648,638,162,1929,7073,9928,8659,20399,71436]
["39",22263,579,185,1655,4522,8173,6718,18583,62678]
["40",23178,540,157,2162,5207,10896,8074,21914,72128]
["41",15985,343,124,1336,3740,7674,5887,16267,51356]
["42",21059,688,143,1860,4955,9078,7450,19489,64722]
["43",20008,440,122,1485,10136,6088,4494,15174,57947]
["44",17025,361,137,1430,2943,5714,4609,13888,46107]
["45",18855,504,139,1639,3567,7544,5567,16484,54299]
["46",15858,332,99,1304,3049,5924,4454,16718,47738]
["47",17059,317,112,1178,2326,4631,4155,14392,44170]
["48",18775,309,143,1394,3653,5068,4894,13105,47341]
["49",15361,391,128,1002,2097,5797,3960,11533,40269]
["50",20284,426,153,1576,3162,6760,5081,13541,50983]
["51",11896,195,57,662,1526,4694,3187,12217,34434]
["52",18278,397,170,1194,2353,4536,3311,11901,42140]
["53",15364,268,105,817,2458,3527,4520,10619,37678]
["54",14280,297,99,1002,1753,4812,3256,11263,36762]
["55",15894,241,130,1080,2075,4839,2829,10891,37979]
["56",12056,325,107,679,1699,3299,2991,10673,31829]
["57",12730,218,89,740,1251,3594,2279,6990,27891]
["58",13545,194,80,448,1777,2800,1885,7389,28118]
["59",10173,189,125,675,1786,2827,1935,8744,26454]
["60",16072,337,97,680,1920,4157,2108,9366,34737]
["61",8883,200,71,485,952,2837,1095,6165,20688]
["62",11628,201,86,433,986,2580,1841,6869,24624]
["63",12145,233,109,493,687,3455,1320,6506,24948]
["64",8934,218,61,404,1215,2789,1271,6277,21169]
["65",10404,306,51,638,897,2280,2592,8059,{"$f":"SUM(B70:I70)","v":25227}]
["66",7959,167,58,345,489,5086,1046,4752,19902]
["67",8262,192,42,271,600,1810,899,5194,17270]
["68",8115,145,67,388,1223,1656,859,4554,17007]
["69",6693,189,66,287,1028,1556,1841,3041,14701]
["70",9339,179,36,605,1215,2107,1108,4882,19471]
["71",5407,125,28,122,420,826,301,2274,9503]
["72",7227,76,52,416,1037,1835,843,3272,14758]
["73",6026,78,47,181,305,1097,1093,2580,11407]
["74",6007,55,44,303,722,882,576,1960,10549]
["75",5744,117,34,308,122,1107,771,2512,10715]
["76",5066,65,39,303,183,1126,278,2343,9403]
["77",5443,69,34,91,431,510,324,1330,8232]
["78",4241,56,40,121,258,626,544,2818,8704]
["79",2845,71,44,148,136,927,646,1318,6135]
["80",4350,48,42,211,346,1034,332,1909,8272]
["81",2011,36,10,219,68,295,226,826,3691]
["82",2656,48,14,30,131,323,253,1468,4923]
["83",3210,72,16,60,129,169,340,1176,5172]
["84",2854,55,25,90,197,440,279,1285,5225]
["85",2363,30,26,60,322,191,267,1137,4396]
["86",2084,16,30,60,61,379,53,501,3184]
["87",1525,30,12,146,136,631,345,973,3798]
["88",1297,0,12,30,61,89,90,657,2236]
["89",1162,16,21,31,68,115,322,932,2667]
["90",1025,16,24,0,0,103,25,356,1549]
["91",258,17,4,0,61,16,29,146,531]
["92",577,25,7,61,61,114,71,344,1260]
["93",326,8,13,0,0,83,26,213,669]
["94",536,0,8,0,68,53,63,61,789]
["95",222,0,12,31,68,56,10,184,583]
["96",200,8,4,0,70,20,0,151,453]
["97",78,6,0,0,0,91,66,61,302]
["98",314,14,0,0,61,0,0,201,590]
["99",525,0,0,0,61,19,0,66,671]
["100+",508,0,0,0,41,0,0,75,624]
["Not reported/missing",777,6,0,60,122,208,207,1182,2562]
["TOTAL",1491217,41180,13490,136697,417205,608085,464069,1238499,4410442]

{"sheet":"EconomicSpecialization ","index":9,"n_rows":68,"n_cols":24,"rows_kept":68,"cut":false,"hidden":false,"merged":[[1,0,1,23],[2,0,2,23],[3,0,3,23],[4,0,4,22],[67,0,67,22],[5,0,5,22],[7,0,7,22],[58,0,58,22],[60,0,60,22],[66,0,66,22]]}
["P_EA_2_EconomicSpecialization "]
["Jalisco"]
["Ocupación "]
["Employment in the manufacturing sector by sub-sector"]
["( Number of persons )"]
[]
["Period","Total manufacturing","311 Food Industry","312 Beverage industry and snuff","313 Manufacture of textiles and textile finishing supplies","314 Manufacture of textiles, except apparel","315 Manufacture of wearing apparel","316 Tanning and leather finishing leather and manufacture of leather and leather substitute materials","321 Timber Industry","322 Paper Industry","323 Printing and related industries","324 Manufacture of petroleum and coal","325 Chemical Industry","326 industry Plastic and rubber","327 Manufacture of products made of non-metallic minerals","331 Basic metal industries","332 Manufacture of metal products","333 Manufacture of machinery and equipment","334 Manufacture of computer, communication, and other measurement equipment, electronic components and accessories","335 Manufacture of accessories, electrical appliances and equipment for generating electricity","336 Manufacture of transport equipment","337 Manufacture of furniture, mattresses and blinds","339 Other manufacturing"," "]
[2012]
["Enero",193079,43176,15631,1512,636,2973,8104,780,3980,2444,1401,16530,13845,3831,2794,11058,3444,37982,2003,13504,3246,4205]
["Febrero",193385,42933,15693,1530,633,3085,8428,786,3966,2415,1353,16790,14001,3912,2758,11321,3437,37119,1978,13778,3252,4217]
["Marzo",194640,42662,15743,1541,627,2968,8553,800,3841,2445,1364,16827,14054,3981,2755,11395,3407,38026,2003,13943,3254,4451]
["Abril",196472,42772,15893,1545,599,2939,8595,854,3805,2525,1378,16928,14296,3926,2746,11593,3459,38183,2019,15070,3203,4144]
["Mayo",196758,42255,15894,1564,611,2809,8972,859,3871,2272,1378,17379,14281,3979,2784,11657,3473,37907,2052,15337,3278,4146]
["Junio",197153,42059,15907,1608,592,2844,8874,909,3883,2105,1379,16717,14492,3996,2753,11695,3447,39121,1975,15306,3306,4185]
["Julio",195581,41554,16037,1614,642,2703,8838,915,3960,2038,1384,15864,14365,4046,2698,11779,3401,38863,1998,15422,3269,4191]
["Agosto",195274,41912,16043,1606,662,2752,8689,880,3937,2148,1387,14790,14116,3999,2758,11963,3365,39232,1975,15484,3362,4214]
["Septiembre",194989,41862,16118,1601,657,2745,8563,882,3940,2310,1389,14087,14114,3966,2617,11988,3384,39692,1944,15650,3348,4132]
["Octubre",196548,41871,16135,1593,659,2732,8501,882,3963,2246,1397,14449,13951,3961,2632,11821,3388,41067,1946,15838,3354,4162]
["Noviembre",196702,42733,16001,1595,678,2682,8193,864,3969,2343,1407,14104,13906,4011,2681,11773,3421,41164,1947,15628,3401,4201]
["Diciembre",196827,43325,15915,1584,652,2742,8296,851,3971,2063,1392,13814,13909,4000,2610,11850,3416,41116,1953,15867,3408,4093]
[]
["calculations for the H index"]
["Average",{"$f":"AVERAGE(B9:B20)","v":195617.33333333334},42426.166666666664,15917.5,1574.4166666666667,637.33333333333337,2831.1666666666665,8550.5,855.16666666666663,3923.8333333333335,2279.5,1384.0833333333333,15689.916666666666,14110.833333333334,3967.3333333333335,2715.5,11657.75,3420.1666666666665,39122.666666666664,1982.75,15068.916666666666,3306.75,4195.083333333333]
["s ",null,{"$f":"C23/$B$14","v":0.21519412165509358},8.0736788179738575E-2,7.9857606359866034E-3,3.2326839223006162E-3,1.4360251513629853E-2,4.3369870100886117E-2,4.3375787670827566E-3,1.9902478447364907E-2,1.1562086298458557E-2,7.0203513683957802E-3,7.9582439357588602E-2,7.1573008441836214E-2,2.0123119269467537E-2,1.3773566722291825E-2,5.9130472272803353E-2,1.7347778966927546E-2,0.19843809968231102,1.0056910115494058E-2,7.6432601414468282E-2,1.677250663190517E-2,2.1278313458751998E-2]
["S^2",null,{"$f":"(C24)^2","v":4.6308509994907217E-2},6.5184289655799742E-3,6.3772372935273156E-5,1.0450245341500896E-5,2.0621682353470848E-4,1.8809456325677356E-3,1.8814589560647168E-5,3.9610864834782464E-4,1.336818395730031E-4,4.9285333335736502E-5,6.3333646541042675E-3,5.1226955374151575E-3,4.0493992913321567E-4,1.8971114025342475E-4,3.4964127512047659E-3,3.0094543508537376E-4,3.9377679405526805E-2,1.011414410711267E-4,5.841942558982979E-3,2.8131697871730294E-4,4.5276662364890645E-4]
["H",{"$f":"SUM(C25:W25)","v":0.11748913090082695}]
["H*",{"$f":"(B26-1/21)/(1-1/21)","v":7.3363587445868308E-2}," "]
["X*",{"$f":"(0.25-1/21)/(1-1/21)","v":0.21250000000000002}]
["Abs",{"$f":"ABS((B27-B28)/B28)","v":0.65475958849003157}]
["H*s",{"$f":"100*(1-B29)","v":34.524041150996844},2012]
[]
["Period","Total manufacturing","311 Food Industry","312 Beverage industry and snuff","313 Manufacture of textiles and textile finishing supplies","314 Manufacture of textiles, except apparel","315 Manufacture of wearing apparel","316 Tanning and leather finishing leather and manufacture of leather and leather substitute materials","321 Timber Industry","322 Paper Industry","323 Printing and related industries","324 Manufacture of petroleum and coal","325 Chemical Industry","326 industry Plastic and rubber","327 Manufacture of products made of non-metallic minerals","331 Basic metal industries","332 Manufacture of metal products","333 Manufacture of machinery and equipment","334 Manufacture of computer, communication, and other measurement equipment, electronic components and accessories","335 Manufacture of accessories, electrical appliances and equipment for generating electricity","336 Manufacture of transport equipment","337 Manufacture of furniture, mattresses and blinds","339 Other manufacturing"," "]
[2013]
["Enero",194327,42966,15860,1584,692,2589,8123,724,3882,1555,1413,14120,13960,3783,2638,11929,3348,40124,1974,15776,3351,3936]
["Febrero",193544,42708,15792,1577,684,2662,8147,726,3873,1529,1335,14065,14138,3751,2648,12020,3388,39380,1995,15880,3331,3915]
["Marzo",195696,42634,15717,1585,676,2593,8558,717,3830,1552,1326,14117,13987,3660,2687,12057,3429,41076,2027,16294,3238,3936]
["Abril",195589,42454,15592,1556,649,2593,8146,698,3816,1512,1311,14161,14336,3665,2694,12096,3424,40959,2023,16662,3256,3986]
["Mayo",198021,42528,15653,1559,659,2503,8169,691,3912,1542,1354,14489,14489,3681,2717,12028,3439,42510,2033,16800,3251,4014]
["Junio",198047,42011,15570,1562,651,2365,7975,704,3929,1309,1387,14349,14656,3685,2717,11806,3447,43685,2059,16890,3235,4055]
["Julio",196924,41890,15446,1531,655,2370,7666,679,3923,1349,1391,14506,14496,3611,2689,11698,3505,43024,2068,17119,3244,4064]
["Agosto",196202,42486,15416,1543,644,2399,7789,695,3972,1335,1384,12455,14447,3569,2691,11673,3486,43690,2057,17171,3247,4053]
["Septiembre",196798,43019,15241,1550,682,1933,7623,694,4051,1320,1364,14767,14403,3573,2676,11452,3385,41870,2112,17777,3254,4052]
["Octubre",195586,42981,14886,1565,680,2153,7719,701,4053,1269,1364,14462,14396,3640,2685,11453,3543,40629,2083,18054,3269,4001]
["Noviembre",194720,43443,14845,1550,667,1790,7767,696,3768,1223,1462,14401,14358,3699,2686,11338,3478,39679,2090,18402,3356,4022]
["Diciembre",194907,44142,14134,1591,653,1821,7740,634,3730,1226,1447,14343,14295,3692,2655,11270,3553,40077,2091,18353,3332,4128]
[]
[]
[]
["calculations for the H index"]
["Average",{"$f":"AVERAGE(B34:B45)","v":195863.41666666666},42771.833333333336,15346,1562.75,666,2314.25,7951.833333333333,696.58333333333337,3894.9166666666665,1393.4166666666667,1378.1666666666667,14186.25,14330.083333333334,3667.4166666666665,2681.9166666666665,11735,3452.0833333333335,41391.916666666664,2051,17098.166666666668,3280.3333333333335,4013.5]
["S",null,{"$f":"C50/$B$41","v":0.2179989670509645},{"$f":"D50/$B$41","v":7.8215308712449416E-2},7.9650054535631652E-3,3.3944608107970356E-3,1.1795241638719279E-2,4.052880874472907E-2,3.5503375772588117E-3,1.9851564544024355E-2,7.1019493515186733E-3,7.0242233344546268E-3,7.230430882457875E-2,7.3037396832516158E-2,1.8692045273068912E-2,1.3669160694930054E-2,5.9810807229284106E-2,1.7594536922831232E-2,0.21096582433750249,1.0453512196613694E-2,8.7145730760474757E-2,1.6719163583109924E-2,2.0455958654855711E-2]
["S^2",null,{"$f":"(C51)^2","v":4.7523549635287508E-2},{"$f":"(D51)^2","v":6.117634516983766E-3},6.3441311875290965E-5,1.1522364196036868E-5,1.3912772531577704E-4,1.6425843382668274E-3,1.2604896912495969E-5,3.9408461484556493E-4,5.0437684591536507E-5,4.9339713452296878E-5,5.2279130746000569E-3,5.334461336070441E-3,3.4939255649045785E-4,1.8684595410382068E-4,3.5773326614185839E-3,3.0956772952887152E-4,4.450657903840196E-2,1.0927591724475126E-4,7.5943783897771565E-3,2.7953043091878904E-4,4.1844624448916627E-4]
["H",{"$f":"SUM(C52:W52)","v":0.12389805013477115}]
["H*",{"$f":"((B53-1/21)/(1-1/21))","v":8.0092952641509715E-2}]
["X*",{"$f":"(0.25-1/21)/(1-1/21)","v":0.21250000000000002}]
["Abs",{"$f":"ABS((B54-B55)/B55)","v":0.62309198756936601}," "]
["H*s",{"$f":"100*(1-B56)","v":37.690801243063397},2013]
[]
[2014]
[]
[]
["Nota:","Los datos corresponden al tamaño de la muestra (sin expandir) de la Encuesta Mensual de la Industria Manufacturera (EMIM) en la entidad es decir 880 establecimientos que, de acuerdo al año en que fue diseñada (2008) generaron el 84.37 %, aproximadamente del valor de los ingresos. La EMIM ahora incluye las actividades relativas a las maquiladoras de exportación en virtud de que es un estudio integral del sector manufacturero. Estimado usuario: los datos de la anterior Encuesta Industrial Mensual Ampliada (EIMA) por entidad federativa los puede usted seguir consultando en el Banco de Información Económica BIE en el apartado temático: \"Series que ya no se actualizan/sector Manufacturero/Encuesta Industrial Mensual Ampliada (SCIAN 2002)\"."]
["P","Preliminary figures from the date shown."]
["R","Revised figures from the date shown."]
["Fuente:","INEGI. Encuesta Mensual de la Industria Manufacturera."]
[]
["source: http://www.inegi.org.mx/sistemas/bie/CuadrosEstadisticos/GeneraCuadro.aspx?s=est&nc=1045&e=14&c=29325"]
["Fecha de actualización: Viernes, 17 de octubre de 2014"]

{"sheet":"INFRASTRUCTURE","index":10,"n_rows":81,"n_cols":32,"rows_kept":81,"cut":false,"hidden":false,"merged":[[7,2,7,20]]}
[null,"NOTE:"]
[null,"CPI Calculated Using Latest Years of Informatiion"]
[null,null,"Sub Index values"]
[null,null,"Missing data"]
[null,null,"Stale level Data (JALISCO)"]
[null,null,"Country Level Data (MEXICO)"]
[]
[null,null,"INFRASTRUCTURE INDEX"]
[]
[{"$nulls":7},"BASIC","EXTENDED"]
[{"$nulls":7},{"$f":"GEOMEAN(H17,H36,H43,H53,H69)","v":52.243766504568207},{"$f":"GEOMEAN(I17,I36,I43,I53,I69)","v":49.259666806480077}]
["DIMENSION","CODE","INDICATOR","NOTES","BASIC","EXTENDED","MISSING",null,null,"Year",2000,2001,2002,2003,2004,2005,2006,2007,2008,2009,2010,2011,2012,2013,2014,"Standardization","MIN","MAX","TARGET","NOTES/SOURCES"]
[null,"demographic","1. Population",{"$nulls":7},{"$f":"Physicians!H5","v":3699136.000000034},{"$f":"Physicians!I5","v":3783094.7600000291},{"$f":"Physicians!J5","v":3864745.840000025},{"$f":"Physicians!K5","v":3944089.2400000212},{"$f":"Physicians!L5","v":4021124.9600000186},{"$f":"Physicians!M5","v":4095853.0000000168},{"$f":"Physicians!N5","v":4168273.3600000157},{"$f":"Physicians!O5","v":4238386.0400000149},{"$f":"Physicians!P5","v":4306191.0400000159},{"$f":"Physicians!Q5","v":4371688.3600000171},{"$f":"Physicians!R5","v":4434878.0000000196},{"$f":"Physicians!S5","v":4495759.9600000223},{"$f":"Physicians!T5","v":4554334.2400000263},{"$f":"Physicians!U5","v":4610600.8400000297},{"$f":"Physicians!V5","v":4664559.7600000352},{"$nulls":4},"RED: Projected data"]
[null,null,"2. Homes/Households",{"$nulls":26},"INEGI "]
[null,null,"3. Urban Footprint area"]
[null,null,"4. Population in households"]
[null,null,"1. Housing Infrastructure Sub Index (HI)",{"$nulls":4},{"$f":"AVERAGE(U19,U22)","v":92.253836374125996},{"$f":"AVERAGE(U19,U22,U25,U28,U31,X34)","v":89.227584730994352}]
[null,"ID_HI_1","1. Improved Shelter","%","X",{"$nulls":4},2010,{"$nulls":10},{"$f":"'Access To Services'!F14","v":0.97372609797474186},{"$nulls":4},2.1,0.85,0.98]
[null,null,"Standardized",{"$nulls":17},{"$f":"100*((U18-$AA$18)/($AB$18-$AA$18))","v":95.173921519032206}]
[]
[null,"ID_HI_2","2. Access to Improved Water","%","X",{"$nulls":4},2010,{"$nulls":10},{"$f":"'Access To Services'!D14","v":0.94666875614609891},{"$nulls":4},2.1,0.5,1]
[null,null,"Standardized",{"$nulls":17},{"$f":"100*((U21-$AA$21)/($AB$21-$AA$21))","v":89.333751229219786}]
[]
[null,"ID_HI_3","3. Access to Improved Sanitation","%",null,"X",null,null,null,2010,{"$nulls":10},{"$f":"'Access To Services'!H14","v":0.97992876350976621},{"$nulls":4},2.1,0.15,1]
[null,null,"Standardized",{"$nulls":17},{"$f":"100*((U24-$AA$24)/($AB$24-$AA$24))","v":97.638678059972491}]
[]
[null,"ID_HI_4","4. Access to Electricity","%",null,"X",null,null,null,2010,{"$nulls":10},{"$f":"'Access To Services'!L14","v":0.99315169306739459},{"$nulls":4},2.1,7.0000000000000007E-2,1]
[null,null,"Standardized",{"$nulls":17},{"$f":"100*((U27-$AA$27)/($AB$27-$AA$27))","v":99.263622910472549}]
[]
[null,"ID_HI_5","5. Sufficient Living Area ","%",null,"X",null,null,null,2010,{"$nulls":10},{"$f":"'[45]Sufficient Living Area'!S7","v":0.96752151967662881},{"$nulls":4},"2.1 (third root)",2.5000000000000001E-2,0.57799999999999996]
[null,null,"Standardized",{"$nulls":17},{"$f":"'[45]Sufficient Living Area'!S9","v":95.620491466555961}]
[]
[null,"ID_HI_6","6. Residential Density","People/km2",null,"X",null,null,null,2013,{"$nulls":13},{"$f":"'[45]Residential Density'!V10","v":8750.2564801069675},null,5,null,null,15000]
[null,null,"Standardized",{"$nulls":20},{"$f":"'[45]Residential Density'!V14","v":58.335043200713123}]
[]
[null,null,"2. Social Infrastructure (SI)",{"$nulls":4},{"$f":"AVERAGE(W38)","v":23.27071980443451},{"$f":"AVERAGE(W38,V41)","v":17.355034872205106}]
[null,"ID_SI_1 ","1. Physicians Density","# / 1,000 people","X",{"$nulls":4},2012,{"$nulls":8},{"$f":"Physicians!P17","v":0.69086577264347027},{"$f":"Physicians!Q17","v":0.70933692995444619},{"$f":"Physicians!R17","v":0.58716384080914708},{"$f":"Physicians!S17","v":0.60545937154526963},{"$f":"Physicians!T17","v":0.52367697984326822},null,null,"2.1  (square root)",0.1,2.78,null,"SSA (SINAIS)"]
[null,null,"Standardized",{"$nulls":15},{"$f":"Physicians!P18","v":27.282961075124142},{"$f":"Physicians!Q18","v":27.694829318189935},{"$f":"Physicians!R18","v":24.860677924757873},{"$f":"Physicians!S18","v":25.302712630077146},{"$f":"Physicians!T18","v":23.27071980443451}]
[]
[null,"ID_SI_2","2. Number of Public Libraries","# / 100,000 people",null,"X",null,null,null,2011,null,{"$f":"Libraries!D21","v":0.97803524223643068},{"$f":"Libraries!E21","v":0.93149721845614997},{"$f":"Libraries!F21","v":0.88740385600402416},{"$f":"Libraries!G21","v":0.87040319184708537},{"$f":"Libraries!H21","v":0.83010791647063176},{"$f":"Libraries!I21","v":0.88765771350465994},{"$f":"Libraries!J21","v":0.87297380773743471},{"$f":"Libraries!K21","v":0.85922801975826568},{"$f":"Libraries!L21","v":0.84635493093565006},{"$f":"Libraries!M21","v":0.83429577995155313},{"$f":"Libraries!N21","v":0.80075449579829927},null,null,null,2.1,0,7,null,"https://seplan.app.jalisco.gob.mx/mide/panelCiudadano/index"]
[null,null,"Standardized",{"$nulls":8},{"$f":"Libraries!D23","v":13.971932031949009},{"$f":"Libraries!E23","v":13.307103120802141},{"$f":"Libraries!F23","v":12.677197942914631},{"$f":"Libraries!G23","v":12.43433131210122},{"$f":"Libraries!H23","v":11.858684521009025},{"$f":"Libraries!I23","v":12.680824478638},{"$f":"Libraries!J23","v":12.471054396249068},{"$f":"Libraries!K23","v":12.274685996546653},{"$f":"Libraries!L23","v":12.090784727652144},{"$f":"Libraries!M23","v":11.918511142165045},{"$f":"Libraries!N23","v":11.439349939975703}]
[]
[null,null,"3. ICT Sub Index (ICT)",{"$nulls":4},{"$f":"AVERAGE(U45)","v":34.427459552537307},{"$f":"AVERAGE(U45,W48,Y51)","v":45.861360648895136}]
[null,"ID_ICT_1","1. Internet Access","%","X",{"$nulls":4},2010,{"$nulls":10},{"$f":"'Internet and Computer access'!E8","v":0.34427459552537304},{"$nulls":4},1.1000000000000001,0,1,null,"Mexico Census 2010","Calculated from 2010 Mexico Census"]
[null,null,"Standardized",{"$nulls":17},{"$f":"U44*100","v":34.427459552537307}]
[]
[null,"ID_ICT_2 ","2. Home Computer Access","%",null,"X",null,null,null,2012,{"$nulls":8},{"$f":"'Internet and Computer access'!C5","v":0.32048240300866127},{"$f":"'Internet and Computer access'!D5","v":0.340787924771489},{"$f":"'Internet and Computer access'!E5","v":0.36158568326696167},{"$f":"'Internet and Computer access'!F5","v":0.35320120690221363},{"$f":"'Internet and Computer access'!G5","v":0.43984009857477724},null,null,1.1000000000000001,0,1,null,"MCS (CONEVAL)","Calculated from 2010 Mexico Census"]
[null,null,"Standardized",{"$nulls":15},{"$f":"S47*100","v":32.048240300866127},{"$f":"T47*100","v":34.078792477148902},36.158568326696169,35.320120690221366,43.984009857477723]
[]
[null,"ID_ICT_3","3. Average broadband speed","Mbps",null,"X",null,null,null,2014,{"$nulls":10},{"$f":"'Broadband speed'!P125","v":4.5391666666666666},{"$f":"'Broadband speed'!Q125","v":6.078333333333334},{"$f":"'Broadband speed'!R125","v":7.7566666666666668},{"$f":"'Broadband speed'!S125","v":8.9949999999999992},{"$f":"'Broadband speed'!T125","v":11.138333333333334},2.1,0.6,"Yearly Global average",null,"http://explorer.netindex.com/maps"]
[null,null,"Standardized",{"$nulls":17},{"$f":"'Broadband speed'!R126","v":14.511943575753545},{"$f":"'Broadband speed'!S126","v":25.185295480113833},{"$f":"'Broadband speed'!T126","v":35.822733331827109},{"$f":"'Broadband speed'!U126","v":63.8602186744357},{"$f":"'Broadband speed'!V126","v":59.172612536670385},{"$nulls":4},"NOTE: There is no data available for Ixtlahuacan and Juanacatlan"]
[]
[null,null,"4. Urban Mobility Sub Index (UM)",{"$nulls":4},{"$f":"AVERAGE(R55,R58)","v":69.880804127379463},{"$f":"AVERAGE(R55,R58,Y61,W64,W67)","v":54.196408813294909}]
[null,"ID_UM_1","1. Use of Public Transport","%","X",{"$nulls":4},2007,{"$nulls":7},{"$f":"'Urban Mobility'!P10","v":28.3},{"$nulls":7},2.1,5.9499999999999997E-2,0.62160000000000004,null,null,null,"Desplazamiento segun modo de transporte"]
[null,null,"Standardized",{"$nulls":14},{"$f":"'Urban Mobility'!P11","v":39.761608254758933}]
[]
[null,"ID_UM_2","2. Average Daily Travel Time (reversed)","minutes (min.)","X",{"$nulls":4},2007,{"$nulls":7},{"$f":"'Urban Mobility'!P13","v":28.265999999999998},{"$nulls":7},4,null,null,30,null,null,"Duración promedio de desplazamientos por motivo y medio de transporte de la “movilidad obligada\". Total de desplazamientos"]
[null,null,"Standardized",{"$nulls":14},{"$f":"'Urban Mobility'!P15","v":100}]
[]
[null,"ID_UM_3","3. Length of Mass Transport Network","km / 1,000,000 people",null,"X",null,null,null,2014,{"$f":"'Urban Mobility'!I18","v":6.4880015225176306},{"$f":"'Urban Mobility'!J18","v":6.344012382074145},{"$f":"'Urban Mobility'!K18","v":6.209981456374333},{"$f":"'Urban Mobility'!L18","v":6.0850550125990228},{"$f":"'Urban Mobility'!M18","v":5.9684790298085861},{"$f":"'Urban Mobility'!N18","v":5.8595852927338701},{"$f":"'Urban Mobility'!O18","v":5.7577797632734695},{"$f":"'Urban Mobility'!P18","v":5.6625328069455216},{"$f":"'Urban Mobility'!Q18","v":5.5733709389725341},{"$f":"'Urban Mobility'!R18","v":9.1497830371421625},{"$f":"'Urban Mobility'!S18","v":9.0194138373140866},{"$f":"'Urban Mobility'!T18","v":8.8972721755366582},{"$f":"'Urban Mobility'!U18","v":8.7828424292372027},{"$f":"'Urban Mobility'!V18","v":8.6756588540420552},{"$f":"'Urban Mobility'!W18","v":8.5753001479392985},3,null,null,80]
[null,null,"Standardized",{"$nulls":7},{"$f":"'Urban Mobility'!I21","v":8.1100019031470456},{"$f":"'Urban Mobility'!J21","v":7.9300154775926774},{"$f":"'Urban Mobility'!K21","v":7.7624768204679224},{"$f":"'Urban Mobility'!L21","v":7.606318765748787},{"$f":"'Urban Mobility'!M21","v":7.4605987872607411},{"$f":"'Urban Mobility'!N21","v":7.3244816159173336},{"$f":"'Urban Mobility'!O21","v":7.1972247040918429},{"$f":"'Urban Mobility'!P21","v":7.0781660086818965},{"$f":"'Urban Mobility'!Q21","v":6.9667136737156632},{"$f":"'Urban Mobility'!R21","v":11.4372287964277},{"$f":"'Urban Mobility'!S21","v":11.274267296642615},{"$f":"'Urban Mobility'!T21","v":11.121590219420819},{"$f":"'Urban Mobility'!U21","v":10.978553036546511},{"$f":"'Urban Mobility'!V21","v":10.844573567552573},{"$f":"'Urban Mobility'!W21","v":10.719125184924128}]
[]
[null,"ID_UM_4","4. Traffic Fatalities (reversed)","# / 100,000 people",null,"X",null,null,null,2012,{"$nulls":8},{"$f":"'Urban Mobility'!Q24","v":2.9724645007853514},{"$f":"'Urban Mobility'!R24","v":2.8135582839212154},{"$f":"'Urban Mobility'!S24","v":2.9538580317203635},{"$f":"'Urban Mobility'!T24","v":2.6691816526609977},{"$f":"'Urban Mobility'!U24","v":2.6787669409173467},null,null,2.2000000000000002,1,31,null,"SINAIS (IMCO Data base)"]
[null,null,"Standardized",{"$nulls":15},{"$f":"'Urban Mobility'!Q25","v":93.425118330715492},{"$f":"'Urban Mobility'!R25","v":93.954805720262613},{"$f":"'Urban Mobility'!S25","v":93.487139894265454},{"$f":"'Urban Mobility'!T25","v":94.436061157796672},{"$f":"'Urban Mobility'!U25","v":94.404110196942185}]
[]
[null,"ID_UM_5","5. Affordability of Transport (reversed)","%",null,"X",null,null,null,2012,{"$nulls":12},{"$f":"'Affordability Transp.'!U18","v":20.258615905433157},null,null,2.2000000000000002,0.04,0.26]
[null,null,"Standardized",{"$nulls":19},{"$f":"'Affordability Transp.'!U20","v":26.097200429849288}]
[]
[null,null,"5. Street Connectivity (SC)",{"$nulls":4},{"$f":"AVERAGE(Y73,Y78,Y81)","v":75.355555555555554},{"$f":"AVERAGE(Y73,Y78,Y81)","v":75.355555555555554}]
[null,"ID_SC_1","1. Street Intersection Density","# / km2","X",{"$nulls":4},2014,{"$nulls":14},{"$f":"'Street Connectivity'!H18","v":110.87},3,null,null,100]
[null,null,"Calculations:",{"$nulls":21},{"$f":"ABS((Y70-$AC$70)/$AC$70)","v":0.10870000000000005}]
[{"$nulls":24},{"$f":"100*(1-Y71)","v":89.13}]
[null,null,"Standardized (If condition (Stnd 3.0))",{"$nulls":21},{"$f":"IF(0<Y70<AC70,Y72,100)","v":100}]
[]
[null,"ID_SC_2","2. Street Density",null,"X",{"$nulls":4},2014,{"$nulls":14},{"$f":"'Street Connectivity'!G18","v":15.26},5,null,null,20]
[null,null,"Calculations:",{"$nulls":21},{"$f":"ABS((Y75-$AC$75)/$AC$75)","v":0.23700000000000002}]
[{"$nulls":24},{"$f":"100*(1-Y76)","v":76.3}]
[null,null,"Standardized (If condition (Stnd 5.0))",{"$nulls":21},{"$f":"IF(Y75<=(2*$AC$75), Y77,IF(Y75=AC75,100,Y77))","v":76.3}]
[]
[null,"ID_SC_3","3. Land allocated to streets","%","X",{"$nulls":4},2014,{"$nulls":14},{"$f":"'Street Connectivity'!F18","v":20.93},2.1,{"$f":"0.06*100","v":6},{"$f":"0.36*100","v":36}]
[null,null,"Standardized",{"$nulls":21},{"$f":"100*((Y80-$AA$80)/($AB$80-$AA$80))","v":49.766666666666666}]

{"sheet":"Access To Services","index":11,"n_rows":145,"n_cols":16,"rows_kept":145,"cut":false,"hidden":false,"merged":[[2,1,2,5],[8,2,8,3],[8,4,8,5],[8,6,8,7],[8,8,8,9],[8,10,8,11],[8,12,8,13],[8,14,8,15],[17,1,17,5],[20,1,20,5],[21,1,21,5],[22,1,23,2],[22,3,22,4],[22,5,23,5],[24,1,27,1],[28,1,28,2],[30,1,30,5],[31,1,31,5],[32,1,33,2],[32,3,32,4],[32,5,33,5],[34,1,37,1],[38,1,38,2],[40,1,40,5],[41,1,41,5],[42,1,43,2],[42,3,42,4],[42,5,43,5],[44,1,47,1],[48,1,48,2],[50,1,50,5],[51,1,51,5],[52,1,53,2],[52,3,52,4],[52,5,53,5],[54,1,57,1],[58,1,58,2],[60,1,60,5],[61,1,61,5],[62,1,63,2],[62,3,62,4],[62,5,63,5],[64,1,67,1],[68,1,68,2],[70,1,70,5],[71,1,71,5],[72,1,73,2],[72,3,72,4],[72,5,73,5],[74,1,77,1],[78,1,78,2],[80,1,80,5],[81,1,81,5],[82,1,83,2],[82,3,82,4],[82,5,83,5],[84,1,87,1],[88,1,88,2],[90,1,90,5],[91,1,91,5],[92,1,93,2],[92,3,92,4],[92,5,93,5],[94,1,95,1],[96,1,96,2],[98,1,98,5],[99,1,99,5],[100,1,101,2],[100,3,100,4],[100,5,101,5],[102,1,103,1],[104,1,104,2],[106,1,106,5],[107,1,107,5],[108,1,109,2],[108,3,108,4],[108,5,109,5],[110,1,111,1],[112,1,112,2],[114,1,114,5],[115,1,115,5],[116,1,117,2],[116,3,116,4],[116,5,117,5],[118,1,119,1],[120,1,120,2],[122,1,122,5],[123,1,123,5],[124,1,125,2],[124,3,124,4],[124,5,125,5],[126,1,127,1],[128,1,128,2],[130,1,130,5],[131,1,131,5],[132,1,133,2],[132,3,132,4],[132,5,133,5],[142,1,143,1],[144,1,144,2],[134,1,135,1],[136,1,136,2],[138,1,138,5],[139,1,139,5],[140,1,141,2],[140,3,140,4],[140,5,141,5]]}
[]
[]
[null,"CROSSTABS: IMPROVED SERVICES MEXICO 2010",{"$nulls":6},"NOTES:"]
[{"$nulls":8},"SPSS Generated"]
[]
[]
[]
[]
[null,null,"Improved Water",null,"Improved Shelter",null,"Improved toilet",null,"Sufficient living area",null,"Electricity Connection",null,"Computer",null,"Internet Connection"]
[null,null,"Unimproved water source","Access to improved water source","Not Durable","Durable","Unimproved sanitation","Improved sanitation","Crowded","Not Crowded","No Electricity","Has Electricity","No Computer","Has Computer","No Internet","Has Internet"]
[null,"Zapopan",3.7418948406736534E-2,0.96258105159326346,2.4726629347100966E-2,0.97527337065289899,2.2949335112721032E-2,0.97705066488727899,2.6520786114138203E-2,0.973479213885862,5.6186526006986029E-3,0.9943813473993014,0.44635554137540973,0.55364445862459033,0.54261225910441335,0.45738774089558665]
[null,"Corregidora",0.12052982593026064,0.87947017406973937,7.6074235077746195E-3,0.99239257649222534,1.9404038715190697E-2,0.9805959612848093,1.1146408069999442E-2,0.98885359193000055,9.7252410410745144E-3,0.99027475895892547,0.34303999702762455,0.65696000297237545,0.42836575080347022,0.57163424919652972]
[null,"Cajeme",3.5814151244960724E-3,0.99641858487550394,2.7705807700781002E-2,0.97229419229921898,1.7267758884485396E-2,0.9827322411155146,2.3398980386559472E-2,0.97660101961344059,1.1145622271385974E-2,0.98885437772861406,0.61435898708882675,0.38564101291117325,0.69382119219682326,0.30617880780317674]
[null,"Metropolitan area of Guadalajara",5.3331243853901117E-2,0.94666875614609891,2.6273902025258131E-2,0.97372609797474186,2.0071236490233822E-2,0.97992876350976621,3.2478480323371105E-2,0.96752151967662881,6.8483069326054228E-3,0.99315169306739459,0.5604915841134871,0.43950841588651296,0.66342475268952328,0.33657524731047672]
[]
[]
[]
[null,"SPSS TABLES"]
[]
[]
[null,"Other Mexican Municipalities * Improved Water Crosstabulation"]
[null,"% within Other Mexican Municipalities"]
[null," ",null,"Improved Water",null,"Total"]
[null,null,null,"Unimproved water source","Access to improved water source"]
[null,"Other Mexican Municipalities",".00",5.9553977275029514E-2,0.94044602272497047,1]
[null,null,"Zapopan",3.7418948406736534E-2,0.96258105159326346,1]
[null,null,"Corregidora",0.12052982593026064,0.87947017406973937,1]
[null,null,"Cajeme",3.5814151244960724E-3,0.99641858487550394,1]
[null,"Total",null,5.1054259323641077E-2,0.94894574067635884,1]
[]
[null,"Other Mexican Municipalities * Floor Material Crosstabulation"]
[null,"% within Other Mexican Municipalities"]
[null," ",null,"Floor Material",null,"Total"]
[null,null,null,"Not Durable","Durable"]
[null,"Other Mexican Municipalities",".00",2.6878032444220823E-2,0.97312196755577918,1]
[null,null,"Zapopan",2.4726629347100966E-2,0.97527337065289899,1]
[null,null,"Corregidora",7.6074235077746195E-3,0.99239257649222534,1]
[null,null,"Cajeme",2.7705807700781002E-2,0.97229419229921898,1]
[null,"Total",null,2.5873634628764589E-2,0.97412636537123543,1]
[]
[null,"Other Mexican Municipalities * Improved toilet Crosstabulation"]
[null,"% within Other Mexican Municipalities"]
[null," ",null,"Improved toilet",null,"Total"]
[null,null,null,"Unimproved sanitation","Improved sanitation"]
[null,"Other Mexican Municipalities",".00",1.8945714371384138E-2,0.98105428562861585,1]
[null,null,"Zapopan",2.2949335112721032E-2,0.97705066488727899,1]
[null,null,"Corregidora",1.9404038715190697E-2,0.9805959612848093,1]
[null,null,"Cajeme",1.7267758884485396E-2,0.9827322411155146,1]
[null,"Total",null,1.9818796468708232E-2,0.98018120353129179,1]
[]
[null,"Other Mexican Municipalities * Sufficient living area Crosstabulation"]
[null,"% within Other Mexican Municipalities"]
[null," ",null,"Sufficient living area",null,"Total"]
[null,null,null,"Crowded","Not Crowded"]
[null,"Other Mexican Municipalities",".00",3.4804653563218019E-2,0.96519534643678195,1]
[null,null,"Zapopan",2.6520786114138203E-2,0.97347921388586167,1]
[null,null,"Corregidora",1.1146408069999442E-2,0.98885359193000055,1]
[null,null,"Cajeme",2.3398980386559472E-2,0.97660101961344059,1]
[null,"Total",null,3.112815014319802E-2,0.96887184985680197,1]
[]
[null,"Other Mexican Municipalities * Electricity Connection Crosstabulation"]
[null,"% within Other Mexican Municipalities"]
[null," ",null,"Electricity Connection",null,"Total"]
[null,null,null,"No Electricity","Has Electricity"]
[null,"Other Mexican Municipalities",".00",7.3284237195178183E-3,0.99267157628048219,1]
[null,null,"Zapopan",5.6186526006986029E-3,0.9943813473993014,1]
[null,null,"Corregidora",9.7252410410745144E-3,0.99027475895892547,1]
[null,null,"Cajeme",1.1145622271385974E-2,0.98885437772861406,1]
[null,"Total",null,7.2864614588280798E-3,0.99271353854117195,1]
[]
[null,"Other Mexican Municipalities * Computer Crosstabulation"]
[null,"% within Other Mexican Municipalities"]
[null," ",null,"Computer",null,"Total"]
[null,null,null,"No Computer","Has Computer"]
[null,"Other Mexican Municipalities",".00",0.60505583984649913,0.39494416015350092,1]
[null,null,"Zapopan",0.44635554137540973,0.55364445862459033,1]
[null,null,"Corregidora",0.34303999702762455,0.65696000297237545,1]
[null,null,"Cajeme",0.61435898708882675,0.38564101291117325,1]
[null,"Total",null,0.55892733731311028,0.44107266268688972,1]
[]
[null,"Other Mexican Municipalities * Internet Connection Crosstabulation"]
[null,"% within Other Mexican Municipalities"]
[null," ",null,"Internet Connection",null,"Total"]
[null,null,null,"No Internet","Has Internet"]
[null,"Other Mexican Municipalities",".00",0.71059581917046732,0.28940418082953273,1]
[null,null,"Zapopan",0.54261225910441335,0.45738774089558665,1]
[null,null,"Corregidora",0.42836575080347022,0.57163424919652972,1]
[null,null,"Cajeme",0.69382119219682326,0.30617880780317674,1]
[null,"Total",null,0.65941467856652536,0.34058532143347464,1]
[]
[null,"Guadalajara Municipality Codes * Improved Water Crosstabulation"]
[null,"% within Guadalajara Municipality Codes"]
[null," ",null,"Improved Water",null,"Total"]
[null,null,null,"Unimproved water source","Access to improved water source"]
[null,"Guadalajara Municipality Codes","Others",3.2869867427194291E-2,0.96713013257280567,1]
[null,null,"Metropolitan area of Guadalajara",5.3331243853901117E-2,0.94666875614609891,1]
[null,"Total",null,5.1054259323641077E-2,0.94894574067635884,1]
[]
[null,"Guadalajara Municipality Codes * Floor Material Crosstabulation"]
[null,"% within Guadalajara Municipality Codes"]
[null," ",null,"Floor Material",null,"Total"]
[null,null,null,"Not Durable","Durable"]
[null,"Guadalajara Municipality Codes","Others",2.2673089313085405E-2,0.97732691068691468,1]
[null,null,"Metropolitan area of Guadalajara",2.6273902025258131E-2,0.97372609797474186,1]
[null,"Total",null,2.5873634628764589E-2,0.97412636537123543,1]
[]
[null,"Guadalajara Municipality Codes * Improved toilet Crosstabulation"]
[null,"% within Guadalajara Municipality Codes"]
[null," ",null,"Improved toilet",null,"Total"]
[null,null,null,"Unimproved sanitation","Improved sanitation"]
[null,"Guadalajara Municipality Codes","Others",1.7802766837955973E-2,0.9821972331620441,1]
[null,null,"Metropolitan area of Guadalajara",2.0071236490233822E-2,0.97992876350976621,1]
[null,"Total",null,1.9818796468708232E-2,0.98018120353129179,1]
[]
[null,"Guadalajara Municipality Codes * Sufficient living area Crosstabulation"]
[null,"% within Guadalajara Municipality Codes"]
[null," ",null,"Sufficient living area",null,"Total"]
[null,null,null,"Crowded","Not Crowded"]
[null,"Guadalajara Municipality Codes","Others",2.0330885687903109E-2,0.97966911431209691,1]
[null,null,"Metropolitan area of Guadalajara",3.2478480323371105E-2,0.96752151967662881,1]
[null,"Total",null,3.112815014319802E-2,0.96887184985680197,1]
[]
[null,"Guadalajara Municipality Codes * Electricity Connection Crosstabulation"]
[null,"% within Guadalajara Municipality Codes"]
[null," ",null,"Electricity Connection",null,"Total"]
[null,null,null,"No Electricity","Has Electricity"]
[null,"Guadalajara Municipality Codes","Others",1.0789952946594501E-2,0.98921004705340554,1]
[null,null,"Metropolitan area of Guadalajara",6.8483069326054228E-3,0.99315169306739459,1]
[null,"Total",null,7.2864614588280798E-3,0.99271353854117195,1]
[]
[null,"Guadalajara Municipality Codes * Computer Crosstabulation"]
[null,"% within Guadalajara Municipality Codes"]
[null," ",null,"Computer",null,"Total"]
[null,null,null,"No Computer","Has Computer"]
[null,"Guadalajara Municipality Codes","Others",0.54641959170762222,0.45358040829237772,1]
[null,null,"Metropolitan area of Guadalajara",0.5604915841134871,0.43950841588651296,1]
[null,"Total",null,0.55892733731311028,0.44107266268688972,1]
[]
[null,"Guadalajara Municipality Codes * Internet Connection Crosstabulation"]
[null,"% within Guadalajara Municipality Codes"]
[null," ",null,"Internet Connection",null,"Total"]
[null,null,null,"No Internet","Has Internet"]
[null,"Guadalajara Municipality Codes","Others",0.62735005361250595,0.37264994638749399,1]
[null,null,"Metropolitan area of Guadalajara",0.66342475268952328,0.33657524731047672,1]
[null,"Total",null,0.65941467856652536,0.34058532143347464,1]

{"sheet":"Residential Density","index":12,"n_rows":34,"n_cols":28,"rows_kept":34,"cut":false,"hidden":false,"merged":[[0,3,0,18],[19,2,19,10],[20,2,20,4],[22,2,33,2]]}
[null,null,null,"RESIDENTIAL DENSITY"]
[]
[null,null,null,"FORMULA"]
[null,null,null,"Residential Density","=City (Urban) Population /Urban Area"]
[]
[]
["DIMENSION","SUB-DIMENSION","CODE","INDICATOR","NOTES","BASIC","EXTENDED","MISSING",2000,2001,2002,2003,2004,2005,2006,2007,2008,2009,2010,2011,2012,2013,2014,"Standardization","MIN","MAX","TARGET","NOTES/SOURCES"]
[null,"demographic",null,"1. Population",{"$nulls":4},3699136.000000034,3783094.7600000291,3864745.840000025,3944089.2400000212,4021124.9600000186,4095853.0000000168,4168273.3600000157,4238386.0400000149,4306191.0400000159,4371688.3600000171,4434878.0000000196,4495759.9600000223,4554334.2400000263,4610600.8400000297,4664559.7600000352,{"$nulls":4},"Red is projected data. Projection by GUO"]
[]
["Infrastructure Development Index (ID)","1. Housing Infrastructure Sub Index (HI)","ID_HI_6","6. Residential Density","People/km2",null,"X",{"$nulls":14},{"$f":"V11/V12","v":8750.2564801069675},null,5,null,null,15000]
[null,null,null,"City (Urban) Population",{"$nulls":17},{"$f":"V8/S31","v":5915085.8779875087}]
[null,null,null,"Urban Footprint/Area",{"$nulls":17},675.99]
[null,null,null,"Abs[(X-X*)/X*]",{"$nulls":17},{"$f":"ABS((V10-$AA$10)/$AA$10)","v":0.41664956799286884}]
[null,null,null,"Standardized",{"$nulls":17},{"$f":"100*(1-V13)","v":58.335043200713123}]
[]
[]
[null,null,null,"NOTE:"]
[null,null,null,"X=Residential Density"]
[null,null,null,"X*=15000 (Target)"]
[null,null,"URBAN - RURAL FREQUENCIES (Mexico Census 2010)"]
[]
[{"$nulls":8},"Total","Urban","Rural",{"$nulls":7},"Urban/Total Ratio"]
[null,null,"Municipality, Mexico","Guadalajara",{"$nulls":4},1491217,1162642,{"$f":"I23-J23","v":328575},{"$nulls":7},{"$f":"J23/I23","v":0.779659834886539}]
[null,null,null,"Ixtlahuacan de los Membrillos",{"$nulls":4},41180,32102,{"$f":"I24-J24","v":9078},{"$nulls":7},{"$f":"J24/I24","v":0.77955318115590089}]
[null,null,null,"Juanacatlan",{"$nulls":4},13490,10482,3008,{"$nulls":7},0.77702001482579686]
[null,null,null,"Salto, El",{"$nulls":4},136697,106575,30122,{"$nulls":7},0.77964403022743733]
[null,null,null,"Tlajomulco de Zuniga",{"$nulls":4},417205,328482,88723,{"$nulls":7},0.7873395572919788]
[null,null,null,"Tlaquepaque",{"$nulls":4},608085,467663,140422,{"$nulls":7},0.76907504707401109]
[null,null,null,"Tonala",{"$nulls":4},464069,364482,99587,{"$nulls":7},0.785404756620244]
[null,null,null,"Zapopan",{"$nulls":4},1238499,965356,273143,{"$nulls":7},0.77945642265355075]
[null,null,null,"Metropolitan area of Guadalajara",{"$nulls":4},4410442,3437784,972658,{"$nulls":7},0.77946473392009241]
[]
[null,null,null,"Corregidora",{"$nulls":4},141885,107658,34227,{"$nulls":7},0.75876942594354579]
[null,null,null,"Cajeme",{"$nulls":4},405480,322279,83201,{"$nulls":7},0.79480862188024071]

{"sheet":"Physicians","index":13,"n_rows":18,"n_cols":28,"rows_kept":18,"cut":false,"hidden":false,"merged":[[1,2,1,19]]}
[]
[null,null,"PHYSICIAN DENSITY"]
[]
["DIMENSION","CODE","INDICATOR","NOTES","BASIC","EXTENDED","MISSING",2000,2001,2002,2003,2004,2005,2006,2007,2008,2009,2010,2011,2012,2013,2014,"Standardization","MIN","MAX","TARGET","LEVEL","Source"]
["Productivity Index (P)","Demographic","Population",{"$nulls":4},3699136.000000034,3783094.7600000291,3864745.840000025,3944089.2400000212,4021124.9600000186,4095853.0000000168,4168273.3600000157,4238386.0400000149,4306191.0400000159,4371688.3600000171,4434878.0000000196,4495759.9600000223,4554334.2400000263,4610600.8400000297,4664559.7600000352]
[]
[]
[null,"ID_SI_1 ","Guadalajara",{"$nulls":12},1993,2178,1692,1743,1634,{"$nulls":7},"Source SINAIS. IMCO Data base"]
[null,null,"El Salto",{"$nulls":12},9,15,13,16,12]
[null,null,"Tlajomulco de Zúñiga",{"$nulls":12},85,61,64,65,38]
[null,null,"Tlaquepaque",{"$nulls":12},100,73,73,74,15]
[null,null,"Tonalá",{"$nulls":12},49,49,49,72,30]
[null,null,"Zapopan",{"$nulls":12},713,714,701,741,651]
[null,null,"Juanacatlan",{"$nulls":12},5,4,5,4,3]
[null,null,"Ixtahuacan",{"$nulls":12},21,7,7,7,2]
[null,null,"Total Physicians in Guadalajara",{"$nulls":12},{"$f":"SUM(P8:P15)","v":2975},{"$f":"SUM(Q8:Q15)","v":3101},{"$f":"SUM(R8:R15)","v":2604},{"$f":"SUM(S8:S15)","v":2722},{"$f":"SUM(T8:T15)","v":2385}]
[null,null,"1. Physicians Density",{"$nulls":12},{"$f":"(P16/P5)*1000","v":0.69086577264347027},{"$f":"(Q16/Q5)*1000","v":0.70933692995444619},{"$f":"(R16/R5)*1000","v":0.58716384080914708},{"$f":"(S16/S5)*1000","v":0.60545937154526963},{"$f":"(T16/T5)*1000","v":0.52367697984326822},null,null,"2.1  (square root)",0.1,2.78]
[null,null,"Standardized",{"$nulls":12},{"$f":"100*(((SQRT(P17))-$X$17)/($Y$17-$X$17))","v":27.282961075124142},{"$f":"100*(((SQRT(Q17))-$X$17)/($Y$17-$X$17))","v":27.694829318189935},{"$f":"100*(((SQRT(R17))-$X$17)/($Y$17-$X$17))","v":24.860677924757873},{"$f":"100*(((SQRT(S17))-$X$17)/($Y$17-$X$17))","v":25.302712630077146},{"$f":"100*(((SQRT(T17))-$X$17)/($Y$17-$X$17))","v":23.27071980443451}]

{"sheet":"Urban Mobility","index":14,"n_rows":25,"n_cols":30,"rows_kept":25,"cut":false,"hidden":false,"merged":[[1,3,1,18]]}
[]
[null,null,null,"TRANSPORT"]
[]
["DIMENSION","SUB-DIMENSION","CODE","INDICATOR","NOTES","BASIC","EXTENDED","MISSING",2000,2001,2002,2003,2004,2005,2006,2007,2008,2009,2010,2011,2012,2013,2014,"Standardization","MIN","MAX","TARGET","NOTES/SOURCES"]
[null,"demographic",null,"1. Population",{"$nulls":4},3699136.000000034,3783094.7600000291,3864745.840000025,3944089.2400000212,4021124.9600000186,4095853.0000000168,4168273.3600000157,4238386.0400000149,4306191.0400000159,4371688.3600000171,4434878.0000000196,4495759.9600000223,4554334.2400000263,4610600.8400000297,4664559.7600000352,{"$nulls":4},"INEGI Website and GUO Projected Calculations"]
[null,null,null,"2. Homes/Households",{"$nulls":23},"INEGI and GUO ProjectedCalculations"]
[]
[null,null,null,"3. Urban Footprint area",{"$nulls":17},675.99]
[]
[null,"4. Urban Mobility Sub Index (UM)","ID_UM_1","1. Use of Public Transport","%","X",{"$nulls":9},28.3,{"$nulls":7},2.1,{"$f":"0.0595*100","v":5.9499999999999993},{"$f":"0.6216*100","v":62.160000000000004},null,null,null,"Desplazamiento segun modo de transporte"]
[null,null,null,"Standardized",{"$nulls":11},{"$f":"100*((P10-$Y$10)/($Z$10-$Y$10))","v":39.761608254758933}]
[]
[null,null,"ID_UM_2","2. Average Daily Travel Time (reversed)","minutes (min.)","X",{"$nulls":9},28.265999999999998,{"$nulls":7},4,null,null,30,null,null,"Duración promedio de desplazamientos por motivo y medio de transporte de la “movilidad obligada\". Total de desplazamientos"]
[null,null,null,"Standardized",{"$nulls":11},{"$f":"100*(1-ABS((P13-$AA$13)/$AA$13))","v":94.22}]
[null,null,null,"Decision:",{"$nulls":11},100]
[]
[null,null,"ID_UM_3","3. Length of the BRT network (Km)",{"$nulls":4},24,24,24,24,24,24,24,24,24,40,40,40,40,40,40]
[null,null,null,"     Length of Mass Transport Network","km / 1,000,000 people",null,"X",null,{"$f":"1000000*(I17/I5)","v":6.4880015225176306},6.344012382074145,6.209981456374333,6.0850550125990228,5.9684790298085861,5.8595852927338701,5.7577797632734695,5.6625328069455216,5.5733709389725341,9.1497830371421625,9.0194138373140866,8.8972721755366582,8.7828424292372027,8.6756588540420552,8.5753001479392985,3,null,null,80]
[null,null,null,"Calculations:",{"$nulls":4},{"$f":"ABS((I18-$AA$18)/$AA$18)","v":0.91889998096852954},0.92069984522407322,{"$f":"ABS((K18-$AA$18)/$AA$18)","v":0.92237523179532077},0.92393681234251213,0.92539401212739258,0.92675518384082667,0.92802775295908158,0.92921833991318104,0.93033286326284337,0.88562771203572299,0.88725732703357385,0.88878409780579182,0.89021446963453488,0.89155426432447427,0.89280874815075872]
[null,null,null,"If condition (Stnd 3.0)",{"$nulls":4},{"$f":"100*(1-I19)","v":8.1100019031470456},{"$f":"100*(1-J19)","v":7.9300154775926774},7.7624768204679224,7.606318765748787,7.4605987872607411,7.3244816159173336,7.1972247040918429,7.0781660086818965,6.9667136737156632,11.4372287964277,11.274267296642615,11.121590219420819,10.978553036546511,10.844573567552573,10.719125184924128]
[null,null,null,"Standardized",{"$nulls":4},{"$f":"IF(I18>80, 100, I20)","v":8.1100019031470456},{"$f":"IF(J18>80, 100, J20)","v":7.9300154775926774},{"$f":"IF(K18>80, 100, K20)","v":7.7624768204679224},7.606318765748787,7.4605987872607411,7.3244816159173336,7.1972247040918429,7.0781660086818965,6.9667136737156632,11.4372287964277,11.274267296642615,11.121590219420819,10.978553036546511,10.844573567552573,10.719125184924128]
[]
[null,null,"ID_UM_4","4. Traffic Fatalities (reversed)",null,null,"X",{"$nulls":9},128,123,131,120,122,null,null,2.2000000000000002,1,31,null,null,"SINAIS"]
[null,null,null,"     Traffic Fatalities ","# / 100,000 people",{"$nulls":11},{"$f":"(100000*(Q23/Q5))","v":2.9724645007853514},{"$f":"(100000*(R23/R5))","v":2.8135582839212154},{"$f":"(100000*(S23/S5))","v":2.9538580317203635},{"$f":"(100000*(T23/T5))","v":2.6691816526609977},{"$f":"(100000*(U23/U5))","v":2.6787669409173467}]
[null,null,null,"Standardized",{"$nulls":12},{"$f":"100*(1-((Q24-$Y$23)/($Z$23-$Y$23)))","v":93.425118330715492},93.954805720262613,93.487139894265454,94.436061157796672,94.404110196942185]

{"sheet":"Mass Transport","index":15,"n_rows":17,"n_cols":7,"rows_kept":17,"cut":false,"hidden":false,"merged":[]}
["Mass Transport"]
["Guadalajara metropolitan"]
[null,"Total length km",null,"Zapopan","Tlaquepaque","Guadalajara"]
["TL1 (since 1989)",15.5,null,1.77,2,{"$f":"B4-D4-E4","v":11.73}]
["TL2 (since 1994)",8.5,null,null,null,{"$f":"B5-D5-E5","v":8.5}]
["BRT (since 2009)",16,null,null,null,{"$f":"B6-D6-E6","v":16}]
[null,{"$f":"SUM(B4:B6)","v":40},null,{"$f":"SUM(D4:D6)","v":1.77},{"$f":"SUM(E4:E6)","v":2},{"$f":"SUM(F4:F6)","v":36.230000000000004}]
["population",4434252,null,1243756,575942,1494134,"Check population."]
[null,{"$f":"(B7/B8)*1000000","v":9.0206871418223411},null,{"$f":"(D7/D8)*1000000","v":1.4231087126413864},{"$f":"(E7/E8)*1000000","v":3.4725718909195717},{"$f":"(F7/F8)*1000000","v":24.248159803605301}]
[]
[null,{"$f":"((B9-80)/80)+1","v":0.11275858927277915},null,{"$f":"((D9-80)/80)+1","v":1.7788858908017291E-2},{"$f":"((E9-80)/80)+1","v":4.3407148636494641E-2},{"$f":"((F9-80)/80)+1","v":0.30310199754506628}]
[]
["Source: SITEUR, Macrobus"]
[]
[null,"Metropolitan Guadaalajara",null,"Zapopan","Tlaquepaque","Guadalajara"]
["From 1994- 2008",{"$f":"B4+B5","v":24},null,{"$f":"D4+D5","v":1.77},{"$f":"E4+E5","v":2},{"$f":"F4+F5","v":20.23}]
["from 2009 -2014",{"$f":"B7","v":40},null,{"$f":"D7","v":1.77},{"$f":"E7","v":2},{"$f":"F7","v":36.230000000000004}]

{"sheet":"Libraries","index":16,"n_rows":25,"n_cols":20,"rows_kept":25,"cut":false,"hidden":false,"merged":[[0,0,1,0],[10,0,17,0]]}
[null,"Year (000's) ",2000,2001,2002,2003,2004,2005,2006,2007,2008,2009,2010,2011,2012,2013,2014]
[null,"Projected Population ",3699136.000000034,3783094.7600000291,3864745.840000025,3944089.2400000212,4021124.9600000186,4095853.0000000168,4168273.3600000157,4238386.0400000149,4306191.0400000159,4371688.3600000171,4434878.0000000196,4495759.9600000223,4554334.2400000263,4610600.8400000297,4664559.7600000352]
[]
[null,"Note:"]
[null,"Projected Population"]
[null,"Source: INEGI"]
[]
[]
[]
[null,null,2000,2001,2002,2003,2004,2005,2006,2007,2008,2009,2010,2011,2012,2013,"Standardization","MIN","MAX","TARGET"]
["Public libraries","EL SALTO",null,1,1,1,1,1,1,1,1,1,1,1,"",""]
[null,"GUADALAJARA",null,12,11,10,10,10,13,13,13,13,13,13,"",""]
[null,"IXTLAHUACÁN DE LOS MEMBRILLOS",null,2,2,2,2,2,2,2,2,2,2,2,"",""]
[null,"JUANACATLÁN",null,1,1,1,1,1,1,1,1,1,1,1,"",""]
[null,"TLAJOMULCO DE ZÚÑIGA",null,1,1,1,1,1,1,1,1,1,1,1,"",""]
[null,"TLAQUEPAQUE",null,5,5,5,5,5,5,5,5,5,5,5,"",""]
[null,"TONALÁ","N/A",3,3,3,3,3,3,3,3,3,3,3]
[null,"ZAPOPAN",null,12,12,12,12,11,11,11,11,11,11,10]
[]
[null,"Number of public libraries",null,{"$f":"SUM(D11:D18)","v":37},{"$f":"SUM(E11:E18)","v":36},35,35,34,37,37,37,37,37,36,null,null,2.1,0,7]
[null,null,null,{"$f":"100000*(D20/D2)","v":0.97803524223643068},{"$f":"100000*(E20/E2)","v":0.93149721845614997},0.88740385600402416,0.87040319184708537,0.83010791647063176,0.88765771350465994,0.87297380773743471,0.85922801975826568,0.84635493093565006,0.83429577995155313,0.80075449579829927]
[null,null,null,{"$f":"100*(D21-$R$20)/($S$20-$R$20)","v":13.971932031949009},{"$f":"100*(E21-$R$20)/($S$20-$R$20)","v":13.307103120802141},12.677197942914631,12.43433131210122,11.858684521009025,12.680824478638,12.471054396249068,12.274685996546653,12.090784727652144,11.918511142165045,11.439349939975703]
[null,"Standardized",null,{"$f":"IF(D21<$R$19,0,D22)","v":13.971932031949009},{"$f":"IF(E21<$R$19,0,E22)","v":13.307103120802141},12.677197942914631,12.43433131210122,11.858684521009025,12.680824478638,12.471054396249068,12.274685996546653,12.090784727652144,11.918511142165045,11.439349939975703]
[]
[null,"Source: INEGI"]

{"sheet":"Internet and Computer access","index":17,"n_rows":32,"n_cols":10,"rows_kept":32,"cut":false,"hidden":false,"merged":[]}
[]
[]
[null,"COMPUTER ACCESS"]
[null,null,2008,2009,2010,2011,2012]
[null,"% households with computer",0.32048240300866127,0.340787924771489,0.36158568326696167,0.35320120690221363,0.43984009857477724,null,"Source","IMCO: MCS (CONEVAL)"]
[]
[]
[null,"INTERNET ACCESS",null,null,{"$f":"E19/E30","v":0.34427459552537304}]
[]
[null,"Inhabited housings available Internet",null,null,2010]
[null,"Guadalajara",null,null,142854]
[null,"El Salto",null,null,4215]
[null,"Tlajomulco de Zúñiga",null,null,21866]
[null,"Tlaquepaque",null,null,38675]
[null,"Tonalá",null,null,22518]
[null,"Zapopan",null,null,138986]
[null,"Ixtlahuacán de los Membrillos",null,null,1164]
[null,"Juanacatlán",null,null,405]
[null,"Gudalajara Metr. Area",null,null,{"$f":"SUM(E11:E17)","v":370278}]
[]
[null,"Inhabited housings",null,null,2010]
[null,"Guadalajara",null,null,370656]
[null,"El Salto",null,null,32031]
[null,"Tlajomulco de Zúñiga",null,null,101811]
[null,"Tlaquepaque",null,null,141521]
[null,"Tonalá",null,null,104756]
[null,"Zapopan",null,null,311046]
[null,"Ixtlahuacán de los Membrillos",null,null,10482]
[null,"Juanacatlán",null,null,3228]
[null,"Gudalajara Metr. Area",null,null,{"$f":"SUM(E22:E29)","v":1075531}]
[]
[null,"Source: Censo 2010"]

{"sheet":"Broadband speed","index":18,"n_rows":139,"n_cols":27,"rows_kept":139,"cut":false,"hidden":false,"merged":[]}
[null,"http://explorer.netindex.com/maps#"]
[]
[null,"Global Index - Broadband Speed"]
[]
[null,null,null,"Jan","Feb","Mar","Apr","May","Jun","Jul","Aug","Sep","Oct","Nov","Dec","Average"]
[null,2008,"Download Speed",4.2,4.25,4.33,4.43,4.46,4.54,4.6399999999999997,4.58,4.7,4.72,4.72,4.9000000000000004,{"$f":"AVERAGE(D6:O6)","v":4.5391666666666666}]
[null,null,"Upload Speed",0.93,0.98,0.98,1.04,1.04,1.0900000000000001,1.1399999999999999,1.07,1.1499999999999999,1.19,1.22,1.26,{"$f":"AVERAGE(D7:O7)","v":1.0908333333333333}]
[]
[null,2009,"Download Speed",4.93,5.08,5.31,5.91,5.9,5.96,6.17,6.47,6.69,6.72,6.79,7.01,6.078333333333334]
[null,null,"Upload Speed",1.27,1.31,1.37,1.51,1.51,1.56,1.57,1.58,1.75,1.78,1.78,1.79,1.5649999999999997]
[]
[null,2010,"Download Speed",7.06,7.2,7.47,7.54,7.62,7.64,7.6,7.9,8.19,8.15,8.27,8.44,7.7566666666666668]
[null,null,"Upload Speed",1.79,1.85,2.0099999999999998,2.1,2.09,2.15,2.0699999999999998,2.16,2.2599999999999998,2.2599999999999998,2.31,2.36,2.1174999999999993]
[]
[null,2011,"Download Speed",8.8800000000000008,9.08,8.5299999999999994,8.67,8.82,8.8000000000000007,8.6999999999999993,8.83,9.11,9.18,9.4700000000000006,9.8699999999999992,8.9949999999999992]
[null,null,"Upload Speed",2.5,2.5499999999999998,2.77,3.04,3.1,2.96,2.8,2.92,3.8,3.32,3.48,3.71,3.0791666666666671]
[]
[null,2012,"Download Speed",9.9499999999999993,9.98,9.9700000000000006,10.33,10.45,10.73,11.13,11.62,11.93,12.29,12.53,12.75,11.138333333333334]
[null,null,"Upload Speed",3.64,3.77,3.88,3.89,3.91,3.98,3.96,4.21,4.51,4.71,4.88,5.01,4.1958333333333337]
[]
[null,2013,"Download Speed",13.03,13.07,13.32,13.74,null,13.92,13.64,14.29,15.11,15.61,16.25,16.41,14.399090909090908]
[null,null,"Upload Speed",5.08,5.23,5.43,5.49,5.25,5.5,5.41,5.68,6.24,6.58,7.12,7.25,5.8549999999999995]
[]
[null,2014,"Download Speed",16.46,16.86,17.3,18.2,18.52,18.72,19.260000000000002,20.29,20.54,21.03,null,null,18.718]
[null,null,"Upload Speed",7.33,7.6,7.79,8.27,8.52,8.3699999999999992,8.39,8.6999999999999993,9.2100000000000009,9.58,null,null,8.3760000000000012]
[]
[]
[]
[{"$nulls":4},"Download Speed"]
[{"$nulls":4},2008,2009,2010,2011,2012,2013,2014]
[{"$nulls":4},{"$f":"P6","v":4.5391666666666666},{"$f":"P9","v":6.078333333333334},{"$f":"P12","v":7.7566666666666668},{"$f":"P15","v":8.9949999999999992},{"$f":"P18","v":11.138333333333334},{"$f":"P21","v":14.399090909090908},{"$f":"P24","v":18.718}]
[]
[]
[]
[{"$nulls":4},"Upload Speed"]
[{"$nulls":4},2008,2009,2010,2011,2012,2013,2014]
[{"$nulls":4},{"$f":"P7","v":1.0908333333333333},{"$f":"P10","v":1.5649999999999997},{"$f":"P13","v":2.1174999999999993},{"$f":"P16","v":3.0791666666666671},{"$f":"P19","v":4.1958333333333337},{"$f":"P22","v":5.8549999999999995},{"$f":"P25","v":8.3760000000000012}]
[]
[]
[]
[null,"http://explorer.netindex.com/maps#"]
[]
[null,"GUADALAJARA Broadband Speed"]
[{"$nulls":19},"No info por Ixtlahuacan, Juanacatlan"]
[null,null,null,"Jan","Feb","Mar","Apr","May","Jun","Jul","Aug","Sep","Oct","Nov","Dec","Average"]
[null,2010,"Download Speed",{"$nulls":5},2.42,2.21,2.58,2.76,3.16,3.74,2.96,{"$f":"AVERAGE(D46:O46)","v":2.8328571428571427}]
[]
[null,2011,"Download Speed",3.17,3.53,3.99,4.79,5.62,6.2,6.14,5.46,4.87,5.23,5.49,5.56,{"$f":"AVERAGE(D48:O48)","v":5.0041666666666673}]
[]
[null,2012,"Download Speed",5.56,6.01,5.73,6.35,6.45,8.23,9.0399999999999991,8.69,9.01,8.7799999999999994,8.85,8.3000000000000007,7.5833333333333321]
[]
[null,2013,"Download Speed",8.3000000000000007,8.1300000000000008,8.36,9.24,12.7,11.9,13.04,13.51,12.27,17.350000000000001,17.54,16.079999999999998,12.368333333333334]
[]
[null,2014,"Download Speed",17.600000000000001,20.190000000000001,17.829999999999998,17.43,17.920000000000002,14.2,13.85,13.71,15.06,15.83,null,null,16.362000000000002]
[]
[null,"TONALA Broadband Speed"]
[]
[null,null,null,"Jan","Feb","Mar","Apr","May","Jun","Jul","Aug","Sep","Oct","Nov","Dec","Average"]
[null,2010,"Download Speed",{"$nulls":5},1.25,2.4500000000000002,1.36,1.61,3.41,4.32,2.65,{"$f":"AVERAGE(D59:O59)","v":2.4357142857142859}]
[]
[null,2011,"Download Speed",2.99,2.65,3.15,2.96,4.28,7.96,2.66,1.06,2.69,2.93,2.88,2.2000000000000002,{"$f":"AVERAGE(D61:O61)","v":3.2008333333333341}]
[]
[null,2012,"Download Speed",3.85,3.43,3.79,3.76,4.59,2.71,4.18,5.42,6.27,5.93,6.03,4.03,{"$f":"AVERAGE(D63:O63)","v":4.4991666666666665}]
[]
[null,2013,"Download Speed",5.86,6.24,5.95,5.17,5.83,6.73,9.25,8.27,8.41,10.07,11.68,8.1199999999999992,{"$f":"AVERAGE(D65:O65)","v":7.6316666666666677}]
[]
[null,2014,"Download Speed",10.45,13.91,11.09,8.42,8.17,6.45,8.32,10.06,11.03,8.9,9.02,null,{"$f":"AVERAGE(D67:O67)","v":9.620000000000001}]
[]
[null,"TLAJOMULCO DE ZUNIGA Broadband Speed"]
[]
[null,null,null,"Jan","Feb","Mar","Apr","May","Jun","Jul","Aug","Sep","Oct","Nov","Dec","Average"]
[null,2010,"Download Speed",{"$nulls":11},0,{"$f":"AVERAGE(D72:O72)","v":0}]
[]
[null,2011,"Download Speed",{"$nulls":9},0,0,0,{"$f":"AVERAGE(D74:O74)","v":0}]
[]
[null,2012,"Download Speed",{"$nulls":9},6.84,6.79,7.07,{"$f":"AVERAGE(D76:O76)","v":6.8999999999999995}]
[]
[null,2013,"Download Speed",7.83,7.53,7.14,7.34,7.86,8.41,9.94,10.89,9.09,8.5,9.2899999999999991,8.86,{"$f":"AVERAGE(D78:O78)","v":8.5566666666666666}]
[]
[null,2014,"Download Speed",8.24,9.65,8.2200000000000006,7.91,8.7899999999999991,8.6300000000000008,9.2799999999999994,8.83,10.66,9.3000000000000007,9.0299999999999994,null,{"$f":"AVERAGE(D80:O80)","v":8.9581818181818171}]
[]
[null,"Tlaquepaque Broadband Speed"]
[]
[null,null,null,"Jan","Feb","Mar","Apr","May","Jun","Jul","Aug","Sep","Oct","Nov","Dec","Average"]
[null,2010,"Download Speed",{"$nulls":5},1.29,1.48,1.17,1.31,2.41,2.62,1.96,{"$f":"AVERAGE(D85:O85)","v":1.7485714285714289}]
[]
[null,2011,"Download Speed",2.2200000000000002,2.17,2.58,3.02,8.08,4.29,2.96,4.3099999999999996,2.9,3.45,2.82,2.74,{"$f":"AVERAGE(D87:O87)","v":3.4616666666666673}]
[]
[null,2012,"Download Speed",3.51,2.88,3.19,3.66,3.84,4.0599999999999996,5.32,5.07,6.17,8.7799999999999994,7.37,7.07,{"$f":"AVERAGE(D89:O89)","v":5.0766666666666662}]
[]
[null,2013,"Download Speed",11.01,8.01,7.52,7.06,9.1999999999999993,6.92,10.62,10.41,10.24,10.78,11.86,9.77,{"$f":"AVERAGE(D91:O91)","v":9.4499999999999993}]
[]
[null,2014,"Download Speed",10.84,12.02,8.52,8.24,13.09,10.039999999999999,13.3,11.27,12.78,12.41,12.1,null,{"$f":"AVERAGE(D93:O93)","v":11.328181818181816}]
[]
[null,"El Salto Broadband Speed"]
[]
[null,null,null,"Jan","Feb","Mar","Apr","May","Jun","Jul","Aug","Sep","Oct","Nov","Dec","Average"]
[null,2010,"Download Speed",{"$nulls":11},0,{"$f":"AVERAGE(D98:O98)","v":0}]
[]
[null,2011,"Download Speed",{"$nulls":11},0,{"$f":"AVERAGE(D100:O100)","v":0}]
[]
[null,2012,"Download Speed",{"$nulls":11},0,{"$f":"AVERAGE(D102:O102)","v":0}]
[]
[null,2013,"Download Speed",null,null,null,4.17,3.42,4.24,5.47,6.84,5.31,3.55,3.64,4.17,{"$f":"AVERAGE(D104:O104)","v":4.5344444444444445}]
[]
[null,2014,"Download Speed",3.58,3.98,4.87,3.8,3.44,3.5,5.82,14.08,5.59,5.39,5.24,null,{"$f":"AVERAGE(D106:O106)","v":5.39}]
[]
[null,"ZAPOPAN - Broadband Speed"]
[]
[null,null,null,"Jan","Feb","Mar","Apr","May","Jun","Jul","Aug","Sep","Oct","Nov","Dec","Average"]
[null,2010,"Download Speed",{"$nulls":5},2.17,2.29,2.27,2.74,3.31,3.46,3.46,{"$f":"AVERAGE(D111:O111)","v":2.8142857142857145}]
[]
[null,2011,"Download Speed",3.48,3.48,3.38,3.59,3.97,4.54,6.19,6.83,4.3099999999999996,5.23,4.95,5.48,{"$f":"AVERAGE(D113:O113)","v":4.6191666666666675}]
[]
[null,2012,"Download Speed",5.49,5.27,5.75,6.16,5.8,5.95,5.77,6.39,7.22,7.6,8.42,8.98,6.5666666666666664]
[]
[null,2013,"Download Speed",9.92,10.4,10.37,9.5299999999999994,13.7,13.98,15.93,15.18,15.08,17.43,19.21,16.45,13.931666666666667]
[]
[null,2014,"Download Speed",15.5,14.74,16.97,15.36,17.829999999999998,15.43,15.29,16.47,16.940000000000001,18.14,null,null,16.267000000000003]
[]
[]
[]
["DIMENSION","CODE","INDICATOR","NOTES","BASIC","EXTENDED","MISSING",2000,2001,2002,2003,2004,2005,2006,2007,2008,2009,2010,2011,2012,2013,2014,"Standardization","MIN","MAX","TARGET","NOTES/SOURCES"]
[null,"ID_ICT_3","3. Average broadband speed","Mbps",null,"X",{"$nulls":11},{"$f":"AVERAGE(P111,P98,P85,P72,P59,P46)","v":1.6385714285714286},{"$f":"AVERAGE(P113,P100,P87,P74,P61,P48)","v":2.7143055555555562},{"$f":"AVERAGE(P115,P102,P89,P76,P63,P50,)","v":4.3751190476190471},{"$f":"AVERAGE(P117,P104,P91,P78,P65,P52)","v":9.4121296296296304},{"$f":"AVERAGE(P119,P106,P93,P80,P67,P54)","v":11.32089393939394},2.1,0.6,"Yearly Global average",null,"http://explorer.netindex.com/maps"]
[null,null,"Global Average Yearly Speed",{"$nulls":12},{"$f":"E31","v":4.5391666666666666},6.078333333333334,7.7566666666666668,8.9949999999999992,11.138333333333334,14.399090909090908,{"$f":"P24","v":18.718},{"$nulls":4},"NOTE: There is no data available for Ixtlahuacan and Juanacatlan"]
[null,null,"Standardized",{"$nulls":14},{"$f":"100*((R124-$X$124)/(R125-$X$124))","v":14.511943575753545},{"$f":"100*((S124-$X$124)/(S125-$X$124))","v":25.185295480113833},35.822733331827109,63.8602186744357,59.172612536670385]
[]
[]
[]
[]
[]
[null,null,"EL SALTO"]
[null,null,"GUADALAJARA"]
[null,null,"IXTLAHUACÁN DE LOS MEMBRILLOS"]
[null,null,"JUANACATLÁN"]
[null,null,"TLAJOMULCO DE ZÚÑIGA"]
[null,null,"TLAQUEPAQUE"]
[null,null,"TONALÁ"]
[null,null,"ZAPOPAN"]

{"sheet":"Affordability Transp.","index":19,"n_rows":48,"n_cols":28,"rows_kept":48,"cut":false,"hidden":false,"merged":[[1,3,1,18]]}
[]
[null,null,null,"AFFORDABILITY OF TRANSPORT"]
[]
["DIMENSION","SUB-DIMENSION","CODE","INDICATOR","NOTES","BASIC","EXTENDED","MISSING",2000,2001,2002,2003,2004,2005,2006,2007,2008,2009,2010,2011,2012,2013,"Standardization","MIN","MAX","TARGET","LEVEL","SOURCES"]
[null,"demographic",null,"1. Population",{"$nulls":4},1001020.9,1037318.6,1070944.1000000001,1101897.3999999999,1130178.5,1155790,1178724.1000000001,1198988.6000000001,1216580.8999999999,1231501,1243756,1253324.6000000001,1260228.1000000001,1264459.3999999999,{"$nulls":5},"INEGI Website and GUO Projected Calculations"]
[null,null,null,"2. Homes/Households",{"$nulls":4},234751.26,244093.84,253055.74,261636.96,269837.5,277657.36,285096.53999999998,292155.04000000004,298832.86,305130,311046.46000000002,316582.24,321737.33999999997,326511.76,{"$nulls":5},"INEGI and GUO ProjectedCalculations"]
[null,null,null,"3. Urban Footprint area",{"$nulls":17},168.78]
[null,null,null,"4. Population in households",{"$nulls":4},987284,{"$nulls":4},1107515,{"$nulls":4},1220612]
[]
[null,null,null,"Average Number of Trips",{"$nulls":16},60]
[null,null,null,"Average Cost Per trip(Pesos)","Pesos",{"$nulls":15},{"$f":"U12*U13","v":7.8000000000000007},{"$nulls":5},"Municipal - Zapopan","Provided by Regina"]
[null,null,null,"Cost Per ticket (Pesos)","Pesos",{"$nulls":15},6,{"$nulls":5},"Municipal - Zapopan","Provided by Regina"]
[null,null,null,"Average No. of tickets per Trip",{"$nulls":16},1.3,{"$nulls":5},"Municipal - Zapopan","Provided by Regina"]
[null,null,null,"Household income (Lowest Quintile) ","Pesos",{"$nulls":11},{"$f":"O30","v":13464},null,{"$f":"S30","v":8838.5},null,{"$f":"W30","v":9009.5},{"$nulls":5},"State - Jalisco","INEGI. National Household Income and Expenditure Survey 2012 (ENlGH).Module socioeconomic conditions.Basic tables"]
[null,null,null,"Average Size of household",{"$nulls":4},4.21,null,null,4.2,null,3.99,null,null,4,null,3.92,null,3.9]
[null,null,null,"Income per Capita (Lowest Quintile)","Pesos",{"$nulls":11},{"$f":"Q14/Q15","v":3366},null,2254.7193877551022,null,{"$f":"U14/U15","v":2310.1282051282051}]
[]
[null,null,"ID_UM_5","5. Affordability of Transport (reversed)","%",null,"X","X",{"$nulls":12},{"$f":"100*((U10*U11)/U16)","v":20.258615905433157},null,2.2000000000000002,4,26]
[{"$nulls":20},{"$f":"(U18-$X$18)/($Y$18-$X$18)","v":0.73902799570150712}]
[null,null,null,"Standardized",{"$nulls":16},{"$f":"100*(1-U19)","v":26.097200429849288}]
[]
[]
[]
[{"$nulls":9},"HOUSEHOLD INCOME AND EXPENDITURE BY QUARTER DECILES HOMES AND GINI COEFFICIENT 1 ",{"$nulls":11},"TABLE 9.14"]
[{"$nulls":9},"JALISCO 2"]
[{"$nulls":9},"(2012 Constant Prices)"]
[{"$nulls":9},"DECILES HOMES 3",null,2008,null,null,null,2010,null,null,null,2012]
[{"$nulls":11},"HOMES","INCOME","AVERAGE",null,"HOMES","INCOME","AVERAGE",null,"HOMES","INCOME","AVERAGE"]
[{"$nulls":9},"CURRENT INCOME",null,1706058,89263727279,"52 322",null,1877327,80833762320,43058,null,1972304,81857120161,41503]
[{"$nulls":9},"I",null,170605,1685727266,9881,{"$f":"AVERAGE(N30:N31)","v":13464},187732,1080024509,5753,{"$f":"AVERAGE(R30,R31)","v":8838.5},"197 230",1143066826,5796,{"$f":"AVERAGE(V30:V31)","v":9009.5}]
[{"$nulls":9},"II",null,170605,2908252652,17047,null,187732,2238602924,11924,null,"197 230",2410734918,12223]
[{"$nulls":9},"III",null,170605,3801132425,"22 280",null,187732,3188979784,16987,null,"197 230",3341926780,16944]
[{"$nulls":9},"IV",null,170605,4669814681,27372,null,187732,4127172241,21984,null,"197 230",4126303422,20921]
[{"$nulls":9},"V",null,170605,5718669367,33520,null,187732,5215921076,27784,null,"197 230",5010253302,25403]
[{"$nulls":9},"VI",null,170605,6951839510,40748,null,187732,6404007599,34112,null,"197 230",6286439289,31874]
[{"$nulls":9},"VII",null,170605,8418915005,49347,null,187732,7949596227,42345,null,"197 230",7719523158,39140]
[{"$nulls":9},"VIII",null,170605,10406452225,60997,null,187732,10098247187,53791,null,"197 230",9792939329,49652]
[{"$nulls":9},"IX",null,170605,14365452640,84203,null,187732,13500581847,71914,null,"197 230",13695625488,69440]
[{"$nulls":9},"X",null,170613,30337471509,177815,null,187739,27030628928,143980,null,197234,28330307647,143638]
[{"$nulls":9},"GINI COEFFICIENT 1",null,null,null,0.43,null,null,null,0.44500000000000001,null,null,null,0.45]
[]
[{"$nulls":9},1,"The Gini coefficient is a measure of income concentration: values ​​between zero and one. When the value is close to one, indicates that there is greater concentration of income, however, when the value of the Gini coefficient approaches zero, income concentration is lower."]
[{"$nulls":9},2,"The homes of the entity are sorted into deciles according to their current income quarterly."]
[{"$nulls":9},3,"Households using zero current income, are classified in the first decile."]
[{"$nulls":9},"NOTE: Figures expanded according to CONAPO population projections updated in April 2013. "]
[{"$nulls":9},"Data are expressed in thousands of pesos, which is why you can find a difference in the totals by rounding issues."]
[{"$nulls":9},"SOURCE: INEGISocioeconomic Conditions Module ENIGH..Corresponding years."]
[{"$nulls":9},"INEGI. National Household Income and Expenditure Survey 2012 (ENlGH).Module socioeconomic conditions.Basic tables"]

{"sheet":"Traffic fatalities","index":20,"n_rows":5,"n_cols":22,"rows_kept":5,"cut":false,"hidden":false,"merged":[]}
[]
[null,null,2000,2001,2002,2003,2004,2005,2006,2007,2008,2009,2010,2011,2012,2013,"Standardization","MIN","MAX","TARGET"]
["4. Traffic Fatalities (reversed)",{"$nulls":15},2.2000000000000002,1,31,null,null,"SINAIS- IMCO Data Base"]
["     Traffic Fatalities ","# / 100,000 people",{"$nulls":8},16.68687709520707,16.44302705297731,15.814763429479672,14.918017080839086,16.100685265792741]
["Standardized",{"$nulls":9},{"$f":"100*(1-((K4-$R$3)/($S$3-$R$3)))","v":47.710409682643096},{"$f":"100*(1-((L4-$R$3)/($S$3-$R$3)))","v":48.523243156742303},50.617455235067752,53.606609730536384,49.664382447357525]

{"sheet":"Street Connectivity","index":21,"n_rows":34,"n_cols":14,"rows_kept":34,"cut":false,"hidden":false,"merged":[]}
[null,"Street Connectivity Index"]
[null,"Source:","UN-Habitat - GUO / gvSIG"]
[null,"Computation based in own methodology",{"$nulls":7},"Present values"]
[null,"Contact UN-Habitat:","Regina Orvañanos ",{"$nulls":6},"min",6]
[null,"Contact gvSIG","Manuel Madrid",{"$nulls":6},"max",36]
[{"$nulls":9},"target",null,20,100]
["Region","Country","City","Delimitation","Year of Measurement","Land Allocated to Street","Street Density","Intersection Density",null,null,"LAS","SD","ID","index\nAverage"]
["LAC","Colombia","Neiva","Urban footprint",2014,22.5,24.75,243.75,null,null,{"$f":"100*(F8-$K$4)/($K$5-$K$4)","v":55},{"$f":"100*(1-ABS(G8-$L$6)/$L$6)","v":76.25},{"$f":"100*(1-ABS(H8-$M$6)/$M$6)","v":-43.75},{"$f":"+(1/3)*(M8+L8+K8)","v":29.166666666666664}]
["LAC","Colombia","Monteria","Urban footprint",2014,16.2,21.68,210.91,null,null,33.999999999999993,91.600000000000009,-10.909999999999997,38.229999999999997]
["LAC","Colombia","Pasto","Urban footprint",2014,20.96,22.39,207.06,null,null,49.866666666666667,88.05,-7.06,43.618888888888883]
["LAC","Colombia","Cartagena","Urban footprint",2014,14.61,17.41,171.94,null,null,28.7,87.050000000000011,28.060000000000006,47.936666666666667]
["LAC","Colombia","Ibagué","Urban footprint",2014,16.14,17.3,160.57,null,null,33.799999999999997,86.5,39.430000000000007,53.243333333333339]
["LAC","Colombia","Armenia","Urban footprint",2014,21.65,16.809999999999999,171.67,null,null,52.166666666666657,84.05,28.330000000000013,54.848888888888894]
["LAC","Mexico","Ciudad Obregon ","Urban footprint, Cajeme ",2014,23.34,13.63,80.069999999999993,null,null,57.8,68.150000000000006,80.069999999999993,68.673333333333318]
["LAC","Mexico","Corregidora","Municipal, urban footprint",2014,24.9,18.45,120.49,null,null,62.999999999999993,92.25,79.510000000000005,78.25333333333333]
["LAC","Colombia","Cali","Urban footprint",2014,19.2,18.86,173.6,null,null,44,94.3,26.400000000000002,54.899999999999991]
["LAC","Saudi Arabia","Dammam","Urban footprint",2014,23.97,13.38,93.44,null,null,59.9,66.900000000000006,93.44,73.413333333333327]
["LAC","Mexico","Guadalajara ","Metropolitan Area",2014,20.93,15.26,110.87,null,null,49.766666666666666,76.3,89.13,71.732222222222219]
["LAC","Colombia","Bogota","Urban footprint",2014,18.28,15.93,153.22999999999999,null,null,40.93333333333333,79.650000000000006,46.77000000000001,55.784444444444446]
["LAC","Colombia","Sincelejo","Urban footprint",2014,19.079999999999998,19.63,174.17,null,null,43.599999999999994,98.149999999999991,25.830000000000009,55.859999999999992]
["LAC","Colombia","Tunja","Urban footprint",2014,19.46,18.940000000000001,165.62,null,null,44.866666666666667,94.7,34.380000000000003,57.982222222222227]
["LAC","Colombia","Santa Marta","Urban footprint",2014,20.02,18.57,160.94,null,null,46.733333333333334,92.85,39.06,59.547777777777767]
["LAC","Colombia","Cúcuta","Urban footprint",2014,17.16,19.59,152.5,null,null,37.200000000000003,97.95,47.5,60.883333333333326]
["LAC","Colombia","Bucaramanga","Urban footprint",2014,18.46,19.32,155.11000000000001,null,null,41.533333333333331,96.6,44.889999999999986,61.007777777777768]
["LAC","Mexico","Querétaro ","Metropolitan Area",2014,24.25,16.98,121.42,null,null,60.833333333333336,84.899999999999991,78.58,74.771111111111111]
["LAC","Colombia","Pereira","Urban footprint",2014,20.9,19.71,163.75,null,null,49.666666666666657,98.550000000000011,36.250000000000007,61.488888888888887]
["LAC","Colombia","Barranquilla","Urban footprint",2014,20.34,19.96,156.1,null,null,47.8,99.8,43.900000000000006,63.833333333333329]
["LAC","Colombia","Villavicencio","Urban footprint",2014,18.87,16.07,120,null,null,42.9,80.349999999999994,80,67.75]
["LAC","Colombia","Valledupar","Urban footprint",2014,25.89,19.45,131.61000000000001,null,null,66.3,97.249999999999986,68.389999999999986,77.313333333333333]
["MENA","Colombia","Medellin","Urban footprint",2014,22.07,18.09,105,null,null,53.56666666666667,90.45,95,79.672222222222217]
["LAC","Mexico","Zapopan","Municipal, urban footprint",2014,23.21,17.079999999999998,116.3,null,null,57.366666666666667,85.399999999999991,83.7,75.48888888888888]
[]
[]
[{"$nulls":4},"Average",{"$f":"AVERAGE(F8:F31)","v":20.516249999999996},{"$f":"AVERAGE(G8:G31)","v":18.301666666666659},{"$f":"AVERAGE(H8:H31)","v":150.83833333333334},null,"Ave",{"$f":"AVERAGE(K8:K31)","v":48.387499999999989},{"$f":"AVERAGE(L8:L31)","v":87.833333333333314},{"$f":"AVERAGE(M8:M31)","v":46.954166666666659},{"$f":"+(1/3)*(M34+L34+K34)","v":61.058333333333316}]

{"sheet":"QOL","index":22,"n_rows":71,"n_cols":33,"rows_kept":71,"cut":false,"hidden":false,"merged":[]}
[]
[null,"NOTE:"]
[null,"CPI Calculated Using Latest Years of Informatiion"]
[null,null,"Sub Index values"]
[null,null,"Missing data"]
[null,null,"Stale level Data (JALISCO)"]
[null,null,"Country Level Data (MEXICO)"]
[]
[null,null,"QUALITY OF LIFE INDEX"]
[]
[{"$nulls":7},"BASIC","EXTENDED"]
[null,null,"QUALITY OF LIFE INDEX",{"$nulls":4},{"$f":"GEOMEAN(H18,H33,H52,H62)","v":54.712998863212214},{"$f":"GEOMEAN(I18,I33,I52,I62)","v":48.277649455755942}]
["DIMENSION","CODE","INDICATOR","NOTES","BASIC","EXTENDED","MISSING",null,null,"Year",2000,2001,2002,2003,2004,2005,2006,2007,2008,2009,2010,2011,2012,2013,2014,"Standardization","MIN","MAX","TARGET","LEVEL","SOURCES",null,"NOTES"]
[null,null,"1. Population",{"$nulls":7},3699136.000000034,3783094.7600000291,3864745.840000025,3944089.2400000212,4021124.9600000186,4095853.0000000168,4168273.3600000157,4238386.0400000149,4306191.0400000159,4371688.3600000171,4434878.0000000196,4495759.9600000223,4554334.2400000263,4610600.8400000297,4664559.7600000352,{"$nulls":4},"Municipal - Zapopan","INEGI and GUO Projected Calculations"]
[null,null,"2. Homes/Households",{"$nulls":27},"INEGI and GUO Projected Calculations"]
[null,null,"3. Urban Footprint area",{"$nulls":21},675.99]
[null,null,"4. Population in households"]
["Quality of Life Index (QOL)",null,"1. Health Sub Index (H)",{"$nulls":4},{"$f":"AVERAGE(W20,V24)","v":68.044242814030767},{"$f":"AVERAGE(W20,V24,X27,W31)","v":68.162349898573751}]
[null,"QoL_H_1","1. Life Expectancy at Birth","years","X",{"$nulls":4},2012,74.8,"-","-","-","-",75.930000000000007,76.180000000000007,76.41,76.64,76.86,77.069999999999993,77.28,77.28,null,null,2.1,54,83.48,null,"STATE - Jalisco","SEPLAN"]
[null,null,"Standardised",{"$nulls":7},{"$f":"100*((K19-$AA$19)/($AB$19-$AA$19))","v":70.556309362279492},"-","-","-","-",{"$f":"100*((P19-$AA$19)/($AB$19-$AA$19))","v":74.389416553595666},75.237449118046158,76.017639077340547,76.797829036635008,77.544097693351404,78.256445047489791,78.968792401628221,78.968792401628221]
[]
[null,"QoL_H_2","2. Under-Five Mortality Rate (reversed)","# / 1,000 live births","X",{"$nulls":4},2011,20.7,19.899999999999999,19,18.3,17.600000000000001,17,16.399999999999999,15.8,15.3,14.9,14.4,14.6,null,null,null,"2.2 (ln)",0.79,5.2,null,"STATE - Jalisco","ONU-Secretaria de salud",null,"http://www.objetivosdedesarrollodelmilenio.org.mx/cgi-win/odm.exe/INDODM004000100020,24,0,000,False,False,False,False,False,False,False,0,0"]
[{"$nulls":10},{"$f":"(LN(K22)-$AA$22)/($AB$22-$AA$22)","v":0.50796682545834992},0.49902941762595165,0.48853491591075743,0.48002291606516451,0.47117888935240504,0.46331368345945945,0.45516583556239293,0.4467142721163086,0.43942241006766208,0.43341524103206647,0.42567533029069266,0.42880306773566684]
[null,null,"Standardised",{"$nulls":7},{"$f":"100*(1-K23)","v":49.20331745416501},{"$f":"100*(1-L23)","v":50.097058237404838},51.146508408924248,51.997708393483542,52.882111064759499,53.668631654054053,54.48341644376071,55.328572788369137,56.057758993233797,56.658475896793362,57.43246697093074,57.119693226433313]
[]
[null,"QoL_H_3","3. Vaccination Coverage","%",null,"X",null,null,null,2013,96.8,88,76.7,86.4,79.099999999999994,79.8,68.599999999999994,71.400000000000006,80.599999999999994,76.2,80.099999999999994,79.900000000000006,85.4,81.599999999999994,null,1.1000000000000001,0,100,null,"STATE - Jalisco","ONU-Secretaria de salud",null,"http://www.objetivosdedesarrollodelmilenio.org.mx/cgi-win/odm.exe/INDODM004000100020,24,0,000,False,False,False,False,False,False,False,0,0"]
[null,null,"Standardised",{"$nulls":7},{"$f":"K26","v":96.8},88,76.7,86.4,79.099999999999994,79.8,68.599999999999994,71.400000000000006,80.599999999999994,76.2,80.099999999999994,79.900000000000006,85.4,{"$f":"X26","v":81.599999999999994}]
[]
[null,"QoL_H_4","4. Maternal Mortality (reversed)","# / 100,000 live births",null,"X",null,null,null,2012,56.4,46.1,33.1,37.1,43.8,34.700000000000003,51.5,30.7,34.700000000000003,54.1,32.299999999999997,23.4,23.4,null,null,"2.2 (ln)",0,7,null,"STATE - Jalisco","ONU-Secretaria de salud",null,"http://www.objetivosdedesarrollodelmilenio.org.mx/cgi-win/odm.exe/SHIODM005000100010,26,E"]
[{"$nulls":10},{"$f":"(LN(K29)-$AA$29)/($AB$29-$AA$29)","v":0.57606702264343046},0.54725899285751467,0.4999333260547168,0.51623099565905561,0.53994768819748573,0.50667709813611617,0.56308311538138434,0.48918037922759305,0.50667709813611617,0.57011916940749086,0.49643817574694443,0.45039086033766512,0.45039086033766512]
[null,null,"Standardised",{"$nulls":7},{"$f":"100*(1-K30)","v":42.393297735656951},45.274100714248533,50.006667394528328,48.376900434094438,46.005231180251428,49.332290186388384,43.691688461861567,51.081962077240696,49.332290186388384,42.988083059250911,50.356182425305548,54.960913966233484,{"$f":"100*(1-W30)","v":54.960913966233484}]
[]
[null,null,"2. Education Sub Index (E)",{"$nulls":4},{"$f":"AVERAGE(U35,U40)","v":80.933507438658808},{"$f":"AVERAGE(U35,U40,X43,X47,X49)","v":64.949522772428253}]
[null,"QoL_E_1","1. Literacy Rate","%","X",{"$nulls":4},2010,{"$nulls":5},{"$f":"'Literacy rate'!C15","v":96.822616909123823},{"$nulls":4},{"$f":"'Literacy rate'!D15","v":97.37721895895028},{"$nulls":4},2.1,{"$f":"0.15*100","v":15},{"$f":"0.999*100","v":99.9},null,"Municipal - Zapopan","SIEG-INEGI"]
[null,null,"Standardised",{"$nulls":12},{"$f":"P34","v":96.822616909123823},{"$nulls":4},{"$f":"U34","v":97.37721895895028}]
[]
[null,"QoL_E_2","2. Mean Years of Schooling","years","X",{"$nulls":4}," ",{"$nulls":9}," ",{"$f":"'Mean Years of Schooling'!H17","v":9.0285714285714285},{"$nulls":4},3,null,null,14,"Municipal - Zapopan","ENOE"]
[{"$nulls":20},{"$f":"ABS((U37-$AC$37)/$AC$37)","v":0.35510204081632651}]
[{"$nulls":20},{"$f":"100*(1-U38)","v":64.489795918367349}]
[null,null,"Standardised ",{"$nulls":17},{"$f":"IF(U37>$AC$37,100,U39)","v":64.489795918367349}]
[]
[null,"QoL_E_3","3. Under-Six Participation on First Stage Development Programs","%",null,"X",null,null,null,2013,{"$nulls":6},69.099999999999994,72.599999999999994,73.099999999999994,71,70.5,70.3,70.7,70.5,null,1.1000000000000001,0,{"$f":"1*100","v":100},null,"STATE","Secretaría de Educación Pública"]
[null,null,"Standardised",{"$nulls":13},{"$f":"Q42","v":69.099999999999994},{"$f":"R42","v":72.599999999999994},73.099999999999994,71,70.5,70.3,70.7,70.5]
[]
[]
[null,"QoL_E_4","4. Net enrollment rate in higher education","%",null,"X",null,null,null,2013,{"$nulls":7},{"$f":"NERHE!C22","v":40.199532015022122},{"$f":"NERHE!D22","v":40.447796597067679},{"$f":"NERHE!E22","v":40.99285946762852},{"$f":"NERHE!F22","v":26.170799995220818},{"$f":"NERHE!G22","v":26.721962355092433},{"$f":"NERHE!H22","v":27.831249314161688},{"$f":"NERHE!I22","v":27.431076212395393},null,1.1000000000000001,0,{"$f":"1*100","v":100}]
[null,null,"Standardised",{"$nulls":14},{"$f":"R46","v":40.199532015022122},{"$f":"S46","v":40.447796597067679},40.99285946762852,26.170799995220818,26.721962355092433,27.831249314161688,27.431076212395393,{"$nulls":5},"Metropolitan Guadalajara","Secretaría de Educación Pública"]
[]
[null,"QoL_E_5","5. Number of Top Universities","#",null,"X",{"$nulls":19},2.1,0,4]
[null,null,"Standardised"]
[]
[null,null,"3. Safety and Security Sub Index (SS)",{"$nulls":4},{"$f":"AVERAGE(U55)","v":42.083344567020234},{"$f":"AVERAGE(U55,U59)","v":38.910077477805856}]
[null,"QoL_SS_1","     Homicides per year",null,"X",{"$nulls":4},2010,{"$nulls":8},{"$f":"'Homicide and theft'!S35","v":529},{"$f":"'Homicide and theft'!T35","v":592},{"$f":"'Homicide and theft'!U35","v":909},{"$nulls":4},"2.2 (ln)",0,7.41,null,"Metropolitan Guadalajara","INEGI"]
[null,null,"1. Homicide rate (reversed)","# / 100,000 people",{"$nulls":14},{"$f":"'Homicide and theft'!S36","v":43.482517274436908},{"$f":"'Homicide and theft'!T36","v":48.071418537215969},{"$f":"'Homicide and theft'!U36","v":73.085074564464406}]
[null,null,"Standardised",{"$nulls":8}," ",{"$nulls":6},{"$f":"'Homicide and theft'!S37","v":49.090972259468188},{"$f":"'Homicide and theft'!T37","v":47.73700686512862},{"$f":"'Homicide and theft'!U37","v":42.083344567020234}]
[]
[null,"QoL_SS_2","Theft offenses recorded in the MP of common law",null,null,"X",null,null,null,2010,{"$nulls":8},{"$f":"'Homicide and theft'!S39","v":15433},{"$f":"'Homicide and theft'!T39","v":14911},{"$f":"'Homicide and theft'!U39","v":22123},{"$nulls":4},"2.2 (fourth root)",2.2400000000000002,8.86,null,"Metropolitan Guadalajara","INEGI"]
[null,null,"2. Theft rate (reversed)","# / 100,000 people",{"$nulls":14},{"$f":"'Homicide and theft'!S40","v":1268.5551778759639},{"$f":"'Homicide and theft'!T40","v":1210.7988544061272},{"$f":"'Homicide and theft'!U40","v":1778.7250875573666}]
[null,null,"Standardised",{"$nulls":15},{"$f":"'Homicide and theft'!S41","v":43.686106553633863},{"$f":"'Homicide and theft'!T41","v":44.730229671751495},{"$f":"'Homicide and theft'!U41","v":35.736810388591486}]
[]
[]
[null,null,"4. Public Space (PS)",{"$nulls":4},{"$f":"AVERAGE(Y66)","v":38.666252459355903},{"$f":"AVERAGE(Y66,Y71)","v":31.535654848727365},{"$nulls":20}," "]
[null,"QoL_PS_1","1. Accessibility to Open Public Area","%","X",{"$nulls":4},2013,{"$nulls":14},{"$f":"Y65/Y64*100","v":38.666252459355903},1.1000000000000001,null,100]
[null,null,"Urban Area",{"$nulls":21},{"$f":"Y16","v":675.99}]
[null,null,"Public Space (with 300m buffer)",{"$nulls":21},{"$f":"'Public Space'!E3","v":261.38}]
[null,null,"Standardized",{"$nulls":21},{"$f":"Y63","v":38.666252459355903}]
[]
[null,"QoL_PS_2","Green Area (m3)","m2",{"$nulls":5},2013,{"$nulls":14},{"$f":"'Public Space'!F3","v":17075827.190000001}]
[null,null,"2. Green area per capita","m2 / inhabitant",null,"X",{"$nulls":18},{"$f":"Y68/Y14","v":3.6607585857148228},3,null,null,15]
[{"$nulls":24},{"$f":"ABS((Y69-$AC$69)/$AC$69)","v":0.75594942761901174}]
[null,null,"Standardised",{"$nulls":21},{"$f":"100*(1-Y70)","v":24.405057238098827}]

{"sheet":"Literacy rate","index":23,"n_rows":19,"n_cols":11,"rows_kept":19,"cut":false,"hidden":false,"merged":[[0,2,0,3],[0,4,0,5],[0,6,0,7]]}
[null,null,"Poblacion",null,"Analfabeta",null,"Literacy",null,null,null,"source"]
[null,null,2005,2010,2005,2010,2005,2010,null,null,"SIEG-INEGI\nIIEG Jalisco"]
["Poblacion de mas de 15 años","Guadalajara",1128790,1111368,28913,23365,{"$f":"C3-E3","v":1099877},{"$f":"D3-F3","v":1088003}]
[null,"El Salto",68605,89709,4199,3829,{"$f":"C4-E4","v":64406},85880]
[null,"Ixtlahuacan",15335,27063,909,932,14426,26131]
[null,"Juanacatlan",7875,9148,519,419,7356,8729]
[null,"El Salto",68605,89709,4199,3829,64406,85880]
[null,"Tlajomulco",125733,257524,6120,6573,119613,250951]
[null,"Tlaquepaque",360720,412675,15701,14076,345019,398599]
[null,"Tonala ",255815,318738,5262,10710,250553,308028]
[null,"Zapopan",769223,883990,23167,20194,746056,863796]
[null,"Total",2800701,3199924,88989,83927,{"$f":"SUM(G3:G11)","v":2711712},3115997]
[]
[null,null,2005,2010]
[null,"Literacy rate",{"$f":"100*(G12/C12)","v":96.822616909123823},{"$f":"100*(H12/D12)","v":97.37721895895028}]
[null,"standardized",{"$f":"100*((C15-15)/(99.9-15))","v":96.375284934185885},{"$f":"100*((D15-15)/(99.9-15))","v":97.028526453416106}]
[]
[]
[null,null,null," "]

{"sheet":"Mean Years of Schooling","index":24,"n_rows":26,"n_cols":9,"rows_kept":26,"cut":false,"hidden":false,"merged":[]}
["Área Geográfica",null,"Education and Culture"]
[null,null,"Major educational and cultural characteristics of the population"]
[null,null,"Major educational and cultural characteristics of the population"]
[null,null,"2010"]
[null,null,"Caract educativas y cult"]
["Clave","Nombre","Population aged 6 and over by literacy condition , and sex","Población de 5 y más años por condición de asistencia escolar y sexo","Población de 5 y más años por nivel de escolaridad y sexo","Population aged 18 and over with professional","Population aged 18 and over with graduate","Average level of schooling of the population 15 or older","Population aged 5 and over by Indigenous status talks"]
["14","Jalisco",6426598,6569065,6569065,731038,65256,8.8000000000000007,6569065]
["14039","Guadalajara",1334690,1357921,1357921,225732,19141,10,1357921]
["14051","Juanacatlán",11597,11905,11905,600,39,8.3000000000000007,11905]
["14070","El Salto",118446,121709,121709,4810,225,8,121709]
["14097","Tlajomulco de Zúñiga",341792,352469,352469,30880,2571,9.1,352469]
["14098","Tlaquepaque",527505,540360,540360,52213,3866,8.9,540360]
["14101","Tonalá",410975,421256,421256,28443,1589,8.5,421256]
["14120","Zapopan",1092861,1115381,1115381,218861,24317,10.4,1115381]
[{"$nulls":7},{"$f":"AVERAGE(H8:H14)","v":9.0285714285714285}]
[]
[{"$nulls":6},"mean Years of schooling",9.0285714285714285]
["a/","Para el XII Censo General de Población y Vivienda 2000 se denominó \"sin instrucción\"."]
["b/","Comprende primaria completa e inconclusa."]
["NS","No significativo"]
["C","Cifra no publicable, por el principio de confidencialidad de la Ley de Información Estadística y Geográfica."]
["ND","No disponible"]
[]
[]
["source","http://sc.inegi.org.mx/sistemas/cobdem/resultados.jsp?w=99&Backidhecho=528&Backconstem=527&constembd=167"]
[null,"INEGI"]

{"sheet":"NERHE","index":25,"n_rows":27,"n_cols":17,"rows_kept":27,"cut":false,"hidden":false,"merged":[[11,1,11,8]]}
[]
[null,"Guadalajara Age (18-23yrs) 2010"]
[]
[null,"Year (000's) ",2000,2001,2002,2003,2004,2005,2006,2007,2008,2009,2010,2011,2012,2013,2014]
[null,"Population (18-23)",418867.1521985518,428374.11996165093,437619.78039520461,446604.13349921291,455327.17927367584,463788.91771859332,471989.34883396543,479928.4726197921,487606.28907607344,495022.79820280941,502178,509071.89446764515,515704.48160574498,522075.76141429931,528185.73389330832]
[null,"Population (18-23 Male)",203814.68946564134,208417.71056493619,212932.81695740033,217360.00864303374,221699.28562183643,225950.6478938084,230114.09545894968,234189.62831726027,238177.24646874011,242076.94991338922,245888.73865120759,249612.61268219526,253248.57200635222,256796.61662367845,260256.74653417396]
[null,"Population (18-23Female)",215052.46273291405,219956.40939671823,224686.96343780766,229244.12485618234,233627.89365184231,237838.26982478751,241875.25337501796,245738.84430253372,249429.04260733468,252945.84828942089,256289.26134879241,259459.28178544916,262455.90959939116,265279.14479061845,267928.98735913093]
[]
[]
[]
[]
[null,"Calculating Net Enrollment in Higher Education"]
[]
[null,"School Year","2006-2007","2007-2008","2008-2009","2009-2010","2010-2011","2011-2012","2012-2013"]
[null,null,2007,2008,2009,2010,2011,2012,2013]
[null,"Population (18-23)",479928.4726197921,487606.28907607344,495022.79820280941,502178,509071.89446764515,515704.48160574498,522075.76141429931]
[null,"Population (18-23 Male)",234189.62831726027,238177.24646874011,242076.94991338922,245888.73865120759,249612.61268219526,253248.57200635222,256796.61662367845]
[null,"Population (18-23Female)",245738.84430253372,249429.04260733468,252945.84828942089,256289.26134879241,259459.28178544916,262455.90959939116,265279.14479061845]
[null,"Students",192929,197226,202924,131424,136034,143527,143211]
[null,"Students Men",98071,100264,101410,66743,69015,72471,72948]
[null,"Students Women",94858,96962,101514,64681,67019,71056,70263]
[null,"NERHE (%)",{"$f":"100*(C19/C16)","v":40.199532015022122},{"$f":"100*(D19/D16)","v":40.447796597067679},40.99285946762852,26.170799995220818,26.721962355092433,27.831249314161688,27.431076212395393]
[null,null," "]
[]
[]
[]
[{"$nulls":4}," "]

{"sheet":"Public Space","index":26,"n_rows":3,"n_cols":7,"rows_kept":3,"cut":false,"hidden":false,"merged":[[3,1,3,5],[1,0,1,1]]}
[]
["CITY",null,"SURFACE AREA(km2) ","PUBLIC SPACE AREA(km2) ","PUBLIC SPACE+ BUFFER(km2) ","GREEN AREA(m2) ","ACCESS(%)"]
[null,"Guadalajara",675.99,13.68,261.38,17075827.190000001,38.67]

{"sheet":"Homicide and theft","index":27,"n_rows":47,"n_cols":33,"rows_kept":47,"cut":false,"hidden":false,"merged":[]}
[null,null,2000,2001,2002,2003,2004,2005,2006,2007,2008,2009,2010]
["Homicides","Guadalajara",{"$nulls":8},193,179,274,null,null,"Metropolitan- Guadalajara","INEGI"]
[null,"Ixtlahuacán de los Membrillos",{"$nulls":8},15,16,22,null,null,"Metropolitan-Guadalajara","INEGI"]
[null,"Juanacatlán",{"$nulls":8},2,1,0]
[null,"El Salto",{"$nulls":8},21,21,44]
[null,"Tlajomulco de Zúñiga",{"$nulls":8},57,80,126]
[null,"Tlaquepaque",{"$nulls":8},77,80,143]
[null,"Tonalá",{"$nulls":8},38,53,76]
[null,"Zapopan",{"$nulls":8},126,162,224]
[null,"Metropolitan area",{"$nulls":8},529,592,909]
[]
[{"$nulls":14}," "]
[]
[]
[null,null,2000,2001,2002,2003,2004,2005,2006,2007,2008,2009,2010]
["Thefts","Guadalajara",{"$nulls":8},7822,7107,10227]
[null,"Ixtlahuacán de los Membrillos",{"$nulls":8},62,111,204]
[null,"Juanacatlán",{"$nulls":8},32,25,36]
[null,"El Salto",{"$nulls":8},409,452,609]
[null,"Tlajomulco de Zúñiga",{"$nulls":8},897,1404,2212]
[null,"Tlaquepaque",{"$nulls":8},1655,1572,2271]
[null,"Tonalá",{"$nulls":8},939,800,1133]
[null,"Zapopan",{"$nulls":8},3617,3440,5431]
[null,"Metropolitan area",{"$nulls":8},15433,14911,22123]
[]
[]
[{"$nulls":11}," "]
[]
["DIMENSION","CODE","INDICATOR","NOTES","BASIC","EXTENDED","MISSING",null,null,"Year",2000,2001,2002,2003,2004,2005,2006,2007,2008,2009,2010,2011,2012,2013,2014,"Standardization","MIN","MAX","TARGET","LEVEL","SOURCES",null,"NOTES"]
[null,null,"1. Population",{"$nulls":7},1001020.9,1037318.6,1070944.1000000001,1101897.3999999999,1130178.5,1155790,1178724.1000000001,1198988.6000000001,1216580.8999999999,1231501,1243756,1253324.6000000001,1260228.1000000001,1264459.3999999999,{"$nulls":5},"Municipal - Zapopan","INEGI and GUO Projected Calculations"]
[null,null,"2. Homes/Households",{"$nulls":7},234751.26,244093.84,253055.74,261636.96,269837.5,277657.36,285096.53999999998,292155.04000000004,298832.86,305130,311046.46000000002,316582.24,321737.33999999997,326511.76,{"$nulls":6},"INEGI and GUO Projected Calculations"]
[null,null,"3. Urban Footprint area",{"$nulls":20},168.78]
[null,null,"4. Population in households",{"$nulls":7},987284,{"$nulls":4},1107515,{"$nulls":4},1220612]
[null,null,"3. Safety and Security Sub Index (SS)"]
[null,"QoL_SS_1","     Homicides per year",null,"X",{"$nulls":4},2010,{"$nulls":8},529,592,909,{"$nulls":4},"2.2 (ln)",0,7.41]
[null,null,"1. Homicide rate (reversed)","# / 100,000 people",{"$nulls":14},{"$f":"100000*(S35/S30)","v":43.482517274436908},{"$f":"100000*(T35/T30)","v":48.071418537215969},{"$f":"100000*(U35/U30)","v":73.085074564464406}]
[null,null,"Standardised",{"$nulls":15},{"$f":"100*(1-(LN(S36)/7.41))","v":49.090972259468188},{"$f":"100*(1-(LN(T36)/7.41))","v":47.73700686512862},{"$f":"100*(1-(LN(U36)/7.41))","v":42.083344567020234}]
[{"$nulls":19}," "]
[null,"QoL_SS_2","Theft offenses recorded in the MP of common law",null,null,"X",null,null,null,2010,{"$nulls":8},15433,14911,22123,{"$nulls":4},"2.2 (fourth root)",2.2400000000000002,8.86]
[null,null,"2. Theft rate (reversed)","# / 100,000 people",{"$nulls":14},{"$f":"100000*(S39/S30)","v":1268.5551778759639},{"$f":"100000*(T39/T30)","v":1210.7988544061272},{"$f":"100000*(U39/U30)","v":1778.7250875573666}]
[null,null,"Standardised",{"$nulls":15},{"$f":"100*(1-((S40)^0.25-2.24)/(8.86-2.24))","v":43.686106553633863},{"$f":"100*(1-((T40)^0.25-2.24)/(8.86-2.24))","v":44.730229671751495},{"$f":"100*(1-((U40)^0.25-2.24)/(8.86-2.24))","v":35.736810388591486}]
[null,null," "]
[]
[]
[]
[]
[{"$nulls":19}," "]

{"sheet":"EQUITY","index":28,"n_rows":47,"n_cols":32,"rows_kept":47,"cut":false,"hidden":false,"merged":[[6,2,6,20],[15,0,47,0]]}
[null,"NOTE:"]
[null,"CPI Calculated Using Latest Years of Informatiion"]
[null,null,"Sub Index values"]
[null,null,"Missing data"]
[null,null,"Stale level Data (JALISCO)"]
[null,null,"Metropolitan Level Data (GUADALAJARA)"]
[null,null,"EQUITY AND SOCIAL INCLUSION INDEX"]
[]
[{"$nulls":7},"BASIC","EXTENDED"]
[null,null,"EQUITY AND SOCIAL INCLUSION INDEX",{"$nulls":4},{"$f":"GEOMEAN(H16,H24,H33,H46)","v":63.363272173894252},{"$f":"GEOMEAN(I16,I24,I33,I46)","v":59.625120133191253}]
["DIMENSION","CODE","INDICATOR","NOTES","BASIC","EXTENDED","MISSING",null,null,"year",2000,2001,2002,2003,2004,2005,2006,2007,2008,2009,2010,2011,2012,2013,2014,"Standardization","MIN","MAX","TARGET","LEVEL","SOURCES","NOTES"]
[null,null,"1. Population",{"$nulls":7},3699136.000000034,3783094.7600000291,3864745.840000025,3944089.2400000212,4021124.9600000186,4095853.0000000168,4168273.3600000157,4238386.0400000149,4306191.0400000159,4371688.3600000171,4434878.0000000196,4495759.9600000223,4554334.2400000263,4610600.8400000297,4664559.7600000352]
[null,null,"2. Homes/Households",{"$nulls":27},"INEGI and GUO ProjectedCalculations"]
[null,null,"3. Urban Footprint area"]
[null,null,"4. Population in households"]
["Equity and Social Inclusion Index (ESI)",null,"1. Economic Equity Sub Index (EE)",{"$nulls":4},{"$f":"AVERAGE(U18,W22)","v":32.450303169376902},{"$f":"AVERAGE(U18,W22)","v":32.450303169376902}]
[null,"ESI_EE_1","1. Gini Coefficient (reversed)","dimensionless (0 - 1)","X",{"$nulls":4},2010,null,null,{"$f":"GiniCoefficient!H5","v":0.44600000000000001},null,null,{"$f":"GiniCoefficient!K5","v":0.39900000000000002},{"$nulls":4},{"$f":"GiniCoefficient!P5","v":0.42099999999999999},{"$nulls":4},2.2000000000000002,0.24,0.63,null,"Metropolitan Region","GUO, Calculated from Census 2010; 2008 ans 2012 are state level values"]
[null,null,"Standardized",{"$nulls":9},{"$f":"GiniCoefficient!H6","v":0.47179487179487178},null,null,{"$f":"GiniCoefficient!K6","v":0.5923076923076922},{"$nulls":4},{"$f":"GiniCoefficient!P6","v":0.53589743589743599}]
[]
[null,"ESI_EE_2","2. Poverty Rate (reversed)","%","X",{"$nulls":4},2010,{"$nulls":12},{"$f":"'PovertyRate '!K3","v":2.9779100470646771},null,null,"2.2 (fourth root)",{"$f":"0.0038*100","v":0.38},{"$f":"0.03*100","v":3},null,"Metropolitan Region","SEPLAN","Población en situación de pobreza multidimensional extrema"]
[{"$nulls":22},{"$f":"((W20^0.25)-$AA$20)/($AB$20-$AA$20)","v":0.3563529109714364}]
[null,null,"Standardized",{"$nulls":19},{"$f":"100*(1-W21)","v":64.364708902856364}]
[]
[null,null,"2. Social Inclusion Sub Index (SI)",{"$nulls":4},{"$f":"AVERAGE(U27,U31)","v":82.755179333836807},{"$f":"AVERAGE(U27,U31)","v":82.755179333836807}]
[null,"ESI_SI_1","1. Slum Households (reversed)","%","X",{"$nulls":4},2010,{"$nulls":10},{"$f":"'SlumHouseholds '!D8*100","v":10.197865875020458},{"$nulls":4},2.2000000000000002,0,{"$f":"0.8*100","v":80},null,"Metropolitan Region","GUO, Calculated from Census 2010"]
[{"$nulls":20},{"$f":"(U25-$AA$25)/($AB$25-$AA$25)","v":0.12747332343775572}]
[null,null,"Standardized",{"$nulls":17},{"$f":"100*(1-U26)","v":87.252667656224432}]
[]
[null,"ESI_SI_2","2. Youth Unemployment (reversed)","%","X",{"$nulls":4},2010,{"$nulls":10},{"$f":"0.068*100","v":6.8000000000000007},{"$nulls":4},"2.2 (fourth root)",{"$f":"0.0128*100","v":1.28},{"$f":"0.0282*100","v":2.82},null,"STATE - Jalisco","INEGI. Dirección General de Estadísticas Sociodemográficas. Censo de Población y Vivienda 2010 www.inegi.org.mx (9 de enero de"]
[{"$nulls":20},{"$f":"(((U29^0.25)-$AA$29)/($AB$29-$AA$29))","v":0.21742308988550815}]
[null,null,"Standardized",{"$nulls":17},{"$f":"100*(1-U30)","v":78.257691011449182}]
[]
[null,null,"3. Gender Inclusion Sub Index (GI)",{"$nulls":4},{"$f":"AVERAGE(X36)","v":94.732467076305696},{"$f":"AVERAGE(X36,U41,W44)","v":78.935771583074441}]
[null,"ESI_GI_1","1. Equitable Secondary School Enrollment","dimensionless (0-∞)","X",{"$nulls":4},2013,{"$nulls":7},{"$f":"EquiSecSchoolenroll!C38","v":1.0730146946274361},{"$f":"EquiSecSchoolenroll!D38","v":1.0772708919581737},{"$f":"EquiSecSchoolenroll!E38","v":1.0854282898974512},{"$f":"EquiSecSchoolenroll!F38","v":1.0626254191742488},{"$f":"EquiSecSchoolenroll!G38","v":1.0571748928918969},{"$f":"EquiSecSchoolenroll!H38","v":1.044488446789456},{"$f":"EquiSecSchoolenroll!I38","v":1.0526753292369431},null,5,null,null,1,"Metropolitan Region"]
[{"$nulls":17},{"$f":"ABS((R34-$AC$34)/$AC$34)","v":7.301469462743615E-2},7.7270891958173715E-2,8.5428289897451215E-2,6.2625419174248798E-2,5.7174892891896922E-2,4.448844678945596E-2,5.2675329236943069E-2]
[null,null,"Standardized",{"$nulls":14},{"$f":"100*(1-R35)","v":92.698530537256389},{"$f":"100*(1-S35)","v":92.272910804182629},91.457171010254882,93.737458082575117,94.282510710810314,95.551155321054409,94.732467076305696]
[]
[]
[null,"ESI_GI_2","2. Women in Local Government","%",null,"X",null,null,null,2010,{"$nulls":10},{"$f":"WomenInTheLocalGov!Q30","v":0.29905186084961366},{"$nulls":4},5,null,null,0.5,"Municipal - Metropolitan Region","INEGI. Anuario estadístico of Jalisco. 2012. 2013","Staff in Institutions of the Municipal Public Administration by sex"]
[{"$nulls":20},{"$f":"ABS((U39-$AC$39)/$AC$39)","v":0.40189627830077268},{"$nulls":9},"http://www.inegi.org.mx/prod_serv/contenidos/espanol/bvinegi/productos/integracion/pais/anuario_multi/2012/jal/702825046507.pdf"]
[null,null,"Standardized",{"$nulls":17},{"$f":"100*(1-U40)","v":59.810372169922729}]
[]
[null,"ESI_GI_3","3. Women in the Work Force","%",null,"X",{"$nulls":16},{"$f":"'Women In Employment'!T19","v":41.132237751497463},null,null,5,null,null,0.5,"STATE - Jalisco","http://www.inegi.org.mx/prod_serv/contenidos/espanol/bvinegi/productos/integracion/pais/anuario_multi/2012/jal/702825046507.pdf"]
[null,null,"Standardized",{"$nulls":19},{"$f":"'Women In Employment'!T21","v":82.264475502994927}]
[]
[null,null,"4. Urban Diversity (UD)"]
[null,"ESI_UD_1","1. Land Use Mix","dimensionless (0 - 1.61)","X",null,"X",{"$nulls":18},2.1,0,1.61]

{"sheet":"GiniCoefficient","index":29,"n_rows":16,"n_cols":23,"rows_kept":16,"cut":false,"hidden":false,"merged":[]}
["ESI_EE_1_GiniCoefficient (Reversed)"]
[null,null,"Id_Indicador","Unidad de medida","Notes",2000,2001,2002,2003,2004,2005,2006,2007,2008,2009,2010,2011,2012,2013,"Standardization","MIN","MAX"]
["1. Economic Equity Sub Index (EE)"]
["1. Gini Coefficient (reversed)","dimensionless (0 - 1)","X",{"$nulls":16},2.2000000000000002,0.24,0.63]
[{"$nulls":7},0.44600000000000001,null,null,0.39900000000000002,{"$nulls":4},0.42099999999999999,{"$nulls":6},"Metropolitan - Guadalajara"]
["Standardized",{"$nulls":6},{"$f":"1-((H5-$U$4)/($V$4-$U$4))","v":0.47179487179487178},null,null,{"$f":"1-((K5-$U$4)/($V$4-$U$4))","v":0.5923076923076922},{"$nulls":4},0.53589743589743599]
[]
[]
["NOTE:"]
["Source is : CONEVAL at Municipal level"]
["Data sources are:"]
[]
["for 2000-2005"]
["http://www.coneval.gob.mx/Medicion/Paginas/Mapas-de-desigualdad-2000-2005.aspx"]
["for 2010:"]
["http://www.coneval.gob.mx/Medicion/Paginas/Medici%C3%B3n/Anexo-estad%C3%ADstico-municipal-2010.aspx"]

{"sheet":"PovertyRate ","index":30,"n_rows":5,"n_cols":11,"rows_kept":5,"cut":false,"hidden":false,"merged":[[2,1,4,1]]}
["ESI_EE_2_PovertyRate (Reversed)"]
[null,null,"El Salto","Guadalajara","Ixtlahuacán de los Membrillos ","Juanacatlan","Tlajomulco de Zuniga","Tlaquepaque","Tonala","Zapopan","Metropolitan region"]
["population below $1.25 PPP a day (percentage)",2010,7.52,2.0499999999999998,4.26,4.32,3.77,4.58,4.9400000000000004,2.16,{"$f":"(K5*100)/K4","v":2.9779100470646771}]
["Total population",null,111436,1600940,23420,11902,220630,563006,408729,1155790,{"$f":"SUM(C4:J4)","v":4095853}]
["population below $1.25 PPP a day (absolute number)",null,{"$f":"(C4*C3)/100","v":8379.9871999999996},{"$f":"(D4*D3)/100","v":32819.269999999997},997.69200000000001,514.16640000000007,8317.7510000000002,{"$f":"(H4*H3)/100","v":25785.674800000001},20191.212600000003,24965.064000000002,{"$f":"SUM(C5:J5)","v":121970.81799999998}]

{"sheet":"SlumHouseholds ","index":31,"n_rows":10,"n_cols":5,"rows_kept":10,"cut":false,"hidden":false,"merged":[[7,0,7,1],[1,0,1,4],[2,0,2,4],[3,0,4,1],[3,2,3,3],[3,4,4,4],[5,0,6,0]]}
["ESI_SI_1_SlumHouseholds (Reversed)"]
["muncode3 Guadalajara Municipality Codes * slumthre Slum Crosstabulation"]
["% within muncode3 Guadalajara Municipality Codes"]
[" ",null,"slumthre Slum",null,"Total"]
[null,null,"Non-slum","Slum"]
["muncode3 Guadalajara Municipality Codes","Others",0.91986965532159359,8.0130344678406365E-2,1]
[null,"Metropolitan area of Guadalajara",0.89528894194632358,0.104711058053676,1]
["Total",null,0.89802134124979549,0.10197865875020458,1]
[]
["Note: See - Slum Estimates with Urban Totals  - Mexico - 20 Aug 2014.xls"]

{"sheet":"EquiSecSchoolenroll","index":32,"n_rows":38,"n_cols":10,"rows_kept":38,"cut":false,"hidden":false,"merged":[[14,0,15,0],[16,0,17,0],[18,0,19,0],[23,0,23,7],[2,0,3,0],[4,0,5,0],[6,0,7,0],[8,0,9,0],[10,0,11,0],[12,0,13,0]]}
["ESI_GI_1_EquitableSecondarySchoolEnrollment"]
["Enrollment in secondary school",null,"2007 (2006-2007)","2008 (2007-2008)","2009 (2008-2009)","2010 (2009-2010)","2011 (2010-2011)","2012 (2011-2012)","2013 (2012-2013)","Note: Year (School Year)"]
["Guadalajara","Male",29346,27667,27849,27778,28563,29508,28808]
[null,"Female",35391,33802,34004,33467,33814,34268,33876]
["Ixtlahuacán de los Membrillos","Male","-","-","-",139,418,444,424]
[null,"Female","-","-","-",152,411,484,490]
["Juanacatlán","Male","-","-","-","-","-","-","-"]
[null,"Female","-","-","-","-","-","-","-"]
["El Salto","Male",1051,1198,1288,1076,1518,1865,2114]
[null,"Female",1293,1445,1552,1261,1856,2211,2524]
["Tlajomulco de Zúñiga","Male",1192,975,1440,1844,2623,3050,3360]
[null,"Female",1407,1238,1907,2231,2795,3301,3630]
["Tlaquepaque","Male",4346,4816,5216,5226,5580,5872,6073]
[null,"Female",4768,5122,5637,5391,5931,6281,6286]
["Tonalá","Male",3004,4802,4561,4658,4777,4857,5070]
[null,"Female",3771,5107,4767,4867,5018,5051,5204]
["Zapopan","Male",20935,20146,21079,20419,22454,23582,24194]
[null,"Female",20784,20529,21808,20346,22579,23290,24187]
["Metropolitan Region","Male",{"$f":"SUM(C3,C9,C11,C13,C15,C17)","v":59874},{"$f":"SUM(D3,D9,D11,D13,D15,D17)","v":59604},61433,61001,65515,68734,69619]
[null,"Female",{"$f":"SUM(C4,C10,C12,C14,C16,C18)","v":67414},{"$f":"SUM(D4,D10,D12,D14,D16,D18)","v":67243},69675,67563,71993,74402,75707]
[]
[]
[]
["Calculating the Equitable Secondary School Enrollment Rate"]
["For Guadalajara Metropolita Area"]
[]
["Secondary School Enrollment"]
["School Year",null,"2006-2007","2007-2008","2008-2009","2009-2010","2010-2011","2011-2012","2012-2013"]
[null,null,2007,{"$f":"C29+1","v":2008},{"$f":"D29+1","v":2009},2010,{"$f":"F29+1","v":2011},2012,2013]
["Population (15-17)",null,255176.01679149666,259258.28057192086,263201.60830808862,267006,270671.45564765495,274197.97525105352,277585.55881019559]
["Population (15-17 Male)",null,124517.67281417824,126637.87316575482,128711.329625301,130738.04219281676,132718.01086830214,134651.2356517571,136537.71654318168]
["Population (15-17 Female)",null,130658.34397731941,132620.40740616672,134490.27868278799,136267.95780718324,137953.4447793524,139546.73959929554,141047.84226701263]
["Students",null,{"$f":"SUM(C34:C34)","v":59874},59604,61433,61001,65515,68734,69619]
["Students Men",null,{"$f":"C19","v":59874},{"$f":"D19","v":59604},61433,61001,65515,68734,69619]
["Students Women",null,{"$f":"C20","v":67414},67243,69675,67563,71993,74402,75707]
["Female Enrollment Rate",null,{"$f":"C35/C32","v":0.51595633273679176},{"$f":"D35/D32","v":0.50703358039053392},0.51806718435268573,0.4958098814073405,0.52186446025431366,0.53316903149183714,0.53674695609084033]
["Male Enrollment Rate",null,{"$f":"C34/C31","v":0.48084740620997563},{"$f":"D34/D31","v":0.47066488491941921},0.47729287063416376,0.46658951730387488,0.49364061118284402,0.51045948198918789,0.5098884159087439]
["(ESSE)",null,{"$f":"C36/C37","v":1.0730146946274361},{"$f":"D36/D37","v":1.0772708919581737},1.0854282898974512,1.0626254191742488,1.0571748928918969,1.044488446789456,1.0526753292369431]

{"sheet":"WomenInTheLocalGov","index":33,"n_rows":30,"n_cols":40,"rows_kept":30,"cut":false,"hidden":false,"merged":[[2,0,10,0],[8,1,9,1],[12,0,19,0],[21,0,29,0]]}
["ESI_GI_2_WomenInTheLocalGovernment"]
[null,null,"Id_Indicador","Unidad de medida","Notes",2000,2001,2002,2003,2004,2005,2006,2007,2008,2009,"ene_mar 2009",2010,"2010/1","2010/2","2010/3","2010/4",2011,"2011/1","2011/2","2011/3","2011/4",2012,"2012/1","2012/2","2012/3","2012/4",2013,"2013/1","2013/2","2013/3","2013/4",2014,"2014/1","2014/2","2014/3"]
["Number of women on government jobs","Guadalajara",{"$nulls":14},3794]
[null,"Ixtlahuacán de los Membrillos",{"$nulls":14},92]
[null,"Juanacatlán",{"$nulls":14},60]
[null,"El Salto",{"$nulls":14},283]
[null,"Tlajomulco de Zúñiga",{"$nulls":14},735]
[null,"Tlaquepaque",{"$nulls":14},992]
[null,"Tonalá",{"$nulls":14},899]
[]
[null,"Zapopan",{"$nulls":14},2008]
[null,"Metropolitan Region",{"$nulls":14},{"$f":"SUM(Q3:Q11)","v":8863}]
["Total of government jobs","Guadalajara",{"$nulls":14},12051]
[null,"Ixtlahuacán de los Membrillos",{"$nulls":14},385]
[null,"Juanacatlán",{"$nulls":14},185]
[null,"El Salto",{"$nulls":14},1029]
[null,"Tlajomulco de Zúñiga",{"$nulls":14},2681]
[null,"Tlaquepaque",{"$nulls":14},2834]
[null,"Tonalá",{"$nulls":14},3145]
[null,"Zapopan",{"$nulls":14},7327]
[null,"Metropolitan Region",{"$nulls":14},{"$f":"SUM(Q13:Q20)","v":29637}]
["Women In Government","Guadalajara",{"$nulls":14},{"$f":"Q3/Q13","v":0.31482864492573231}]
[null,"Ixtlahuacán de los Membrillos",{"$nulls":14},0.23896103896103896]
[null,"Juanacatlán",{"$nulls":14},0.32432432432432434]
[null,"El Salto",{"$nulls":14},0.27502429543245871]
[null,"Tlajomulco de Zúñiga",{"$nulls":14},0.27415143603133157]
[null,"Tlaquepaque",{"$nulls":14},0.35003528581510235]
[null,"Tonalá",{"$nulls":14},0.28585055643879176]
[null,"Zapopan",{"$nulls":14},{"$f":"Q11/Q20","v":0.27405486556571584}]
[null,"Metropolitan Region",{"$nulls":14},{"$f":"Q12/Q21","v":0.29905186084961366}]

{"sheet":"Women In Employment","index":34,"n_rows":21,"n_cols":28,"rows_kept":21,"cut":false,"hidden":false,"merged":[[1,2,1,19],[8,3,8,4],[8,5,8,6],[8,7,8,8]]}
[]
[null,null,"WOMEN IN WORK FORCE"]
[]
[null,null,"Subordinate workers and paid by industry of economic activity"]
[]
[null,null,"Strategic indicators of employment by occupation and sex"]
[null,null,"Quarter January to March and April to June 2012"]
[]
[null,null,null,"TOTAL",null,"MALE",null,"FEMALE"]
[null,null,null,"January to March","April to June","January to March","April to June","January to March","April to June"]
[null,null,"secondary",674545,682924,503140,508986,171405,173938]
[null,null,"terciary",1426643,1448038,739756,739490,686887,708548]
[null,null,"Total",{"$f":"SUM(D11:D12)","v":2101188},2130962,1242896,1248476,858292,882486]
[null,null,"Average",{"$f":"AVERAGE(D13,E13)","v":2116075},null,{"$f":"AVERAGE(F13,G13)","v":1245686},null,{"$f":"AVERAGE(H13,I13)","v":870389}]
[]
[]
[]
["DIMENSION","CODE","INDICATOR","NOTES","BASIC","EXTENDED","MISSING",2000,2001,2002,2003,2004,2005,2006,2007,2008,2009,2010,2011,2012,2013,"Standardization","MIN","MAX","TARGET","LEVEL","SOURCES","NOTES"]
[null,"ESI_GI_3","3. Women in the Work Force","%",null,"X",{"$nulls":13},{"$f":"100*(H14/D14)","v":41.132237751497463},null,5,null,null,50,"STATE - Jalisco","http://www.inegi.org.mx/prod_serv/contenidos/espanol/bvinegi/productos/integracion/pais/anuario_multi/2012/jal/702825046507.pdf"]
[{"$nulls":19},{"$f":"ABS((T19-$Y$19)/$Y$19)","v":0.17735524497005073}]
[null,null,"Standardized",{"$nulls":16},{"$f":"100*(1-T20)","v":82.264475502994927}]

{"sheet":"ENVIRONMENT","index":35,"n_rows":49,"n_cols":32,"rows_kept":49,"cut":false,"hidden":false,"merged":[[8,2,8,21],[17,0,44,0]]}
[null,"NOTE:"]
[null,"CPI Calculated Using Latest Years of Informatiion"]
[null,null,"Sub Index values"]
[null,null,"Missing data"]
[null,null,"Stale level Data (JALISCO)"]
[null,null,"Metropolitan Level Data (GUADALAJARA)"]
[null,null,"Country Level Data (MEXICO)"]
[]
[null,null,"ENVIRONMENTAL SUSTAINABILITY INDEX"]
[]
[{"$nulls":7},"BASIC","EXTENDED"]
[null,null,"ENVIRONMENTAL SUSTAINABILITY INDEX",{"$nulls":4},{"$f":"GEOMEAN(H18,H30,H39)","v":42.094179419779792},{"$f":"GEOMEAN(I18,I30,I39)","v":46.009300482889131}]
["DIMENSION","CODE","INDICATOR","NOTES","BASIC","EXTENDED","MISSING",null,null,"Year",2000,2001,2002,2003,2004,2005,2006,2007,2008,2009,2010,2011,2012,2013,2014,"Standardization","MIN","MAX","TARGET","LEVEL","SOURCES","NOTES/"]
[null,"Demographic","1. Population",{"$nulls":7},3699136.000000034,3783094.7600000291,3864745.840000025,3944089.2400000212,4021124.9600000186,4095853.0000000168,4168273.3600000157,4238386.0400000149,4306191.0400000159,4371688.3600000171,4434878.0000000196,4495759.9600000223,4554334.2400000263,4610600.8400000297,4664559.7600000352]
[null,null,"2. Homes/Households",{"$nulls":27},"INEGI and GUO ProjectedCalculations"]
[null,null,"3. Urban Footprint area"]
[null,null,"4. Population in households"]
["Environmental Sustainability (ES)",null,"1. Air Quality",{"$nulls":4},{"$f":"AVERAGE(X20)","v":33.333333333333329},{"$f":"AVERAGE(X20,V24,S28)","v":43.526073681493607}]
[null,"ES_AQ_1","1. Number of monitoring stations","#","X",{"$nulls":4},2013,{"$nulls":13},10,null,2.1,0,{"$f":"'PM10 Standardization Tables'!F10","v":30},null,"Metropolitan Area","http://siga.jalisco.gob.mx/aire/"]
[null,null,"Standardized",{"$nulls":20},{"$f":"100*((X19-$AA$19)/($AB$19-$AA$19))","v":33.333333333333329}]
[]
[null,"ES_AQ_2","2. PM10 Concentration (reversed)","ug/m3",null,"X",null,null,null,2011,{"$nulls":7},41.4,41.5,41.7,41.8,62.2,58.29,62.48,null,4,null,null,40,"Metropolitan - Guadalajara","SEMADE"]
[null,null,"Abs",{"$nulls":14},{"$f":"ABS((R22-$AC$22)/$AC$22)","v":3.4999999999999962E-2},{"$f":"ABS((S22-$AC$22)/$AC$22)","v":3.7499999999999999E-2},4.2500000000000072E-2,4.4999999999999929E-2,0.55500000000000005]
[null,null,"Standardized",{"$nulls":14},{"$f":"100*(1-R23)","v":96.500000000000014},96.25,95.749999999999986,95.5,44.499999999999993]
[]
[null,"ES_AQ_3","3. CO2 Emissions (reversed)","metric tonnes per capita",null,"X",null,null,null,2008,{"$nulls":8},2.42,{"$nulls":6},"2.2 (fifth root)",0.39,2.09,null,"Metropolitan - Guadalajara","OECD -http://measuringurban.oecd.org/"]
[{"$nulls":18},{"$f":"(((S26^(1/5))-$AA$26)/($AB$26-$AA$26))","v":0.47255112288852502}]
[null,null,"Standardized",{"$nulls":15},{"$f":"100*(1-S27)","v":52.744887711147491}]
[]
[null,null,"2. Waste Management Sub Index (WM)",{"$nulls":4},{"$f":"AVERAGE(W32,W35)","v":63.690999987700025},{"$f":"AVERAGE(W32,W35,W37)","v":63.690999987700025}]
[null,"ES_WM_1","1. Solid waste collection","%","X",{"$nulls":4},2012,null,{"$f":"'Waste Collection'!G27","v":0.800002048663641},{"$f":"'Waste Collection'!H27","v":0.82000145560407578},{"$f":"'Waste Collection'!I27","v":0.83000000000000007},{"$f":"'Waste Collection'!J27","v":0.91545970333745375},{"$f":"'Waste Collection'!K27","v":0.9136882352941178},{"$f":"'Waste Collection'!L27","v":0.91359875395569612},{"$f":"'Waste Collection'!M27","v":0.91357959683496603},{"$f":"'Waste Collection'!N27","v":0.92206273062730626},{"$f":"'Waste Collection'!O27","v":0.92945066859414527},{"$f":"'Waste Collection'!P27","v":0.94403156565656554},{"$f":"'Waste Collection'!Q27","v":0.94566461916461919},{"$f":"'Waste Collection'!R27","v":0.9510765550239233},null,null,1.1000000000000001,0,1,null,"STATE - Jalisco","http://dgeiawf.semarnat.gob.mx:8080/ibi_apps/WFServlet?IBIF_ex=D3_RSM01_05&IBIC_user=dgeia_mce&IBIC_pass=dgeia_mce"]
[null,null,"Standardized",{"$nulls":8},{"$f":"'Waste Collection'!G28","v":80.000204866364101},{"$f":"'Waste Collection'!H28","v":82.000145560407574},{"$f":"'Waste Collection'!I28","v":83},{"$f":"'Waste Collection'!J28","v":91.545970333745373},{"$f":"'Waste Collection'!K28","v":91.368823529411785},{"$f":"'Waste Collection'!L28","v":91.359875395569617},{"$f":"'Waste Collection'!M28","v":91.357959683496603},{"$f":"'Waste Collection'!N28","v":92.206273062730631},{"$f":"'Waste Collection'!O28","v":92.945066859414524},{"$f":"'Waste Collection'!P28","v":94.403156565656559},{"$f":"'Waste Collection'!Q28","v":94.566461916461918},{"$f":"'Waste Collection'!R28","v":95.107655502392333}]
[]
[null,"ES_WM_2","2. Waste water treatment","%","X",{"$nulls":4},2012,{"$f":"'Wastewater Treatment'!I8","v":9.3956989247311835},{"$f":"'Wastewater Treatment'!J8","v":11.873357856016815},{"$f":"'Wastewater Treatment'!K8","v":11.68891224382554},{"$f":"'Wastewater Treatment'!L8","v":13.44666316342617},{"$f":"'Wastewater Treatment'!M8","v":13.208252427184467},{"$f":"'Wastewater Treatment'!N8","v":15.780377688237293},{"$f":"'Wastewater Treatment'!O8","v":15.86323792919754},{"$f":"'Wastewater Treatment'!P8","v":16.409995641435422},{"$f":"'Wastewater Treatment'!Q8","v":16.764240126685543},{"$f":"'Wastewater Treatment'!R8","v":17.059534164492124},{"$f":"'Wastewater Treatment'!S8","v":18.417415676041365},{"$f":"'Wastewater Treatment'!T8","v":25.454043583535107},{"$f":"'Wastewater Treatment'!U8","v":32.274344473007709},null,null,1.1000000000000001,0,1,null,"STATE - Jalisco","SEPLAN"]
[null,null,"Standardized",{"$nulls":7},{"$f":"K34","v":9.3956989247311835},11.873357856016815,11.68891224382554,13.44666316342617,13.208252427184467,15.780377688237293,15.86323792919754,16.409995641435422,16.764240126685543,{"$f":"T34","v":17.059534164492124},{"$f":"U34","v":18.417415676041365},25.454043583535107,32.274344473007709]
[]
[null,"ES_WM_3 ","3. Solid waste recycling share","%",null,"X",{"$nulls":19},3,null,null,0.5]
[]
[null,null,"3. Water and Energy Sub Index (WE)",{"$nulls":4},{"$f":"AVERAGE(V40,V44)","v":35.132522301132042},{"$f":"AVERAGE(V40,V44)","v":35.132522301132042}]
[null,"ES_WE_1","1. Share of protected area in natural systems that provide basic ecosystem services","%","X",{"$nulls":20},1.1000000000000001,0,1]
[]
[null,"ES_WE_2","2. Share of renewable energy consumption ","%","X",{"$nulls":4},2011,{"$nulls":5},{"$f":"'Renewable Energy'!B19*100","v":8.6972927082350715},{"$f":"'Renewable Energy'!C19*100","v":7.9966653841220978},{"$f":"'Renewable Energy'!D19*100","v":7.9516349065073673},{"$f":"'Renewable Energy'!E19*100","v":7.4863125100222208},{"$f":"'Renewable Energy'!F19*100","v":7.8787182286578936},{"$f":"'Renewable Energy'!G19*100","v":6.0712045748016976},{"$f":"'Renewable Energy'!H19*100","v":7.0265044602264082},null,null,null,2.1,0,{"$f":"0.2*100","v":20},null,"Nacional","IEA","http://www.iea.org/statistics/statisticssearch/report/?&country=MEXICO&year=2000&product=ElectricityandHeat"]
[{"$nulls":15},{"$f":"100*((P42-$AA$42)/($AB$42-$AA$42))","v":43.486463541175354},39.983326920610487,39.758174532536842,37.431562550111103,39.39359114328947,{"$f":"100*((U42-$AA$42)/($AB$42-$AA$42))","v":30.356022874008488},35.132522301132042]
[null,null,"Standardized",{"$nulls":12},{"$f":"IF(P42>$AB$42,100,P43)","v":43.486463541175354},39.983326920610487,39.758174532536842,37.431562550111103,39.39359114328947,30.356022874008488,35.132522301132042]
[]
[]
[null,null,"NOTES:"]
[null,null,"Number of monitoring stations = 10"]
[null,null,"PM10 > 48 ug/m3 - Using simple projection (indicated in RED)"]

{"sheet":"PM10 Standardization Tables","index":36,"n_rows":12,"n_cols":6,"rows_kept":12,"cut":false,"hidden":false,"merged":[[3,1,3,2],[3,3,4,3],[3,4,4,4],[3,5,4,5],[11,1,11,2]]}
[]
[null,null,null,"PM10  LEVELS OF CONCENTRATION"]
[]
[null,"Population ('000s)",null,"X < 32 µg/m3 ","48 µg/m3  >= X <= 32 µg/m3 ","X > 48 µg/m3 "]
[null,"Min","Max"]
[null,100,250,"-",1,1]
[null,250,500,1,2,4]
[null,500,1000,2,4,8]
[null,1000,2000,4,8,10]
[null,2000,5000,6,12,30]
[null,5000,10000,10,20,40]
[null,"> 10000",null,40,80,160]

{"sheet":"Waste Collection","index":37,"n_rows":28,"n_cols":26,"rows_kept":28,"cut":false,"hidden":false,"merged":[[15,2,15,17],[1,2,1,17],[3,2,3,17],[4,2,4,17],[10,2,10,17],[14,2,14,17]]}
[]
[null,null,"SOLID WASTE COLLECTED - JALISCO"]
[]
[null,null,"Estimated Generation of municipal solid waste by state"]
[null,null,"(Thousands of tons)"]
[null,null,"Federal entity"]
[{"$nulls":6},2001,2002,2003,2004,2005,2006,2007,2008,2009,2010,2011,2012]
[null,null,"Jalisco",null,null,null,2220.96,2267.1,2317.75,2427,2482,2528,2654,2710,2767,2890.8,2971.1,3051.4]
[]
[]
[null,null,"Quantity of Waste Collected (tons per day)"]
[null,null,"Year",null,null,null,2001,2002,2003,2004,2005,2006,2007,2008,2009,2010,2011,2012]
[null,null,"Jalisco",null,null,null,4867.87,5093.22,5270.5,6087.18,6213.08,6327.61,6642.85,6846,7046,7476.73,7697.71,7951]
[]
[null,null,"Quantity of Waste Collected (tons per year)"]
[null,null,"(Thousands of tons)"]
[null,null,"Year",null,null,null,2001,2002,2003,2004,2005,2006,2007,2008,2009,2010,2011,2012]
[null,null,"Jalisco",null,null,null,1776.7725500000001,1859.0253,1923.7325000000001,2221.8207000000002,2267.7742000000003,2309.5776499999997,2424.6402499999999,2498.79,2571.79,2729.0064499999999,2809.6641500000001,2902.1149999999998]
[]
[]
[]
["DIMENSION","CODE","INDICATOR","NOTES","Year",2000,2001,2002,2003,2004,2005,2006,2007,2008,2009,2010,2011,2012,2013,"Standardization","MIN","MAX","TARGET","LEVEL","SOURCES","NOTES/"]
[null,"Demographic","1. Population",null,null,1001020.9,1037318.6,1070944.1000000001,1101897.3999999999,1130178.5,1155790,1178724.1000000001,1198988.6000000001,1216580.8999999999,1231501,1243756,1253324.6000000001,1260228.1000000001,1264459.3999999999]
[null,null,"2. Homes/Households",null,null,234751.26,244093.84,253055.74,261636.96,269837.5,277657.36,285096.53999999998,292155.04000000004,298832.86,305130,311046.46000000002,316582.24,321737.33999999997,326511.76,{"$nulls":5},"INEGI and GUO ProjectedCalculations"]
[null,null,"3. Urban Footprint area",{"$nulls":15},168.78]
[null,null,"4. Population in households",null,null,987284,{"$nulls":4},1107515,{"$nulls":4},1220612]
[null,"ES_WM_1","1. Solid waste collection","%",2010,null,{"$f":"G18/G8","v":0.800002048663641},{"$f":"H18/H8","v":0.82000145560407578},0.83000000000000007,0.91545970333745375,0.9136882352941178,0.91359875395569612,0.91357959683496603,0.92206273062730626,0.92945066859414527,0.94403156565656554,0.94566461916461919,0.9510765550239233,null,1.1000000000000001,0,1,null,null,"State - Jalisco","http://dgeiawf.semarnat.gob.mx:8080/ibi_apps/WFServlet?IBIF_ex=D3_RSM01_05&IBIC_user=dgeia_mce&IBIC_pass=dgeia_mce"]
[null,null,"Standardized",null,null,null,{"$f":"G27*100","v":80.000204866364101},82.000145560407574,83,91.545970333745373,91.368823529411785,91.359875395569617,91.357959683496603,92.206273062730631,92.945066859414524,{"$f":"P27*100","v":94.403156565656559},{"$f":"Q27*100","v":94.566461916461918},95.107655502392333]

{"sheet":"Wastewater Treatment","index":38,"n_rows":8,"n_cols":21,"rows_kept":8,"cut":false,"hidden":false,"merged":[]}
[null,null,null,"source http://dgeiawf.semarnat.gob.mx:8080/ibi_apps/WFServlet?IBIF_ex=D3_AGUA07_05&IBIC_user=dgeia_mce&IBIC_pass=dgeia_mce"]
[null,null,"waste water treatment"]
[]
[null,null,null,1995,1996,1997,1998,1999,2000,2001,2002,2003,2004,2005,2006,2007,2008,2009,2010,2011,2012]
[null,null,"Jalisco"]
[null,null,"water supplied for consumption(l/s)",18896,18900,18900,18900,18900,18600,19030,19030,19030,20600,20599,20649,20649,20839,20694,20694,20650,19450]
[null,null,"Treatment capacity (l/s)",2403,1806,1791.9,1747.6,1747.6,1747.6,2259.5,2224.4,2558.9,2720.9,3250.6,3275.6,3388.5,3493.5,3530.3,3811.3,5256.26,6277.36]
[null,null,"treated (%)",{"$f":"100*(D7/D6)","v":12.716977138018629},9.5555555555555554,9.480952380952381,9.2465608465608451,9.2465608465608451,9.3956989247311835,11.873357856016815,11.68891224382554,13.44666316342617,13.208252427184467,15.780377688237293,15.86323792919754,16.409995641435422,16.764240126685543,17.059534164492124,18.417415676041365,25.454043583535107,32.274344473007709]

{"sheet":"Renewable Energy","index":39,"n_rows":27,"n_cols":23,"rows_kept":27,"cut":false,"hidden":false,"merged":[]}
["Mexico","Electricity production"]
[null,2005,2006,2007,2008,2009,2010,2011,2012]
["Coal",33055,31930,31785,21453,29549,32618,34132,34315]
["Oil",66785,55263,53278,49458,45745,43879,48371,55679]
["Gas",95118,111965,124495,132221,138471,140976,156281,150922]
["Biofuel",3074,2332,2363,2470,2718,2689,2512,2791]
["waste",0,0,0,0,0,0,0,0]
["Nuclear",10805,10866,10421,9804,10501,5879,10089,8770]
["hydro",27659,30394,27276,39178,26713,37121,36266,31855]
["geothermal",7299,6685,7404,7056,6740,6618,6507,5817]
["solar PV",9,10,9,9,12,31,31,69]
["solar thermal",0,0,0,0,0,0,0,0]
["wind",19,59,262,269,596,1239,1648,3644]
["tide",0,0,0,0,0,0,0,0]
["others",0,0,0,0,0,0,0,0]
["Total",{"$f":"SUM(B3:B15)","v":243823},{"$f":"SUM(C3:C15)","v":249504},{"$f":"SUM(D3:D14)","v":257293},261918,261045,271050,295837,293862]
[]
["Total renewables (without Renewables)",{"$f":"SUM(B6:B8,B10:B15)","v":21206},19952,20459,19608,20567,16456,20787,21091]
["% of renewables",{"$f":"B18/B16","v":8.6972927082350715E-2},7.996665384122098E-2,7.9516349065073669E-2,7.4863125100222208E-2,7.8787182286578938E-2,6.0712045748016974E-2,7.0265044602264085E-2,7.1771784034682942E-2]
[]
[]
["renewables + hydro",{"$f":"SUM(B6:B15)","v":48865},50346,47735,58786,47280,53577,57053,52946]
["% with hydro",{"$f":"B22/B16","v":0.20041177411482919},0.20178434013081956,0.18552778349974541,0.224444291724891,0.18111819801183704,0.19766463752075264,0.19285282097912027,0.18017300637714301]
[]
[]
["INDICATOR","NOTES",2000,2001,2002,2003,2004,2005,2006,2007,2008,2009,2010,2011,2012,2013,"Standardization","MIN","MAX","TARGET","LEVEL","SOURCES","NOTES/"]
["2. Share of renewable energy consumption ","%",23.975766124490026,21.393478599442155,19.734477199874,18.315335379547836,18.707123330066537,20.04117741148292,20.178434013081954,18.552778349974542,22.444429172489102,18.111819801183703,19.766463752075264,19.285282097912027,null,null,2.1,0,{"$f":"0.2*100","v":20},null,"Nacional","IEA","http://www.iea.org/statistics/statisticssearch/report/?&country=MEXICO&year=2000&product=ElectricityandHeat"]

{"sheet":"GOVERNANCE","index":40,"n_rows":44,"n_cols":32,"rows_kept":44,"cut":false,"hidden":false,"merged":[[6,2,7,17],[13,0,45,0]]}
[null,"NOTE:"]
[null,"CPI Calculated Using Latest Years of Informatiion"]
[null,null,"Sub Index values"]
[null,null,"Missing data"]
[null,null,"Stale level Data (JALISCO)"]
[null,null,"Country Level Data (MEXICO)"]
[null,null,"URBAN GOVERNANCE AND LEGISLATION INDEX"]
[]
[]
[null,null,"URBAN GOVERNANCE AND LEGISLATION INDEX",{"$nulls":4},{"$f":"GEOMEAN(H14,H22,H26,H40)","v":61.534984952599181},{"$f":"GEOMEAN(I14,I22,I26,I40)","v":67.813483756240259}]
["DIMENSION","CODE","INDICATOR","NOTES","BASIC","EXTENDED","MISSING",null,null,"Year",2000,2001,2002,2003,2004,2005,2006,2007,2008,2009,2010,2011,2012,2013,2014,"Standardization","MIN","MAX","TARGET","LEVEL","SOURCES","NOTES"]
[null,"demographic","1. Population",{"$nulls":7},3699136.000000034,3783094.7600000291,3864745.840000025,3944089.2400000212,4021124.9600000186,4095853.0000000168,4168273.3600000157,4238386.0400000149,4306191.0400000159,4371688.3600000171,4434878.0000000196,4495759.9600000223,4554334.2400000263,4610600.8400000297,4664559.7600000352]
[null,null,"2. Urban Footprint area"]
["Urban Governance and Legislation Index (UGL)",null,"1. Participation Sub Index (P)",{"$nulls":4},{"$f":"AVERAGE(T16)","v":52.531249999999993},{"$f":"AVERAGE(T16,W18,W20)","v":52.531249999999993}]
[null,"UGL_P_1","1. Voter turnout","%","X",{"$nulls":4},2009,{"$f":"'Voter turnout'!B10","v":67.206249999999997},null,null,{"$f":"'Voter turnout'!E10","v":54.292499999999997},null,null,{"$f":"'Voter turnout'!H10","v":62.088750000000005},null,null,{"$f":"'Voter turnout'!K10","v":52.531249999999993},{"$nulls":5},1.1000000000000001,0,1,null,"Metropolitana (Guadalajara, El Salto, Tlajomilco, Tlaquepaque, Tonala, Zapopan)","http://www.ine.mx/documentos/RESELEC/SICEEF/principal.html"]
[null,null,"Standardized",{"$nulls":7},{"$f":"K15","v":67.206249999999997},null,null,{"$f":"N15","v":54.292499999999997},null,null,62.088750000000005,null,null,52.531249999999993]
[]
[null,"UGL_P_2","2. Civic participation","%",null,"X",{"$nulls":19},1.1000000000000001,0,1]
[]
[null,"UGL_P_3","3. Youth Civic Participation","%",null,"X"]
[]
[null,null,"2. Accountability and Transparency Sub Index (AT)",{"$nulls":4},{"$f":"AVERAGE(Y24)","v":88.75},{"$f":"AVERAGE(Y24)","v":88.75}]
[null,"UGL_AT_1","1. AccesstoPublicInformation","Value between 0 - 100","X",{"$nulls":4},2014,{"$f":"Transparency!F124","v":1.75},{"$f":"Transparency!G124","v":1.75},{"$f":"Transparency!H124","v":1.75},{"$f":"Transparency!I124","v":1.75},{"$f":"Transparency!J124","v":1.875},{"$f":"Transparency!K124","v":1.875},{"$f":"Transparency!L124","v":1.875},{"$f":"Transparency!M124","v":2.625},{"$f":"Transparency!N124","v":3.125},{"$f":"Transparency!O124","v":3.25},{"$f":"Transparency!P124","v":4.375},{"$f":"Transparency!Q124","v":5.125},{"$f":"Transparency!R124","v":6},{"$f":"Transparency!S124","v":6.5},{"$f":"Transparency!T124","v":7.625},1.1000000000000001,0,1,null,"Municipal- Guadalajara"]
[null,null,"Standardized",{"$nulls":7},{"$f":"Transparency!F125","v":20},{"$f":"Transparency!G125","v":20},{"$f":"Transparency!H125","v":20},{"$f":"Transparency!I125","v":20},{"$f":"Transparency!J125","v":21.25},{"$f":"Transparency!K125","v":21.25},{"$f":"Transparency!L125","v":22.5},{"$f":"Transparency!M125","v":30},{"$f":"Transparency!N125","v":38.75},{"$f":"Transparency!O125","v":40},{"$f":"Transparency!P125","v":53.75},{"$f":"Transparency!Q125","v":62.5},{"$f":"Transparency!R125","v":72.5},{"$f":"Transparency!S125","v":77.5},{"$f":"Transparency!T125","v":88.75}]
[]
[null,null,"3. Institutional Capacity Sub Index (IC)",{"$nulls":4},{"$f":"AVERAGE(W28)","v":31.03865559653428},{"$f":"AVERAGE(W28,W34,Y38)","v":45.780310117533212}]
[null,"UGL_IC_1","1. Own Revenue Collection","%","X",{"$nulls":4},2012,{"$nulls":8},{"$f":"'Own revenue collection'!B15","v":0.32055905038360966},{"$f":"'Own revenue collection'!C15","v":0.33516785839081126},{"$f":"'Own revenue collection'!D15","v":0.31332600899628427},{"$f":"'Own revenue collection'!E15","v":0.36032060609287381},{"$f":"'Own revenue collection'!F15","v":0.36554353025816599},null,null,2.1,0.17,0.8,null,"Area Metropolitana","INEGI and IMCO"]
[null,null,"Standardized",{"$nulls":15},{"$f":"100*((S27-$AA$27)/($AB$27-$AA$27))","v":23.898261965652324},{"$f":"100*((T27-$AA$27)/($AB$27-$AA$27))","v":26.217120379493846},{"$f":"100*((U27-$AA$27)/($AB$27-$AA$27))","v":22.750160158140361},{"$f":"100*((V27-$AA$27)/($AB$27-$AA$27))","v":30.209620014741873},{"$f":"100*((W27-$AA$27)/($AB$27-$AA$27))","v":31.03865559653428}]
[]
[null,"UGL_IC_2","2. Subnational Debt (reversed)","%",null,"X",{"$nulls":19},4,null,null,0.6]
[]
[null,null,"Standardized (with if condition)"]
[]
[null,"UGL_IC_2","2. Investment Capacity","%",null,"X","X"]
[]
[null,"UGL_IC_3","3. Days to Start a Business (reversed)","#",null,"X",null,null,null,2014,{"$nulls":14},12.5,"2.2 (ln)",0.69,5.34,null,"Metropolitan - Guadalajara","http://www.doingbusiness.org/data/exploreeconomies/mexico/sub/guadalajara/"]
[{"$nulls":24},{"$f":"(LN(Y36)-$AA$36)/($AB$36-$AA$36)","v":0.39478035361467861}]
[null,null,"Standardized",{"$nulls":21},60.521964638532147]
[]
[null,null,"4. Governance of Urbanisation (GU)",{"$nulls":4},{"$f":"AVERAGE(U42)","v":99.083056701386354},{"$f":"AVERAGE(U42,U44)","v":99.083056701386354}]
[null,"UCL_GU_1","Sprawl Index","#","X",{"$nulls":4},2010,{"$nulls":10},{"$f":"Sprawl!W106*100","v":99.083056701386354}]
[null,null,"2000-2010",{"$nulls":17},{"$f":"Sprawl!W106*100","v":99.083056701386354},{"$nulls":8},"Metropolitan - Guadalajara","SEDESOL","Mexico, la expansion de las ciudades 2000-2010"]
[]
[null,"UCL_GU_2","Densities Development Rights","%",null,"X","X"]

{"sheet":"Voter turnout","index":41,"n_rows":16,"n_cols":18,"rows_kept":16,"cut":false,"hidden":false,"merged":[]}
["% participacion ciudadana/ municipio",2000,2001,2002,2003,2004,2005,2006,2007,2008,2009,2010,2011,2012,2013,2014]
["Guadalajara",71.319999999999993,null,null,53.87,null,null,64.34,null,null,50.31,{"$nulls":6},"http://www.ine.mx/documentos/RESELEC/SICEEF/principal.html"]
["El Salto",65.239999999999995,null,null,52.64,null,null,58.67,null,null,50.29]
["Tlajomuco de zuñiga",63.5,null,null,56.22,null,null,63.04,null,null,50.3]
["San Pedro Tlaquepaque",67.8,null,null,48.21,null,null,59.62,null,null,47.46]
["Tonala",67.23,null,null,51.06,null,null,58.67,null,null,47.44]
["Zapopan",69.48,null,null,49.96,null,null,63.12,null,null,47.43]
["Juanacatlan",70.16,null,null,62.08,null,null,64.58,null,null,64.760000000000005]
["Ixtahuacan",62.92,null,null,60.3,null,null,64.67,null,null,62.26]
["Average",{"$f":"AVERAGE(B2:B9)","v":67.206249999999997},null,null,{"$f":"AVERAGE(E2:E9)","v":54.292499999999997},null,null,{"$f":"AVERAGE(H2:H9)","v":62.088750000000005},null,null,{"$f":"AVERAGE(K2:K9)","v":52.531249999999993}]
[]
[]
[]
["% participacion ciudadana/ municipio",2000,2001,2002,2003,2004,2005,2006,2007,2008,2009,2010,2011,2012,2013,2014,null,"http://www.ine.mx/documentos/RESELEC/SICEEF/principal.html"]
["Cajeme",61.83,null,null,50.42,null,null,54.15,null,null,47.68]
["Corregidora",72.67,null,null,58.98,null,null,65.150000000000006,null,null,60.1]

{"sheet":"Transparency","index":42,"n_rows":125,"n_cols":22,"rows_kept":125,"cut":false,"hidden":false,"merged":[[93,0,93,19],[108,0,108,19],[0,0,0,19],[17,0,17,19],[32,0,32,19],[47,0,47,19],[63,0,63,19],[78,0,78,19]]}
["Guadalajara"]
["INDICATOR","NOTES","BASIC","EXTENDED","MISSING",2000,2001,2002,2003,2004,2005,2006,2007,2008,2009,2010,2011,2012,2013,2014]
["2. Transparency and Accountability to Local People","%",null,"X"]
["Does the E-government has the following element? YES=1; NO=0 "]
[" 1- Budgets and spending ",{"$nulls":12},1,1,1,1,1,1,1,null,"http://transparencia.guadalajara.gob.mx/transparencia/cuenta-publica, Accessed on October 29, 2014"]
[" 2- Senior salaries ",{"$nulls":12},1,1,1,1,1,1,1,null,"http://enlinea.guadalajara.gob.mx:8800/consultaNomina/nomina.php, Accessed on October 29, 2014"]
[" 3- Organizational chart ",{"$nulls":16},1,1,1,null,"http://transparencia.guadalajara.gob.mx/organigrama-2012-2015, Accessed on Otober 29, 2014"]
[" 4- Copies of contracts and tenders ",{"$nulls":8},1,1,1,1,1,1,1,1,1,1,1,null,"http://transparencia.guadalajara.gob.mx/contratos, Accessed on October 29, 2014"]
[" 5- Access to statistics ",{"$nulls":4},1,1,1,1,1,1,1,1,1,1,1,1,1,1,1,null,"http://www.iieg.gob.mx/index.php, Accessed on Otober 29, 2014\nhttp://www3.inegi.org.mx/sistemas/productos/default.aspx?c=265&s=inegi&upc=702825054021&pf=Prod&ef=&f=2&cl=0&tg=8&pg=0"]
[" 6- Posting public notices on meetings, resolution, etc. ",{"$nulls":18},1,null,"http://transparencia.guadalajara.gob.mx/transparencia/gaceta-municipal-busqueda, Accessed on October 29, 2014."]
[" 7- Reporting complaints, concerns, and emergencies by the local community ",{"$nulls":18},1,null,"http://transparencia.guadalajara.gob.mx/transparencia, Accessed on October 29, 2014"]
[" 8- Results of local elections ",{"$nulls":4},1,1,1,1,1,1,1,1,1,1,1,1,1,1,1,null,"http://www.iepcjalisco.org.mx/resultados-electorales\n\n"]
[" 9- Tax information ",{"$nulls":12},1,1,1,1,1,1,1,null,"http://transparencia.guadalajara.gob.mx/transparencia/cuenta-publica, Accessed on October 29, 2014"]
["10- Open tendering procedures ",{"$nulls":14},1,1,1,1,1,null,"http://transparencia.guadalajara.gob.mx/Transparencia/licitaciones, Accessed on October 29, 2014"]
["Result",{"$nulls":4},{"$f":"SUM(F5:F14)","v":2},2,2,2,3,3,3,3,6,6,7,7,8,8,10]
["Standardized",{"$nulls":4},{"$f":"100*(F15/10)","v":20},20,20,20,30,30,30,30,60,60,70,70,80,80,100]
[]
["El Salto"]
["Does the E-government has the following element? YES=1; NO=0 "]
[" 1- Budgets and spending ",{"$nulls":15},1,1,1,1,null,"http://www.elsalto.gob.mx/elsalto/node/161"]
[" 2- Senior salaries ",{"$nulls":16},1,1,1,null,"http://www.elsalto.gob.mx/elsalto/node/206"]
[" 3- Organizational chart ",{"$nulls":16},1,1,1,null,"http://www.elsalto.gob.mx/elsalto/node/292"]
[" 4- Copies of contracts and tenders ",{"$nulls":15},1,1,1,1,null,"http://www.elsalto.gob.mx/elsalto/node/181"]
[" 5- Access to statistics ",{"$nulls":4},1,1,1,1,1,1,1,1,1,1,1,1,1,1,1,null,"http://www.iieg.gob.mx/index.php, Accessed on Otober 29, 2014\nhttp://www3.inegi.org.mx/sistemas/productos/default.aspx?c=265&s=inegi&upc=702825054021&pf=Prod&ef=&f=2&cl=0&tg=8&pg=0"]
[" 6- Posting public notices on meetings, resolution, etc. ",{"$nulls":18},1,null,"http://www.elsalto.gob.mx/elsalto/node/180\nhttp://www.elsalto.gob.mx/elsalto/node"]
[" 7- Reporting complaints, concerns, and emergencies by the local community ",{"$nulls":18},1]
[" 8- Results of local elections ",{"$nulls":4},1,1,1,1,1,1,1,1,1,1,1,1,1,1,1,null,"http://www.iepcjalisco.org.mx/resultados-electorales\n\n"]
[" 9- Tax information ",{"$nulls":15},1,1,1,1,null,"http://www.elsalto.gob.mx/elsalto/node/161"]
["10- Open tendering procedures ",{"$nulls":15},1,1,1,1,null,"http://www.elsalto.gob.mx/elsalto/node/181"]
["Result",{"$nulls":4},{"$f":"SUM(F20:F29)","v":2},2,2,2,2,2,2,2,2,2,2,6,8,8,10]
["Standardized",{"$nulls":4},{"$f":"100*(F30/10)","v":20},20,20,20,20,20,20,20,20,20,20,60,80,80,100]
[]
["Zapopan"]
["Does the E-government has the following element? YES=1; NO=0 "]
[" 1- Budgets and spending ",{"$nulls":4},0,0,0,0,0,0,0,0,0,1,1,1,1,1,1]
[" 2- Senior salaries ",{"$nulls":4},0,0,0,0,0,0,0,0,0,0,0,1,1,1,1]
[" 3- Organizational chart ",{"$nulls":4},0,0,0,0,0,0,0,1,1,1,1,1,1,1,1]
[" 4- Copies of contracts and tenders ",{"$nulls":4},0,0,0,0,0,0,0,1,1,1,1,1,1,1,1]
[" 5- Access to statistics ",{"$nulls":4},1,1,1,1,1,1,1,1,1,1,1,1,1,1,1]
[" 6- Posting public notices on meetings, resolution, etc. ",{"$nulls":4},0,0,0,0,0,0,0,0,0,0,0,0,0,0,1]
[" 7- Reporting complaints, concerns, and emergencies by the local community ",{"$nulls":16},0,0,1]
[" 8- Results of local elections ",{"$nulls":4},1,1,1,1,1,1,1,1,1,1,1,1,1,1,1]
[" 9- Tax information ",{"$nulls":18},1]
["10- Open tendering procedures ",{"$nulls":18},1]
["Result",{"$nulls":4},{"$f":"SUM(F35:F44)","v":2},2,2,2,2,2,2,4,4,5,5,6,6,6,10]
["Standardized",{"$nulls":4},{"$f":"100*(F45/10)","v":20},20,20,20,20,20,20,40,40,50,50,60,60,60,100]
[]
["Tlajamulco de zuñiga"]
["Does the E-government has the following element? YES=1; NO=0 "]
[" 1- Budgets and spending ",{"$nulls":14},1,1,1,1,1,null,"http://www.tlajomulco.gob.mx/transparencia-ciudadana, accessed on November 5, 2014"]
[" 2- Senior salaries ",{"$nulls":14},1,1,1,1,1,null,"http://www.tlajomulco.gob.mx/transparencia/articulo-8/remuneraciones, accessed on November 5, 2014"]
[" 3- Organizational chart ",{"$nulls":14},1,1,1,1,1,null,"http://www.tlajomulco.gob.mx/transparencia/articulo-8/Organigrama, Accessed on November 5, 2014"]
[" 4- Copies of contracts and tenders ",{"$nulls":14},1,1,1,1,1,null,"http://tlajomulco.gob.mx/transparencia/articulo-8/contratos-concursos-y-licitaciones, Accessed on November 5, 2014"]
[" 5- Access to statistics ",{"$nulls":4},1,1,1,1,1,1,1,1,1,1,1,1,1,1,1,null,"http://www.iieg.gob.mx/index.php, Accessed November 5, 2014\nhttp://www3.inegi.org.mx/sistemas/productos/default.aspx?c=265&s=inegi&upc=702825054021&pf=Prod&ef=&f=2&cl=0&tg=8&pg=0"]
[" 6- Posting public notices on meetings, resolution, etc. ",{"$nulls":15},1,1,1,1,null,"http://tlajomulco.gob.mx/transparencia/articulo-15/Gacetas, accessed on November 5, 2014"]
[" 7- Reporting complaints, concerns, and emergencies by the local community ",{"$nulls":18},1,null,"http://www.tlajomulco.gob.mx/denuncia-en-linea, Accessed on November 5, 2014"]
[" 8- Results of local elections ",{"$nulls":4},1,1,1,1,1,1,1,1,1,1,1,1,1,1,1,null,"http://www.iepcjalisco.org.mx/resultados-electorales"]
[" 9- Tax information ",{"$nulls":14},1,1,1,1,1,null,"http://www.tlajomulco.gob.mx/transparencia/articulo-8/Balances-Cuenta-Deuda, Accessed on November 5, 2014"]
["10- Open tendering procedures ",{"$nulls":14},1,1,1,1,1,null,"http://tlajomulco.gob.mx/transparencia/articulo-8/contratos-concursos-y-licitaciones, Accessed on November 5, 2014"]
["Result",{"$nulls":4},{"$f":"SUM(F50:F59)","v":2},2,2,2,2,2,2,2,2,2,8,9,9,9,10]
["Standardized",{"$nulls":4},{"$f":"100*(F60/10)","v":20},20,20,20,20,20,20,20,20,20,80,90,90,90,100]
[]
[]
["San Pedro Tlaquepaque"]
["Does the E-government has the following element? YES=1; NO=0 "]
[" 1- Budgets and spending ",{"$nulls":12},1,1,1,1,1,1,1,null,"http://transparencia12.tlaquepaque.gob.mx/?q=taxonomy/term/607#overlay-context=taxonomy/term/437%3Fq%3Dtaxonomy/term/437, Accessed on november 5, 2014"]
[" 2- Senior salaries ",{"$nulls":14},1,1,1,1,1,null,"http://www.tlaquepaque.gob.mx/nomina/nomina.php, Accessed on Nomber 5, 2014"]
[" 3- Organizational chart ",{"$nulls":12},1,1,1,1,1,1,1,null,"http://transparencia12.tlaquepaque.gob.mx/?q=taxonomy/term/654, Accessed on November 5, 2014"]
[" 4- Copies of contracts and tenders ",{"$nulls":16},1,1,1,null,"http://transparencia12.tlaquepaque.gob.mx/?q=taxonomy/term/682, November 5, 2014"]
[" 5- Access to statistics ",{"$nulls":4},1,1,1,1,1,1,1,1,1,1,1,1,1,1,1,null,"http://www.iieg.gob.mx/index.php, Accessed November 5, 2014\nhttp://www3.inegi.org.mx/sistemas/productos/default.aspx?c=265&s=inegi&upc=702825054021&pf=Prod&ef=&f=2&cl=0&tg=8&pg=0"]
[" 6- Posting public notices on meetings, resolution, etc. ",{"$nulls":14},1,1,1,1,1,null,"http://transparencia12.tlaquepaque.gob.mx/?q=taxonomy/term/633, Accessed on november 5, 2014"]
[" 7- Reporting complaints, concerns, and emergencies by the local community ",{"$nulls":10},1,1,1,1,1,1,1,1,1,null,"http://transparencia12.tlaquepaque.gob.mx/?q=taxonomy/term/627, Accessed on November 5, 2014"]
[" 8- Results of local elections ",{"$nulls":4},1,1,1,1,1,1,1,1,1,1,1,1,1,1,1,null,"http://www.iepcjalisco.org.mx/resultados-electorales"]
[" 9- Tax information ",{"$nulls":12},1,1,1,1,1,1,1,null,"http://transparencia12.tlaquepaque.gob.mx/?q=taxonomy/term/607#overlay-context=taxonomy/term/437%3Fq%3Dtaxonomy/term/437, Accessed on november 5, 2014"]
["10- Open tendering procedures ",{"$nulls":15},1,1,1,1,null,"http://transparencia12.tlaquepaque.gob.mx/?q=taxonomy/term/113, Accessed on november 5, 2014"]
["Result",{"$nulls":4},{"$f":"SUM(F66:F75)","v":2},2,2,2,2,2,3,3,6,6,8,9,10,10,10]
["Standardized",{"$nulls":4},{"$f":"100*(F76/10)","v":20},20,20,20,20,20,30,30,60,60,80,90,100,100,100]
[]
["Tonala"]
["Does the E-government has the following element? YES=1; NO=0 "]
[" 1- Budgets and spending ",{"$nulls":11},1,1,1,1,1,1,1,1,null,"http://www.tonala.gob.mx/es/transparencia.php?accion=articulo8, Accessed on November 5, 2014"]
[" 2- Senior salaries ",{"$nulls":14},1,1,1,1,1,null,"http://www.tonala.gob.mx/es/transparencia.php?accion=nomina, accessed on November 5, 2014"]
[" 3- Organizational chart ",{"$nulls":11},1,1,1,1,1,1,1,1,null,"http://www.tonala.gob.mx/es/transparencia.php?accion=articulo8, Accessed on November 5, 2014"]
[" 4- Copies of contracts and tenders ",{"$nulls":11},1,1,1,1,1,1,1,1,null,"http://www.tonala.gob.mx/es/transparencia.php?accion=articulo8, Accessed on November 5, 2014"]
[" 5- Access to statistics ",{"$nulls":4},1,1,1,1,1,1,1,1,1,1,1,1,1,1,1,null,"http://www.iieg.gob.mx/index.php, Accessed November 5, 2014\nhttp://www3.inegi.org.mx/sistemas/productos/default.aspx?c=265&s=inegi&upc=702825054021&pf=Prod&ef=&f=2&cl=0&tg=8&pg=0"]
[" 6- Posting public notices on meetings, resolution, etc. ",{"$nulls":12},1,1,1,1,1,1,1,null,"http://www.tonala.gob.mx/es/transparencia.php?accion=marcoJuridico, Accessed on November 5, 2014"]
[" 7- Reporting complaints, concerns, and emergencies by the local community ",{"$nulls":18},1,null,"http://www.tonala.gob.mx/es/index.php?accion=queja"]
[" 8- Results of local elections ",{"$nulls":4},1,1,1,1,1,1,1,1,1,1,1,1,1,1,1,null,"http://www.iepcjalisco.org.mx/resultados-electorales"]
[" 9- Tax information ",{"$nulls":11},1,1,1,1,1,1,1,1,null,"http://www.tonala.gob.mx/es/transparencia.php?accion=articulo8, accessed on november 5, 2014"]
["10- Open tendering procedures ",{"$nulls":18},1,null,"http://www.tonala.gob.mx/es/transparencia/CONVOCATORIA%20CASA%20DE%20ARTESANOS%202014.pdf"]
["Result",{"$nulls":4},{"$f":"SUM(F81:F90)","v":2},2,2,2,2,2,2,6,7,7,8,8,8,8,10]
["Standardized",{"$nulls":4},{"$f":"100*(F91/10)","v":20},20,20,20,20,20,20,60,70,70,80,80,80,80,100]
[]
["Juanacatlan"]
["Does the E-government has the following element? YES=1; NO=0 "]
[" 1- Budgets and spending ",{"$nulls":17},1,0,null,"http://juanacatlan.gob.mx/uploads/transparencia/o7wzx9julmvu.pdf"]
[" 2- Senior salaries ",{"$nulls":18},1,null,"http://juanacatlan.gob.mx/transparencia/Articulo-8/1, accessed on november 5, 2014"]
[" 3- Organizational chart ",{"$nulls":16},1,1,1,null,"http://juanacatlan.gob.mx/uploads/transparencia/azhrzmkedqxh.pdf, accessed on November 5, 2014"]
[" 4- Copies of contracts and tenders ",{"$nulls":4},0,0,0,0,0,0,0,0,0,0,0,0,0,0,0]
[" 5- Access to statistics ",{"$nulls":4},1,1,1,1,1,1,1,1,1,1,1,1,1,1,1,null,"http://www.iieg.gob.mx/index.php, Accessed November 5, 2014\nhttp://www3.inegi.org.mx/sistemas/productos/default.aspx?c=265&s=inegi&upc=702825054021&pf=Prod&ef=&f=2&cl=0&tg=8&pg=0"]
[" 6- Posting public notices on meetings, resolution, etc. ",{"$nulls":17},1,1,null,"http://juanacatlan.gob.mx/eventos"]
[" 7- Reporting complaints, concerns, and emergencies by the local community ",{"$nulls":18},1,null,"http://juanacatlan.gob.mx/contacto"]
[" 8- Results of local elections ",{"$nulls":4},1,1,1,1,1,1,1,1,1,1,1,1,1,1,1,null,"http://www.iepcjalisco.org.mx/resultados-electorales"]
[" 9- Tax information ",{"$nulls":17},1,0,null,"http://juanacatlan.gob.mx/uploads/transparencia/o7wzx9julmvu.pdf"]
["10- Open tendering procedures ",{"$nulls":18},0]
["Result",{"$nulls":4},{"$f":"SUM(F96:F105)","v":2},2,2,2,2,2,2,2,2,2,2,2,3,6,6]
["Standardized",{"$nulls":4},{"$f":"100*(F106/10)","v":20},20,20,20,20,20,20,20,20,20,20,20,30,60,60]
[]
["Ixtahuacan de los membrillos"]
["Does the E-government has the following element? YES=1; NO=0 "]
[" 1- Budgets and spending ",{"$nulls":16},1,1,0,null,"http://www.ixtlahuacandelosmembrillos.gob.mx/32_5_i_estados_financieros.php"]
[" 2- Senior salaries ",{"$nulls":17},1,0,null,"http://www.ixtlahuacandelosmembrillos.gob.mx/transparencia/documentos/32_5_g_nomina/Nominas.pdf\nhttp://www.ixtlahuacandelosmembrillos.gob.mx/transparencia/documentos/32_5_f_remuneraciones/Remuneraciones_Puesto.pdf"]
[" 3- Organizational chart ",{"$nulls":16},1,1,1,null,"http://www.ixtlahuacandelosmembrillos.gob.mx/transparencia/documentos/32_5_d_organigrama/organigrama.pdf"]
[" 4- Copies of contracts and tenders ",{"$nulls":16},0,0,0]
[" 5- Access to statistics ",{"$nulls":4},1,1,1,1,1,1,1,1,1,1,1,1,1,1,1,null,"http://www.iieg.gob.mx/index.php, Accessed November 5, 2014\nhttp://www3.inegi.org.mx/sistemas/productos/default.aspx?c=265&s=inegi&upc=702825054021&pf=Prod&ef=&f=2&cl=0&tg=8&pg=0"]
[" 6- Posting public notices on meetings, resolution, etc. ",{"$nulls":14},1,1,1,1,1,null,"http://www.ixtlahuacandelosmembrillos.gob.mx/gactasMunicipales.php"]
[" 7- Reporting complaints, concerns, and emergencies by the local community ",{"$nulls":18},1,null,"http://capturaportal.jalisco.gob.mx/wps/portal/pj/contacto/denuncianonima/!ut/p/c5/04_SB8K8xLLM9MSSzPy8xBz9CP0os3ifEB8PY68gIwML80BXA08DUxczA1d3Qy8fA6B8JJK8v4mPsYGRm7-Po0uQqwEQENAdDrIPv36QvAEO4GiAV79JiLG-n0d-bqp-QW6EQWZAuiIA5vuCCA!!/dl3/d3/L2dBISEvZ0FBIS9nQSEh/"]
[" 8- Results of local elections ",{"$nulls":4},1,1,1,1,1,1,1,1,1,1,1,1,1,1,1,null,"http://www.iepcjalisco.org.mx/resultados-electorales"]
[" 9- Tax information ",{"$nulls":16},1,1,0,null,"http://www.ixtlahuacandelosmembrillos.gob.mx/32_5_i_estados_financieros.php"]
["10- Open tendering procedures ",{"$nulls":16},0,0,0]
["Result",{"$nulls":4},{"$f":"SUM(F111:F120)","v":2},2,2,2,2,2,2,2,2,2,3,3,6,7,5]
["Standardized",{"$nulls":4},{"$f":"100*(F121/10)","v":20},20,20,20,20,20,20,20,20,20,30,30,60,70,50]
[]
["Result metropolitan area",{"$nulls":4},{"$f":"AVERAGE(F121,F106,F91,F60,F45,F30,F15,)","v":1.75},1.75,1.75,1.75,1.875,1.875,1.875,2.625,3.125,3.25,4.375,5.125,6,6.5,7.625]
["Average metropolitan area",{"$nulls":4},{"$f":"AVERAGE(F122,F107,F92,F61,F31,F16,F46,F77)","v":20},20,20,20,21.25,21.25,22.5,30,38.75,40,53.75,62.5,72.5,77.5,88.75]

{"sheet":"Own revenue collection","index":43,"n_rows":15,"n_cols":11,"rows_kept":15,"cut":false,"hidden":false,"merged":[[0,1,0,2],[0,3,0,4],[0,5,0,6],[0,7,0,8],[0,9,0,10],[11,1,11,2],[11,3,11,4],[11,5,11,6],[11,7,11,8],[11,9,11,10]]}
["Municipio",2008,null,2009,null,2010,null,2011,null,2012]
[null,"Propios","Totales","Propios","Totales","Propios","Totales","Propios","Totales","Propios","Totales"]
["Guadalajara",2121854.2812929,7691249.6299176998,1770391.0335732,5797242.5365794003,1774012.160256,6707387.6502528004,1400114.8822685,5601358.8335982002,1223179.7986259821,5057114.8148357635]
["El Salto",109170.63402630002,400460.84533839999,104200.276461,377159.3472288,84094.962739199997,337518.71784960001,166478.54849819999,412623.18760290003,192288.3705329728,418210.95882317325]
["Tlajomulco",547493.30614440003,1172107.6614940001,469904.14179780002,1282065.3782718002,510502.41930239997,1156831.162368,774472.84603999997,1200536.4523624,872420.60019081412,1214381.7238730604]
["Traquepaque",400601.55412970006,1334408.1429294003,466213.51683840004,1385759.5103159999,382912.69201920001,1328294.5439231999,667735.5801556001,1689126.8947695,794472.86773446028,1833569.5888926624]
["tonala",261938.11723310003,838512.16769320006,234128.66344440001,1035886.3885248,239591.81567999997,1387943.2939007999,211713.98780250002,849704.56327539997,197899.07244197658,856442.21684300096]
["Zapopan",1728417.6996470999,4708625.6218077997,1809123.189822,4604065.545717,1705405.4535168,4071267.0458879997,1811710.4120819001,4212618.6301497007,2076147.368,5273550.784]
["Juanacatlan",6427.3463022999995,60890.539702300004,8579.6445029999995,94546.230789000008,17597.2134912,44558.957721599996,15413.959569300001,38474.116279499998,20703.907076500258,33129.802912774634]
["Ixtahuacan",59825.658816000003,126862.77253650001,80630.260036799998,146726.75223119999,33472.578048000003,101398.81543679998,82395.153892300004,139737.70144970002,91992.054480124105,144816.25646123086]
[null,{"$f":"SUM(B3:B10)","v":5235728.5975918006},16333117.381419299,4943170.7264766004,14723451.689657999,4747589.2950527994,15135200.187340798,5130035.3703082995,14144180.3794873,5469104.0390828298,14831216.146641668]
[null,{"$f":"B11/C11","v":0.32055905038360971},null,{"$f":"D11/E11","v":0.33573450238905372},null,{"$f":"F11/G11","v":0.31367865877477596},null,{"$f":"H11/I11","v":0.36269583904261926},null,{"$f":"J11/K11","v":0.36875627628967134}]
[]
[null,2008,2009,2010,2011,2012]
["Guadalajara ciudad",0.32055905038360966,0.33516785839081126,0.31332600899628427,0.36032060609287381,0.36554353025816599]

{"sheet":"Sprawl","index":44,"n_rows":109,"n_cols":27,"rows_kept":109,"cut":false,"hidden":false,"merged":[[7,25,7,26],[10,19,10,20],[11,11,11,14],[11,18,11,20],[7,4,7,7],[7,11,7,14],[7,18,7,20],[7,21,7,22],[7,23,7,24]]}
["SEDESOL"]
["Version: "]
["More information at:"]
["Source.","Mexico, la expansion de las ciudades 1980-2010"]
[]
["Note: "]
[]
["META","City","Country","Size of City","Urban Population",{"$nulls":4},"Population Growth ",null,"Surface ",{"$nulls":4},"Urban expansion rate",null,"Sprawl index",null,null,"Index Normalization",null,"Empty houses (viviendas deshabitatdas)",null,"Temporal Houses (viviendas de uso temporal"]
["ID","name","COUNTRY_NAME",{"$nulls":16},"SPRAWL"]
["PARSETYPE","S","C",{"$nulls":16},"F"]
["UNIT","NA","NA",{"$nulls":8},"Hectares",{"$nulls":7},"%",null,1,3]
["DESCRIPTION","NA","NA",null,"Inhabitants","Inhabitants","Inhabitants","Inhabitants",null,null,null,"Built-up area of the city, which includes only the blocks",{"$nulls":6},"The sprawl index (SI) measures the growth in built-up area adjusted for the growth in city population in the same period. ",null,null,"min","max","Number","%","Number","%"]
["YEAR",null,null,2010,1980,2000,2005,2010,"1980-2000","1980-2010","2000-2010",1980,2000,2005,2010,"1980-2000","1980-2010","2000-2010","1980-2000","1980-2010","2000-2010","1980-2010","2000-2010",2010,2010,2010,2010]
[null,"HIDALGO DEL PARRAL","MEXICO",null,75590,98876,101147,104836,{"$f":"F14/E14","v":1.3080566212461966},{"$f":"H14/E14","v":1.3869030295012568},{"$f":"H14/F14","v":1.0602775193171246},430,1557,1631,2016,{"$f":"N14/L14","v":3.7930232558139534},{"$f":"O14/L14","v":4.688372093023256},{"$f":"O14/M14","v":1.2947976878612717},{"$f":"P14/I14","v":2.8997393493565347},3.3804613540351398,1.2211875327651864,{"$f":"1-(T14-$V$11)/($W$11-$V$11)","v":-0.1902306770175699},0.88940623361740678,null,11,null,4.0999999999999996]
[null,"TUXPEC","MEXICO",null,29050,87071,97241,105182,2.9972805507745268,3.620722891566265,1.208002664492196,329,3628,3741,3856,11.370820668693009,11.720364741641337,1.0628445424476296,3.7937124923973755,3.2370234046194297,0.87983625673078625,-0.11851170230971486,1.060081871634607,null,14.7,null,4.7]
[null,"TUXPAM","MEXICO",null,56037,93531,100586,108418,1.6690936345628782,1.9347573924371397,1.1591664795629257,214,2068,2185,2299,10.210280373831775,10.742990654205608,1.1117021276595744,6.1172603875550475,5.5526293354398684,0.95905303272637066,-1.2763146677199342,1.0204734836368146,null,12.3,null,5.7]
[null,"MOROLEON","MEXICO",null,75169,100063,99828,108669,1.3311737551384215,1.4456624406337719,1.0860058163357085,273,1563,1871,1910,6.8534798534798531,6.9963369963369964,1.2220089571337172,5.148448748350809,4.8395370867280976,1.1252324239449258,-0.91976854336404879,0.93738378802753708,null,20.2,null,7.1]
[null,"GUANAJUATO","MEXICO",null,48981,93513,101564,110011,1.9091688613952349,2.2459933443580162,1.1764246682279469,182,1414,1841,1921,10.115384615384615,10.554945054945055,1.3585572842998586,5.298318456750974,4.699455179357189,1.1548187665481877,0,0.92259061672590614,null,12.2,null,6.2]
[null,"ACAYUCAN","MEXICO",null,52106,102992,105552,112996,1.9765861896902468,2.1685794342302231,1.0971337579617835,544,1447,1480,1584,2.7205882352941178,2.9117647058823528,1.0946786454733932,1.3764075907666158,1.342706040609454,0.99776224870434094,{"$f":"1-(T19-$V$11)/($W$11-$V$11)","v":0.82864697969527301},1.0011188756478295,null,12.7,null,4]
[null,"NAVOJOA","MEXICO",null,62901,98187,103312,113836,1.5609767730242763,1.809764550643074,1.159379551264424,387,2230,2360,2385,6.0981912144702841,6.1627906976744189,1.0695067264573992,3.9066508354608587,3.4052997090061021,0.92248196485007072,-0.20264985450305106,1.0387590175749646,null,14.1,null,3]
[null,"CUAUHTEMOC","MEXICO",null,43456,85387,98725,114007,1.9649070324005891,2.623504234167894,1.3351798283111012,180,3171,3262,4075,18.122222222222224,22.638888888888889,1.2850835698517817,9.2229413012389347,8.6292557084701418,0.96247976684707159,-2.8146278542350709,1.0187601165764641,null,10.4,null,3.6]
[null,"DELICIAS","MEXICO",null,65504,98615,108187,118071,1.5054805813385441,1.8025006106497312,1.1972925011408,447,1964,2082,2227,4.6577181208053693,4.9821029082774047,1.1339103869653768,3.0938413809789069,2.7639951292341314,0.94706213050275379,0.11800243538293431,1.0264689347486231,null,16.100000000000001,null,2.4]
[null,"IGUALA","MEXICO",null,66005,104759,110390,118468,1.5871373380804485,1.7948337247178243,1.1308622648173428,134,1760,2141,2410,15.977611940298507,17.985074626865671,1.3693181818181819,10.066937218944462,10.020468402828348,1.2108620337060718,-3.5102342014141739,0.89456898314696409,null,17,null,5.5]
[null,"VALLES","MEXICO",null,65609,105721,116261,124644,1.611379536344099,1.8998003322714871,1.178989983068643,475,2585,2720,2769,5.7263157894736842,5.8294736842105266,1.0711798839458413,3.5536728997226565,3.0684665041828603,0.90855723910206898,-3.4233252091430133E-2,1.0457213804489656,null,13.7,null,4]
[null,"FRESNILLO","MEXICO",null,56066,101151,115432,125846,1.8041415474619198,2.2446045731816073,1.2441399491848819,467,1796,2103,2238,4.5032119914346893,4.7922912205567449,1.2461024498886415,2.4960413986196608,2.1350269342826507,1.0015773954570346,0.43248653285867467,0.99921130227148269,null,13.8,null,3.4]
[null,"CABO SAN LUCAS","MEXICO",null,"-",48143,87876,128057,null,null,2.6599297924931973,27,802,1343,2086,49.74074074074074,77.259259259259252,2.6009975062344139,null,null,0.97784442039594399,1.5,1.011077789802028,null,18.5,null,4.2]
[null,"MANZANILLO","MEXICO",null,39088,94893,110728,130035,{"$f":"F27/E27","v":2.4276760130986492},{"$f":"H27/E27","v":3.3267243143675809},1.3703329012677437,123,3004,3199,3551,26.008130081300813,28.869918699186993,1.1820905459387483,{"$f":"P27/I27","v":10.713179988174957},8.6781818903666021,0.86263020091333598,-2.8390909451833011,1.068684899543332,null,13.3,null,13.4]
[null,"ACUNA","MEXICO",null,38898,108159,124232,134233,2.7805799784050595,3.450897218365983,1.241071015819303,587,2652,3010,3346,5.1277683134582626,5.7001703577512775,1.2616892911010558,1.8441362425401444,1.6517937211848739,1.0166132920831621,0.67410313940756306,0.99169335395841895,null,18.8,null,3]
[null,"FERNANDEZ","MEXICO",null,102567,128935,126997,135452,1.2570807374691666,1.320619692493687,1.0505448481793151,107,3803,3995,3686,37.336448598130843,34.44859813084112,0.9692348146200368,29.700915371035684,26.085176774694954,0.92260203483916403,-11.542588387347477,1.038698982580418,null,14.9,null,5.7]
[null,"LAZARO CARDENAS","MEXICO",null,94753,126828,126709,137306,1.3385117093917871,1.4490939600856965,1.0826158261582617,181,5488,5754,5753,31.790055248618785,31.784530386740332,1.0482871720116618,23.750300446055885,21.9340714006293,0.96829101023913755,-9.4670357003146499,1.0158544948804313,null,10.1,null,2.8]
[null,"SAN JUAN DEL RIO","MEXICO",null,27204,99483,120984,138878,3.6569254521393915,5.1050580796941629,1.3959973060723943,79,2571,2986,3070,37.797468354430379,38.860759493670884,1.1940879035394789,10.335859685714382,7.6122071261526134,0.85536547838979526,-2.3061035630763067,1.0723172608051024,null,21.4,null,2.9]
[null,"OCOTLAN","MEXICO",null,59196,125027,133157,141375,2.1120852760321642,2.3882525846340967,1.1307557567565405,380,2083,2179,2384,5.7342105263157892,6.2736842105263158,1.1445031204992799,2.714952180855251,2.6268930894876452,1.0121576774299805,0.18655345525617739,0.99392116128500974,null,11.5,null,10.4]
[null,"TECOMAN","MEXICO",null,88911,127863,123089,141421,1.4381010223706854,1.5905905905905906,1.1060353659776478,415,2344,2426,2500,5.8457831325301202,6.024096385542169,1.0665529010238908,4.0649321859833218,3.7873330957562157,0.96430271023127934,-0.39366654787810784,1.0178486448843604,null,12.1,null,5.0999999999999996]
[null,"PLAYA DEL CARMEN","MEXICO",null,"-",43613,100383,149923,null,null,3.4375759521243667,"-",748,1236,3256,null,null,4.3529411764705879,null,null,1.2662821817160259,1.5,0.86685890914198704,null,20.6,null,7.4]
[null,"CHETUMAL","MEXICO",null,56709,121602,136825,151243,{"$f":"F35/E35","v":2.1443157170819447},{"$f":"H35/E35","v":2.6670017104868715},1.2437542145688394,676,2287,2394,2588,{"$f":"N35/L35","v":3.5414201183431953},{"$f":"O35/L35","v":3.8284023668639051},1.1316134674245737,{"$f":"P35/I35","v":1.6515385724833824},1.4354705329997766,0.90983689073717799,0.78226473350011172,1.0450815546314109,null,12,null,4.0999999999999996]
[null,"SAN CRISTOBAL DE LAS CASAS","MEXICO",null,42026,112442,142364,158027,2.6755341931185455,3.7602198638937798,1.4054090108678252,157,2971,3017,3110,19.216560509554139,19.808917197452228,1.0467855940760686,7.1823266392853409,5.268020997298736,0.74482630037336217,-1.134010498649368,1.1275868498133188,null,9.6999999999999993,null,7]
[null,"SAN LUIS RIO COLORADO","MEXICO",null,76684,126645,138796,158089,1.6515179176881749,2.0615643419748579,1.2482845749930909,1387,3791,4378,4527,3.1564527757750542,3.2638788752703678,1.1941440253231337,1.9112434336731354,1.5832049520917513,0.95662803918709249,0.70839752395412436,1.0216859804064538,null,15.6,null,5.5]
[null,"SALAMANCA","MEXICO",null,96703,137000,143838,160169,1.4167088921750102,1.6562981500056875,1.1691167883211679,405,2499,2628,2710,6.4888888888888889,6.6913580246913584,1.0844337735094038,4.5802556366585563,4.0399477742991996,0.92756667626562139,-0.5199738871495998,1.0362166618671893,null,11,null,2.5]
[null,"TEHUANTEPEC","MEXICO",null,70682,145567,150281,161337,2.0594635126340513,2.2825754789055206,1.1083349935081439,1138,3712,4209,4375,3.6985940246045694,3.8444639718804923,1.1786099137931034,1.7959017005715592,1.6842658687124277,1.0634058481384971,0.65786706564378616,0.96829707593075143,null,13.6,null,5.5]
[null,"CIUDAD DEL CARMEN","MEXICO",null,72487,126024,154197,169466,1.7385738132354767,2.3378812752631508,1.3447121183266679,204,2191,2203,2603,10.799019607843137,12.759803921568627,1.188041989958923,6.2114242867527256,5.4578494026102291,0.88349169593064869,-1.2289247013051146,1.0582541520346758,null,15.6,null,5.5]
[null,"PIEDRAS NEGRAS","MEXICO",null,80290,151149,169771,180734,1.8825382986673309,2.2510150703699092,1.1957340108105248,547,5463,5848,6250,10.691042047531992,11.425959780621572,1.1440600402709133,5.6790568643943633,5.0759143868121432,0.95678472798094594,-1.0379571934060716,1.021607636009527,null,9.6999999999999993,null,7]
[null,"SAN FRANCISCO DEL RINCON","MEXICO",null,66575,145017,159127,182365,2.1782500938790839,2.7392414570033798,1.2575422191880952,325,2192,2265,2369,6.9692307692307693,7.2892307692307696,1.0807481751824817,3.1994630868211207,2.6610398840870695,0.85941303495976717,0.16948005795646526,1.0702934825201165,null,16.7,null,3.3]
[null,"CHILPANCINGO","MEXICO",null,67498,142746,166796,187251,2.1148182168360545,2.7741710865507128,1.3117775629439703,175,1744,2441,2704,13.948571428571428,15.451428571428572,1.5504587155963303,6.5956361249051758,5.5697460932880771,1.1819524585530319,-1.2848730466440386,0.90902377072348406,null,12,null,7.5]
[null,"TAPACHULA","MEXICO",null,85766,179839,189991,202672,2.096856563206865,2.3630809411654967,1.126963561852546,452,3313,3379,3581,7.4756637168141591,7.9225663716814161,1.0808934500452763,3.5651764875042855,3.3526428289730617,0.95912014073326568,-0.17632141448653083,1.0204399296333673,null,13.5,null,4.5999999999999996]
[null,"GUAYMAS","MEXICO",null,139025,180316,184816,203430,1.2970041359467721,1.463262003236828,1.1281860733379179,371,2971,3206,3392,8.6415094339622645,9.1428571428571423,1.141703130259172,6.6626691422647122,6.2482707284358954,1.0119812300831386,-1.6241353642179477,0.99400938495843072,null,14.5,null,7.5]
[null,"TULA","MEXICO",null,57604,169901,184691,205812,2.9494653149086867,3.5728768835497533,1.2113642650720124,323,6340,7111,7709,22.015479876160992,23.866873065015479,1.2159305993690852,7.4642274194170595,6.680015528915475,1.0037695798272548,-1.8400077644577375,0.99811521008637261,null,16,null,6.7]
[null,"NOGALES","MEXICO",null,65603,156854,189759,212533,2.3909577305915888,3.2396841607853299,1.3549734147678734,540,2443,2865,3347,5.3055555555555554,6.1981481481481477,1.37003683995088,2.2190085118078664,1.9131951883376366,1.0111171370735619,0.54340240583118171,0.99444143146321906,null,17,null,2.8]
[null,"LA PAZ","MEXICO",null,91453,162954,189176,215178,1.7818332914174495,2.3528807146840451,1.320483081114916,1885,2742,3516,3896,1.8652519893899204,2.06684350132626,1.4208606856309263,1.0468162192132526,0.87843106045595032,1.0760158202339549,1.0607844697720248,0.96199208988302254,null,13.8,null,4.2]
[null,"CAMPECHE","MEXICO",null,128434,190813,211671,220389,1.4856891477334662,1.7159708488406498,1.1549999213890039,961,3869,4121,4279,4.2882414151925081,4.4526534859521334,1.1059705350219695,2.8863651738552121,2.594830494329464,0.95755031194454843,0.202584752835268,1.0212248440277258,null,11.3,null,5.2]
[null,"TULANCINGO","MEXICO",null,70782,193638,204708,239579,2.7356955158091041,3.384744709106835,1.237251985663971,278,5050,5718,6479,20.568345323741006,23.305755395683452,1.282970297029703,7.5185067946634225,6.8855282742530273,1.0369514956496086,-1.9427641371265136,0.98152425217519568,null,19.3,null,3.9]
[null,"LA PIEDAD","MEXICO",null,168713,229372,229289,249512,1.3595395731212176,1.4789138951947982,1.0878049631166837,442,3063,3282,3309,7.4253393665158374,7.4864253393665159,1.0803134182174339,5.4616573973413782,5.0621103525303113,0.99311315433073066,{"$f":"1-(T51-$V$11)/($W$11-$V$11)","v":-1.0310551762651556},1.0034434228346347,null,17,null,6.7]
[null,"ZAMORA","MEXICO",null,148721,216048,230777,250113,1.4527067461891729,1.6817598052729608,1.1576732948233726,660,3096,3141,3405,4.7590909090909088,5.1590909090909092,1.0998062015503876,3.2760162514390743,3.0676740476940787,0.95001431446009654,-3.3837023847039349E-2,1.0249928427699517,null,17,null,5.2]
[null,"LOS MOCHIS","MEXICO",null,122531,200906,231997,256613,1.6396340517909753,2.0942700214639562,1.2772789264631221,878,2587,2994,3273,3.4100227790432802,3.7277904328018225,1.2651720139157325,2.079746255158891,1.7799951269874872,0.9905213244370088,0.61000243650625641,1.0047393377814955,null,21.4,null,2.9]
[null,"URUAPAN","MEXICO",null,122828,229819,243478,269575,1.8710636011332922,2.1947357280099,1.1729883081903585,902,3402,3529,3664,3.9124168514412418,4.0620842572062088,1.0770135214579659,2.0910122184363558,1.8508306970012953,0.91817924691810548,0.57458465149935234,1.0409103765409473,null,12.4,null,3.1]
[null,"ENSENADA","MEXICO",null,120483,231241,268716,288597,1.9192832183793564,2.3953337815293443,1.2480355992233212,1689,5389,5865,6323,3.47246891651865,3.743635287152161,1.1733160141028021,1.8092529978200946,1.5628866907901116,0.9401302453495568,0.71855665460494422,1.0299348773252217,null,14,null,5.7]
[null,"TEHUACAN","MEXICO",null,113107,240507,279409,296899,2.1263670683512075,2.6249392168477637,1.2344713459483507,718,6140,6262,6469,8.7214484679665745,9.0097493036211702,1.0535830618892508,4.1015723944263378,3.4323649270785004,0.85346902975691408,-0.21618246353925019,1.0732654851215431,null,14.3,null,4.4000000000000004]
[null,"ZACATECAS","MEXICO",null,140166,232965,261422,298167,1.6620649800950302,2.1272419845040882,1.2798789517738716,445,2501,3094,3592,6.952808988764045,8.07191011235955,1.4362255097960817,4.1832353560367483,3.7945424973554704,1.1221573007396666,-0.39727124867773522,0.93892134963016671,null,15.4,null,6.6]
[null,"CIUDAD OBREGON","MEXICO",null,165572,255425,275502,303126,1.542682337593313,1.8307805667624961,1.1867514926103553,1020,3369,3800,4100,3.7254901960784315,4.0196078431372548,1.2169783318492133,2.4149431838899793,2.1955705211823515,1.0254702348613622,0.40221473940882424,0.98726488256931888,null,3.4,null,18.399999999999999]
[null,"CIUDAD VICTORIA","MEXICO",null,140161,249029,278455,305155,1.7767353258038969,2.1771748203851287,1.2253793734866221,709,4063,4274,4444,6.0282087447108603,6.2679830747531735,1.0937730740831897,3.3928569197459688,2.8789525839015564,0.89259954733123381,6.0523708049221803E-2,1.0537002263343831,null,11.1,null,5.2]
[null,"CORDOBA","MEXICO",null,156076,276553,293768,316032,1.7719124016504779,2.0248596837438173,1.1427538301880653,901,3801,3835,4298,4.2563817980022201,4.7702552719200888,1.1307550644567219,2.4021400798580905,2.3558448569138557,0.98950013081175259,0.32207757154307215,1.0052499345941237,null,11.8,null,3.3]
[null,"MONCLOVA","MEXICO",null,170478,282853,294191,317313,1.6591759640540129,1.8613134832647027,1.121830067208055,1589,8124,8536,8690,5.3719320327249847,5.4688483322844554,1.0696701132447071,3.2377108571409527,2.9381661828894163,0.95350458550896167,3.0916908555291833E-2,1.0232477072455191,null,8.5,null,3.3]
[null,"COLIMA","MEXICO",null,119969,275677,294828,334240,2.2979019580058182,2.7860530637081244,1.2124333912513559,920,5355,5774,6369,6.2760869565217394,6.9228260869565217,1.1893557422969188,2.731224861294038,2.4848148720263494,0.98096584181781843,0.25759256398682528,1.0095170790910908,null,16.100000000000001,null,6]
[null,"CELAYA","MEXICO",null,141675,277750,310750,340387,1.9604729133580379,2.4025904358567143,1.2255157515751576,694,3569,4194,4471,6.043227665706052,6.4423631123919307,1.2527318576632109,3.0825356599060481,2.6814237733759714,1.0222078794606047,0.15928811331201431,0.98889606026969767,null,17.399999999999999,null,4.0999999999999996]
[null,"COATZACOALCOS","MEXICO",null,207746,307724,321182,347257,1.4812511432229742,1.6715460225467638,1.1284690176911778,845,6141,6356,6625,7.5218934911242608,7.8402366863905328,1.0788145253216088,5.0780676359565735,4.6904103031785906,0.9559983556560897,-0.84520515158929532,1.0220008221719552,null,15.8,null,4.5999999999999996]
[null,"MINATITLAN","MEXICO",null,217025,323389,330781,356137,1.490100218868794,1.6409952770418155,1.1012650399364232,2130,7631,7686,8292,3.6084507042253522,3.8929577464788734,1.0866203643034988,2.4216161158372951,2.3723150218302997,0.98670195175380326,0.31384248908485013,1.0066490241230983,null,11.4,null,3.6]
[null,"PUERTO VALLARTA","MEXICO",null,57028,244536,304107,379886,4.2879988777442657,6.6613944027495267,1.5534972355808552,285,5070,5819,6242,20.417543859649122,21.901754385964914,1.231163708086785,4.7615553179412036,3.2878633303749205,0.79251103889248364,-0.14393166518746026,1.1037444805537582,null,19.2,null,10.6]
[null,"MAZATLAN","MEXICO",null,199830,327989,352471,381583,1.6413401391182505,1.9095381073912825,1.163401821402547,856,3908,4171,4363,4.8726635514018692,5.09696261682243,1.1164278403275332,{"$f":"P67/I67","v":2.968710406375322},2.6692123069414158,0.95962359675663567,0.16539384652929212,1.0201882016216821,null,16,null,5.4]
[null,"NUEVO LAREDO","MEXICO",null,203286,310915,355827,384033,1.5294461989512314,1.8891266491543932,1.2351703841886046,1967,8851,9663,10041,4.9125571936959833,5.1047280122013214,1.1344480849621512,3.2119843097878249,2.7021629357069781,0.91845473262976685,0.14891853214651096,1.0407726336851166,null,21.1,null,3.3]
[null,"IRAPUATO","MEXICO",null,170138,329326,354140,396975,1.9356404800808755,2.3332530063830537,1.2054165173718443,587,3902,4710,5001,8.023850085178875,8.5195911413969334,1.2816504356740133,4.1453204599459603,3.651379048088649,1.0632428021381197,-0.3256895240443245,0.96837859893094014,null,14.2,null,2.9]
[null,"ORIZABA","MEXICO",null,209247,367021,381086,410508,1.7540084206703084,1.9618345782735236,1.1184864081346844,1050,5946,6271,6717,5.9723809523809521,6.3971428571428568,1.1296670030272451,3.4049898974250983,3.2607962608002072,1.0099961830660122,-0.13039813040010362,0.99500190846699388,null,9.9,null,4.5999999999999996]
[null,"TEPIC","MEXICO",null,177007,342840,379296,429351,1.9368725530628732,2.4256159360929228,1.2523363668183409,876,4406,4650,4620,5.3082191780821919,5.2739726027397262,1.0485701316386746,2.7406135575043593,2.1742818078754929,0.83729112994031274,0.41285909606225357,1.0813544350298436,null,15.2,null,5.2]
[null,"CUAUTLA","MEXICO",null,138127,372256,383010,434147,2.6950270403324477,3.1431001904044829,1.1662592409524628,417,8294,8720,9089,20.911270983213431,21.796163069544363,1.0958524234386304,7.7592063716859405,6.9346065187757935,0.93963021681497472,-1.9673032593878967,1.0301848915925127,null,16.2,null,14.2]
[null,"MATAMOROS","MEXICO",null,238840,418141,462157,489193,1.7507159604756322,2.0482038184558702,1.1699235425370869,1082,7055,7720,8662,7.1349353049907576,8.0055452865064698,1.2277817150956769,4.0754385440413463,3.9085686758175302,1.0494546613132678,-0.4542843379087651,0.97527266934336609,null,20.6,null,3.8]
[null,"TLAXCALA","MEXICO",null,131837,408401,457655,499567,3.0977722490651334,3.7892776686362706,1.2232266816192909,431,23478,23874,24630,55.392111368909511,57.146171693735496,1.0490672118579096,17.881273029554098,15.081019838354027,0.85762289820981397,-6.0405099191770137,1.0711885508950929,null,15,null,5.9]
[null,"PACHUCA","MEXICO",null,135248,375022,438692,512196,2.7728469182538742,3.7870874245829884,1.3657758744820303,595,7918,10818,12582,18.181512605042016,21.146218487394957,1.5890376357666078,6.556983901762357,5.5837682410311542,1.1634688131896087,-1.2918841205155771,0.91826559340519565,null,21,null,10.4]
[null,"POZA RICA","MEXICO",null,344984,467258,481389,513518,1.3544338288152493,1.4885270041509171,1.099003120331808,1664,5379,5871,6101,3.5282451923076925,3.6664663461538463,1.1342256925079011,2.6049594430123766,2.4631507093452196,1.0320495652145725,0.26842464532739019,0.98397521739271376,null,7.8,null,4.9000000000000004]
[null,"DURANGO","MEXICO",null,257915,427135,463830,518709,1.6561076323594983,2.0111625923269294,1.2143912346213726,984,5189,5603,6049,5.6941056910569108,6.1473577235772359,1.165735209096165,3.4382461500671759,3.056618966080062,0.95993381363595098,-2.8309483040031003E-2,1.0200330931820245,null,13.6,null,3.7]
[null,"OAXACA","MEXICO",null,175910,489562,543721,593658,2.7830254107213914,3.3747825592632594,{"$f":"H78/F78","v":1.2126308822988712},836,10234,12368,12941,14.794258373205741,15.479665071770334,{"$f":"O78/M78","v":1.2645104553449287},5.3158905111724808,4.5868629459640395,1.0427826586006994,-0.79343147298201977,0.9786086706996503,null,13.9,null,6.2]
[null,"TUXTLA GUTIERREZ","MEXICO",null,196785,494763,576872,640977,2.5142312676271059,3.2572452168610413,1.2955233111611013,798,12408,13187,13529,16.525062656641605,16.953634085213032,1.0903449387491941,6.5726104314332678,5.2048995259715189,0.84162510188410433,-1.1024497629857595,1.0791874490579478,null,10.7,null,5.3]
[null,"XALAPA","MEXICO",null,263400,554990,595043,666535,2.1070235383447229,2.5305049354593772,1.2009856033442043,917,6749,7161,7927,7.8091603053435117,8.6444929116684843,1.1745443769447326,3.7062520485548944,3.416113831882015,0.97798372742700257,-0.2080569159410075,1.0110081362864987,null,13,null,5.0999999999999996]
[null,"CULIACAN","MEXICO",null,304826,540823,605304,675773,1.7742023318220888,2.2169139115429788,1.2495271096088738,1833,7118,8049,8312,4.3911620294599016,4.5346426623022369,1.1677437482438888,2.4750063454996254,2.0454753063217108,0.9345485498185111,0.47726234683914459,1.0327257250907445,null,16.2,null,4]
[null,"CANCUN","MEXICO",null,37190,431128,586288,677379,11.592578650174778,18.214009142242539,1.5711783971349575,478,4341,5835,12340,12.207112970711297,25.815899581589957,2.8426629808799815,1.0530110115342848,1.4173650282033108,1.8092553882255351,0.79131748589834461,0.59537230588723244,null,18.600000000000001,null,5.2]
[null,"HERMOSILLO","MEXICO",null,297175,545928,641791,715061,1.8370589719862034,2.406195002944393,1.3098082531029733,2118,8960,10412,11161,4.9159584513692165,5.2695939565627947,1.2456473214285715,2.6759938174734526,2.1900111795239128,0.95101501954778289,{"$f":"1-(T83-$V$11)/($W$11-$V$11)","v":0.40499441023804361},1.0244924902261086,null,16.3,null,3.5]
[null,"REYNOSA","MEXICO",null,294934,524692,633730,727150,1.7790149660602033,2.4654668502105554,1.3858606572999017,2291,10579,12131,14001,5.2950676560453953,6.1113051069402005,1.3234710275073258,2.9764042220351992,2.4787618241219849,0.95498131109794926,0.26061908793900757,1.0225093444510254,null,14.2,null,4.0999999999999996]
[null,"VILLAHERMOSA","MEXICO",null,250903,600580,644629,755425,2.3936740493338062,3.0108249004595402,1.257825768423857,319,7697,9092,9610,28.501567398119121,30.12539184952978,1.2485383915811354,11.907037804939028,10.005693736932946,0.99261632487116302,-3.5028468684664729,1.0036918375644186,null,13.1,null,4.5999999999999996]
[null,"VILLAHERMOSA","MEXICO",null,250903,600580,644629,755425,2.3936740493338062,3.0108249004595402,1.257825768423857,319,7697,9092,9610,28.501567398119121,30.12539184952978,1.2485383915811354,11.907037804939028,10.005693736932946,0.99261632487116302,-3.5028468684664729,1.0036918375644186]
[null,"VERACRUZ","MEXICO",null,413411,677851,741234,801295,1.6396540004982936,1.9382527315431859,1.1821108178641029,1786,6168,6757,7633,3.7833146696528557,4.2737961926091828,1.2375162127107653,2.3073859902778882,2.2049736461387566,1.0468698822558544,0.39751317693062171,0.97656505887207279,null,18.2,null,8.6999999999999993]
[null,"MORELIA","MEXICO",null,353055,659940,735624,807902,1.8692271742363087,2.2883176842135078,1.2242052307785556,1581,8102,8951,9831,5.6616065781151166,6.2182163187855783,1.2134040977536411,3.0288488505567668,2.7173745855671139,0.99117702428207621,0.14131270721644307,1.0044114878589618,null,21.4,null,6.7]
[null,"SALTILLO","MEXICO",null,344850,637273,725259,823128,1.84797158184718,2.3869160504567204,1.2916411020080876,1497,18171,18804,19177,12.561122244488978,12.810287241148965,1.0553629409498653,6.7972485983432902,5.3668780008822692,0.8170713515612924,-1.1834390004411346,1.0914643242193538,null,14.2,null,4.2]
[null,"CHIHUAHUA","MEXICO",null,406830,696495,784882,852533,1.7120050143794705,2.0955509672344714,1.2240331947824463,2589,13136,16112,19441,6.2232522209347234,7.5090768636539202,1.4799786845310596,3.6350665848898753,3.5833425104251968,1.2091001214996493,-0.2916712552125984,0.89544993925017535,null,16.8,null,4.3]
[null,"TAMPICO","MEXICO",null,436900,746417,803196,859419,1.708439002059968,1.9670840009155413,1.1513925861817187,2906,14385,14905,15471,5.1290433585684791,5.3238128011011696,1.0754953076120959,3.0021811445325715,2.7064491392453518,0.93408218927193587,0.1467754303773241,1.032958905364032,null,16.399999999999999,null,3.8]
[null,"ACAPULCO","MEXICO",null,409336,791558,786830,863431,1.933761017843532,2.1093453788574665,1.09079941078228,1389,9755,12750,13036,9.1792656587472994,9.3851691864650828,1.3363403382880574,4.7468459515145884,4.4493278723034866,1.2251018153096405,-0.72466393615174329,0.88744909234517977,null,15.4,null,14]
[null,"CUERNAVACA","MEXICO",null,368166,753510,802371,876083,2.0466583008751487,2.3795869254629705,1.1626693739963636,2471,15529,16219,16340,6.5637393767705383,6.6127074059085391,1.0522248695988152,3.2070518923280407,2.7789308031359168,0.90500781488900406,0.11053459843204161,1.0474960925554979,null,14.8,null,14.3]
[null,"AGUASCALIENTES","MEXICO",null,359454,727582,834498,932369,2.0241310431932877,2.5938478915243675,1.2814624331003241,1587,7768,8615,9750,5.4284814114681792,6.143667296786389,1.2551493305870236,2.6818823957682882,2.3685534209085186,0.97946634888887096,0.31572328954574069,1.0102668255555645,null,16.399999999999999,null,3.5]
[null,"MEXICALI","MEXICO",null,510664,764602,855962,936826,1.497270220732223,1.83452524556264,1.2252465988841252,4763,13424,15295,17782,3.211211421373084,3.7333613268948143,1.324642431466031,2.1447106720673825,2.035055846696626,1.0811231246611328,0.48247207665168701,0.9594384376694336,null,19,null,4.7]
[null,"MERIDA","MEXICO",null,443918,803920,897740,973046,1.8109650881469099,2.191949864614636,1.210376654393472,4775,18757,19687,22598,4.1229319371727753,4.7325654450261778,1.2047768832969026,2.2766490442903078,2.1590664647150604,0.99537353015175634,0.42046676764246982,1.0023132349241219,null,14.9,null,6]
[null,"SAN LUIS POTOSI","MEXICO",null,471047,850828,957753,1040443,1.8062486333635497,2.21,1.22,2000,12859,13681,14863,6.8404999999999996,7.4314999999999998,1.1558441558441559,3.7871308930829732,3.3626696832579186,0.94741324249520975,-0.1813348416289593,1.0262933787523951,null,15.7,null,3.3]
[null,"QUERETARO","MEXICO",null,323275,816481,950828,1097025,2.5256546284123425,{"$f":"H98/E98","v":3.3934730492614649},{"$f":"H98/F98","v":1.3436013820284856},782,9231,11075,12612,14.162404092071611,16.127877237851663,1.3662658433539161,5.6074191351231075,4.7526168629397656,1.0168684415099463,-0.8763084314698828,0.99156577924502687,null,15.4,null,5.5]
[null,"LA LAGUNA","MEXICO",null,689195,1007291,1110890,1215817,{"$f":"F99/E99","v":1.4615471673474125},1.76,0.82,2364,14904,16976,18993,{"$f":"N99/L99","v":7.1810490693739428},{"$f":"O99/L99","v":8.0342639593908629},1.2743558776167472,{"$f":"P99/I99","v":4.9133200965432779},4.5649227041993541,1.5540925336789602,-0.78246135209967704,0.72295373316051992,null,19.399999999999999,null,3.1]
[null,"JUAREZ","MEXICO",null,567365,1218817,1313338,1332131,2.1482061812061017,{"$f":"H100/E100","v":2.3479259383289417},{"$f":"H100/F100","v":1.092970478751117},4125,19661,22184,25828,5.3779393939393936,6.261333333333333,1.313666649712629,2.503455879137249,2.6667507825181356,1.2019232680590701,0.16662460874093221,0.89903836597046494,null,23.8,null,2.8]
[null,"LEON","MEXICO",null,732845,1269179,1425210,1609504,1.7318518922828157,2.1962406784517872,1.2681457855826483,2502,12327,14999,17031,5.9948041566746602,6.8069544364508392,1.3816013628620103,3.4614993253104891,3.0993663414199748,1.0894657211885421,-4.9683170709987401E-2,0.95526713940572894,null,13.9,null,2.9]
[null,"TIJUANA","MEXICO",null,491797,1352035,1575026,1751430,2.7491729311077537,3.5612864657572127,1.2954028556953037,6101,22380,24485,26672,4.0132765120472058,4.3717423373217503,1.1917783735478105,1.4598123190562964,1.2275739060469588,0.92000597984487764,0.88621304697652059,1,null,20,null,4.3]
[null,"TOLUCA","MEXICO",null,568004,1471146,1633052,1846116,2.5900275350173589,3.2501813367511496,1.2548829280030669,1295,28977,29743,34024,22.967567567567567,26.273359073359075,1.1741726196638713,8.8676924306959677,8.0836594488668361,0.93568299756246398,0,1,null,12.4,null,4.7]
[null,"PUEBLA TLAXCALA","MEXICO",null,1111266,2220533,2470206,2668437,1.998201150759584,2.4012585645561009,1.2017101299552855,4661,55072,56435,57799,12.107916756060931,12.400557820210254,1.0495169959325974,6.0594083590925267,5.1641909802006829,0.87335287418410046,0,1,null,14.4,null,5]
[null,"MONTERREY","MEXICO",null,2061744,3374361,3738077,4089962,1.6366537261658092,1.983739009304744,1.2120700778606674,12590,54478,58278,62381,4.6289118347895153,4.9548054011119937,1.1450677337640882,2.828278065656364,2.4977103227145498,0.94472073412220525,{"$f":"1-(T105-$V$11)/($W$11-$V$11)","v":0.25114483864272508},1,null,14.6,null,4.0999999999999996]
[null,"GUADALAJARA","MEXICO",null,2244715,3699136,4095853,4434878,1.6479312518515714,1.9756975829893773,1.1988956340075088,12726,39795,43045,48585,3.3824453873958826,3.8177746346063177,1.2208820203543158,2.052540349359512,1.9323679228425947,1.018338865972273,{"$f":"1-(T106-$V$11)/($W$11-$V$11)","v":0.53381603857870263},{"$f":"1-(U106-$V$11)/($W$11-$V$11)","v":0.99083056701386352},null,15.6,null,3.4]
[null,"ZM Valle de Mexico","MEXICO",null,14122991,18396677,19239910,20116842,1.3026048802268584,1.4244037966178693,1.0935041149007507,51908,167081,174616,185291,3.3639516066887571,3.5696039146181704,1.1089890532137108,2.582480426530338,2.5060336985157607,1.0141608413740313,{"$f":"1-(T107-$V$11)/($W$11-$V$11)","v":0.24698315074211963},{"$f":"1-(U107-$V$11)/($W$11-$V$11)","v":0.99291957931298436},null,10.4,null,3.7]
[]
[null,"AVERAGE",{"$nulls":6},{"$f":"AVERAGE(I89:I107)","v":1.904173749832573},{"$f":"AVERAGE(J89:J107)","v":2.3191059340340763},{"$f":"AVERAGE(K89:K107)","v":1.1915160389954551},{"$nulls":4},{"$f":"AVERAGE(P14:P107)","v":10.374834377259649},11.478342377489584,1.2562566534918378,4.870879198151119,4.3073736851770441,1.0003515626584705,null,null,null,{"$f":"AVERAGE(Y14:Y107)","v":14.909677419354848},null,{"$f":"AVERAGE(AA14:AA107)","v":5.3806451612903228}]